- Раздел: Другое, разное
- Дата съёмки: 31.12.2014 15:51
- Дата загрузки фото: 05.01.2015 12:38
- Оригинальная фотография: 4928 x 3264 (9,9 Мб)
- Технические характеристики:
- Фотоаппарат: Nikon D5100
- Выдержка: 1/160
- Гиперфокальное расстояние: inf m
- Диафрагма: 7,1
- Светочувствительность: 100
- Фокусное расстояние: 50,0 mm (35 mm equivalent: 50,0 mm)
- Полный EXIF
- Adobe
- ColorTransform: YCbCr
- Composite
- Aperture: 7,1
- CircleOfConfusion: 0,020 mm
- FOV: 39,0 deg
- FocalLength35efl: 50,0 mm (35 mm equivalent: 50,0 mm)
- HyperfocalDistance: inf m
- LensID: AF-S Nikkor 50mm f/1.8G
- ScaleFactor35efl: 1,5
- ShutterSpeed: 1/160
- ExifIFD
- ApertureValue: 7,1
- CFAPattern: [Red,Green][Green,Blue]
- Contrast: Normal
- CreateDate: 2014:12:31 15:51:25
- CustomRendered: Normal
- DateTimeOriginal: 2014:12:31 15:51:25
- DigitalZoomRatio: 1
- ExposureCompensation: 0
- ExposureMode: Auto
- ExposureProgram: Aperture-priority AE
- ExposureTime: 1/160
- FNumber: 7,1
- Flash: No Flash
- FocalLength: 50,0 mm
- FocalLengthIn35mmFormat: 75 mm
- GainControl: None
- ISO: 100
- LensInfo: 50mm f/1.8
- LensModel: 50.0 mm f/1.8
- LightSource: Unknown
- MaxApertureValue: 1,7
- MeteringMode: Center-weighted average
- Saturation: Normal
- SceneCaptureType: Standard
- SceneType: Directly photographed
- SensingMethod: One-chip color area
- SensitivityType: Recommended Exposure Index
- SerialNumber: 8343047
- Sharpness: Normal
- ShutterSpeedValue: 1/160
- SubjectDistanceRange: Unknown
- WhiteBalance: Auto
- ICC-header
- ICC-meas
- ICC-view
- IFD0
- Make: NIKON CORPORATION
- Model: NIKON D5100
- ModifyDate: 2015:01:04 22:21:21
- IFD1
- IPTC
- DateCreated: 2014:12:31
- System
- XMP-aux
- ApproximateFocusDistance: 4294967295
- ImageNumber: 2717
- Lens: 50.0 mm f/1.8
- LensID: 176
- XMP-crs
- AlreadyApplied: True
- AutoLateralCA: 1
- AutoWhiteVersion: 134348800
- Blacks2012: -41
- BlueHue: 0
- BlueSaturation: 0
- CircularGradientBasedCorrectionsCorrectionActive: true
- CircularGradientBasedCorrectionsCorrectionAmount: 1.000000
- CircularGradientBasedCorrectionsCorrectionMasksAngle: 0.000000
- CircularGradientBasedCorrectionsCorrectionMasksBottom: 0.526383
- CircularGradientBasedCorrectionsCorrectionMasksFeather: +50
- CircularGradientBasedCorrectionsCorrectionMasksFlipped: true
- CircularGradientBasedCorrectionsCorrectionMasksLeft: -0.098828
- CircularGradientBasedCorrectionsCorrectionMasksMaskValue: 1.000000
- CircularGradientBasedCorrectionsCorrectionMasksMidpoint: +50
- CircularGradientBasedCorrectionsCorrectionMasksRight: 0.187812
- CircularGradientBasedCorrectionsCorrectionMasksRoundness: 0
- CircularGradientBasedCorrectionsCorrectionMasksTop: 0.247641
- CircularGradientBasedCorrectionsCorrectionMasksVersion: +2
- CircularGradientBasedCorrectionsCorrectionMasksWhat: Mask/CircularGradient
- CircularGradientBasedCorrectionsLocalBrightness: 0.000000
- CircularGradientBasedCorrectionsLocalClarity2012: 0.000000
- CircularGradientBasedCorrectionsLocalContrast2012: 0.000000
- CircularGradientBasedCorrectionsLocalDefringe: 0.000000
- CircularGradientBasedCorrectionsLocalExposure2012: -0.075750
- CircularGradientBasedCorrectionsLocalHighlights2012: -0.166670
- CircularGradientBasedCorrectionsLocalLuminanceNoise: 0.000000
- CircularGradientBasedCorrectionsLocalMoire: 0.000000
- CircularGradientBasedCorrectionsLocalSaturation: 0.000000
- CircularGradientBasedCorrectionsLocalShadows2012: 0.000000
- CircularGradientBasedCorrectionsLocalSharpness: 0.000000
- CircularGradientBasedCorrectionsLocalTemperature: 0.000000
- CircularGradientBasedCorrectionsLocalTint: 0.000000
- CircularGradientBasedCorrectionsLocalToningHue: 240.000000
- CircularGradientBasedCorrectionsLocalToningSaturation: 0.000000
- CircularGradientBasedCorrectionsWhat: Correction
- Clarity2012: +8
- ColorNoiseReduction: 25
- ColorNoiseReductionDetail: 50
- ColorNoiseReductionSmoothness: 50
- ColorTemperature: 6318
- Contrast2012: +2
- ConvertToGrayscale: False
- DefringeGreenAmount: 0
- DefringeGreenHueHi: 60
- DefringeGreenHueLo: 40
- DefringePurpleAmount: 0
- DefringePurpleHueHi: 70
- DefringePurpleHueLo: 30
- Exposure2012: +0.55
- GrainAmount: 0
- GreenHue: 0
- GreenSaturation: 0
- HasCrop: False
- HasSettings: True
- Highlights2012: -23
- HueAdjustmentAqua: 0
- HueAdjustmentBlue: 0
- HueAdjustmentGreen: 0
- HueAdjustmentMagenta: 0
- HueAdjustmentOrange: 0
- HueAdjustmentPurple: 0
- HueAdjustmentRed: 0
- HueAdjustmentYellow: -3
- LensManualDistortionAmount: 0
- LensProfileChromaticAberrationScale: 100
- LensProfileDistortionScale: 100
- LensProfileEnable: 1
- LensProfileFilename: NIKON D3X (Nikon AF-S NIKKOR 50mm f1.8G) - RAW.lcp
- LensProfileSetup: LensDefaults
- LensProfileVignettingScale: 100
- LuminanceAdjustmentAqua: 0
- LuminanceAdjustmentBlue: 0
- LuminanceAdjustmentGreen: 0
- LuminanceAdjustmentMagenta: 0
- LuminanceAdjustmentOrange: 0
- LuminanceAdjustmentPurple: 0
- LuminanceAdjustmentRed: 0
- LuminanceAdjustmentYellow: -3
- LuminanceNoiseReductionContrast: 0
- LuminanceNoiseReductionDetail: 50
- LuminanceSmoothing: 25
- PaintBasedCorrectionsLocalClarity2012: 0.000000
- PaintBasedCorrectionsLocalContrast2012: 0.000000
- PaintBasedCorrectionsLocalDefringe: 0.000000
- PaintBasedCorrectionsLocalExposure2012: 0.075750
- PaintBasedCorrectionsLocalHighlights2012: 0.000000
- PaintBasedCorrectionsLocalLuminanceNoise: 0.000000
- PaintBasedCorrectionsLocalMoire: 0.000000
- PaintBasedCorrectionsLocalShadows2012: 0.000000
- PaintBasedCorrectionsLocalTemperature: 0.000000
- PaintBasedCorrectionsLocalTint: 0.000000
- PaintCorrectionActive: true
- PaintCorrectionAmount: 1.000000
- PaintCorrectionBrightness: 0.000000
- PaintCorrectionHue: 240.000000
- PaintCorrectionMaskCenterWeight: 0.000000
- PaintCorrectionMaskFlow: 1.000000
- PaintCorrectionMaskRadius: 0.099341
- PaintCorrectionMaskValue: 1.000000
- PaintCorrectionMaskWhat: Mask/Paint
- PaintCorrectionSaturation: 0.000000
- PaintCorrectionSharpness: 0.000000
- PaintCorrectionWhat: Correction
- ParametricDarks: +16
- ParametricHighlightSplit: 75
- ParametricHighlights: -1
- ParametricLights: +16
- ParametricMidtoneSplit: 50
- ParametricShadowSplit: 25
- ParametricShadows: -21
- PerspectiveAspect: 0
- PerspectiveHorizontal: 0
- PerspectiveRotate: 0.0
- PerspectiveScale: 100
- PerspectiveUpright: 1
- PerspectiveVertical: 0
- PostCropVignetteAmount: 0
- ProcessVersion: 6.7
- RedHue: 0
- RedSaturation: 0
- Saturation: -12
- SaturationAdjustmentAqua: 0
- SaturationAdjustmentBlue: 0
- SaturationAdjustmentGreen: 0
- SaturationAdjustmentMagenta: 0
- SaturationAdjustmentOrange: 0
- SaturationAdjustmentPurple: 0
- SaturationAdjustmentRed: 0
- SaturationAdjustmentYellow: +10
- ShadowTint: 0
- Shadows2012: +42
- SharpenDetail: 32
- SharpenEdgeMasking: 0
- SharpenRadius: +1.0
- Sharpness: 41
- SplitToningBalance: 0
- SplitToningHighlightHue: 0
- SplitToningHighlightSaturation: 0
- SplitToningShadowHue: 0
- SplitToningShadowSaturation: 0
- Tint: 0
- ToneCurve: 0, 0, 255, 255
- ToneCurveBlue: 0, 0, 255, 255
- ToneCurveGreen: 0, 0, 255, 255
- ToneCurveName: Linear
- ToneCurveName2012: Linear
- ToneCurvePV2012: 0, 0, 255, 255
- ToneCurvePV2012Blue: 0, 0, 255, 255
- ToneCurvePV2012Green: 0, 0, 255, 255
- ToneCurvePV2012Red: 0, 0, 255, 255
- ToneCurveRed: 0, 0, 255, 255
- Version: 8.7
- Vibrance: +38
- VignetteAmount: 0
- WhiteBalance: Custom
- Whites2012: +36
- XMP-dc
- XMP-xmp
- CreateDate: 2014:12:31 15:51:25.40
- ModifyDate: 2015:01:04 22:21:21+02:00
- XMP-xmpMM