- Раздел: Другое, разное
- Дата съёмки: неизвестно
- Дата загрузки фото: 15.02.2019 07:10
- Оригинальная фотография: 1280 x 1920 (812 Кб)
- Технические характеристики:
- Фотоаппарат: Canon EOS 5D Mark III
- Выдержка: 0,0
- Гиперфокальное расстояние: inf m
- Диафрагма: 2,5
- Светочувствительность: 1250
- Фокусное расстояние: 85,0 mm (35 mm equivalent: 255,0 mm)
- Экспокоррекция: -1
- Полный EXIF
- Adobe
- ColorTransform: YCbCr
- Composite
- Aperture: 2,5
- CircleOfConfusion: 0,010 mm
- FOV: 8,0 deg
- FocalLength35efl: 85,0 mm (35 mm equivalent: 255,0 mm)
- HyperfocalDistance: inf m
- LensID: Canon EF 85mm f/1.8 USM
- Megapixels: 2,5
- ScaleFactor35efl: 3,0
- ShutterSpeed: 0,0
- ExifIFD
- ApertureValue: 2,0
- ColorSpace: sRGB
- CreateDate: 2016:07:28 15:59:13
- CustomRendered: Normal
- DateTimeOriginal: 2016:07:28 15:59:13
- ExifImageHeight: 1920
- ExifImageWidth: 1280
- ExposureCompensation: -1
- ExposureMode: Auto
- ExposureProgram: Aperture-priority AE
- ExposureTime: 0,0
- FNumber: 2,5
- Flash: Off, Did not fire
- FocalLength: 85,0 mm
- ISO: 1250
- LensInfo: 85mm f/?
- LensModel: EF85mm f/1.8 USM
- LensSerialNumber: 0000000000
- MaxApertureValue: 1,4
- MeteringMode: Center-weighted average
- RecommendedExposureIndex: 1250
- SceneCaptureType: Standard
- SensitivityType: Recommended Exposure Index
- SerialNumber: 043023017200
- ShutterSpeedValue: 1/64
- WhiteBalance: Auto
- ICC-header
- ICC-meas
- ICC-view
- IFD0
- BitsPerSample: 8 8 8
- ImageHeight: 5340
- ImageWidth: 3560
- Make: Canon
- Model: Canon EOS 5D Mark III
- ModifyDate: 2016:07:28 20:57:27
- Orientation: Horizontal (normal)
- PhotometricInterpretation: RGB
- SamplesPerPixel: 3
- IFD1
- IPTC
- DateCreated: 2016:07:28
- Keywords: Vika, paldiski, rain
- System
- XMP-aux
- ApproximateFocusDistance: 7,27
- Firmware: 1.3.3
- FlashCompensation: 0
- ImageNumber: 0
- Lens: EF85mm f/1.8 USM
- LensID: 155
- XMP-crs
- AlreadyApplied: True
- AutoLateralCA: 0
- AutoWhiteVersion: 134348800
- Blacks2012: 0
- BlueHue: 0
- BlueSaturation: 0
- Clarity2012: -10
- ColorNoiseReduction: 25
- ColorNoiseReductionDetail: 50
- ColorNoiseReductionSmoothness: 50
- ColorTemperature: 3950
- Contrast2012: +46
- ConvertToGrayscale: True
- CropAngle: 0
- CropBottom: 0.927114
- CropConstrainToWarp: 0
- CropLeft: 0.037044
- CropRight: 0.964158
- CropTop: 0
- Dehaze: 0
- Exposure2012: +0.20
- GrainAmount: 0
- GrayMixerAqua: -10
- GrayMixerBlue: +20
- GrayMixerGreen: -17
- GrayMixerMagenta: +32
- GrayMixerOrange: +12
- GrayMixerPurple: +25
- GrayMixerRed: +39
- GrayMixerYellow: -9
- GreenHue: 0
- GreenSaturation: 0
- HasCrop: True
- HasSettings: True
- Highlights2012: -43
- LensManualDistortionAmount: 0
- LensProfileEnable: 0
- LensProfileSetup: LensDefaults
- LuminanceSmoothing: 0
- ParametricDarks: 0
- ParametricHighlightSplit: 75
- ParametricHighlights: 0
- ParametricLights: 0
- ParametricMidtoneSplit: 50
- ParametricShadowSplit: 25
- ParametricShadows: 0
- PerspectiveAspect: 0
- PerspectiveHorizontal: 0
- PerspectiveRotate: 0.0
- PerspectiveScale: 100
- PerspectiveUpright: 0
- PerspectiveVertical: 0
- PerspectiveX: 0.00
- PerspectiveY: 0.00
- PostCropVignetteAmount: 0
- ProcessVersion: 6.7
- RedHue: 0
- RedSaturation: 0
- ShadowTint: 0
- Shadows2012: +57
- SharpenDetail: 25
- SharpenEdgeMasking: 0
- SharpenRadius: +1.0
- Sharpness: 25
- SplitToningBalance: 0
- SplitToningHighlightHue: 51
- SplitToningHighlightSaturation: 22
- SplitToningShadowHue: 37
- SplitToningShadowSaturation: 32
- Tint: +2
- ToneCurve: 0, 0, 255, 255
- ToneCurveBlue: 0, 0, 255, 255
- ToneCurveGreen: 0, 0, 255, 255
- ToneCurveName: Linear
- ToneCurveName2012: Medium Contrast
- ToneCurvePV2012: 0, 0, 32, 22, 64, 56, 128, 128, 192, 196, 255, 255
- ToneCurvePV2012Blue: 0, 0, 255, 255
- ToneCurvePV2012Green: 0, 0, 255, 255
- ToneCurvePV2012Red: 0, 0, 255, 255
- ToneCurveRed: 0, 0, 255, 255
- ToneMapStrength: 0
- Version: 9.6
- VignetteAmount: 0
- WhiteBalance: As Shot
- Whites2012: 0
- XMP-dc
- Format: image/jpeg
- Subject: Vika, paldiski, rain
- XMP-lr
- HierarchicalSubject: Vika, paldiski, rain
- XMP-xmp
- ModifyDate: 2016:07:28 20:57:27+03:00
- XMP-xmpMM
- Просмотров: 374
- Рейтинг: голосов еще нет
- Отзывов: отключены