- Раздел: Другое, разное
- Дата съёмки: 13.09.2008 12:52
- Дата загрузки фото: 14.09.2008 16:38
- Оригинальная фотография: 4672 x 3104 (6,6 Мб)
- Технические характеристики:
- Фотоаппарат: Pentax K20D
- Выдержка: 1/500
- Гиперфокальное расстояние: 2,89 m
- Диафрагма: 5,6
- Светочувствительность: 100
- Фокусное расстояние: 18,0mm (35mm эквивалент: 27,0mm)
- Экспокоррекция: 0,7
- Полный EXIF
- Adobe
- ColorTransform: YCbCr
- Composite
- Aperture: 5,6
- CircleOfConfusion: 0,020 mm
- FocalLength35efl: 18,0mm (35mm equivalent: 27,0mm)
- HyperfocalDistance: 2,89 m
- LightValue: 13,9
- ScaleFactor35efl: 1,5
- ShutterSpeed: 1/500
- ExifIFD
- ApertureValue: 5,6
- CFAPattern: [Blue,Green][Green,Red]
- Contrast: Normal
- CreateDate: 2008:09:13 12:52:21
- CustomRendered: Normal
- DateTimeOriginal: 2008:09:13 12:52:21
- ExposureCompensation: 0,7
- ExposureMode: Manual
- ExposureProgram: Unknown (0)
- ExposureTime: 1/500
- FNumber: 5,6
- Flash: Off
- FocalLength: 18,0mm
- FocalLengthIn35mmFormat: 27mm
- ISO: 100
- MeteringMode: Multi-segment
- Saturation: Normal
- SceneCaptureType: Standard
- SensingMethod: One-chip color area
- Sharpness: Soft
- ShutterSpeedValue: 1/500
- SubjectDistanceRange: Distant
- WhiteBalance: Auto
- ICC-header
- IFD0
- Make: PENTAX
- Model: PENTAX K20D
- ModifyDate: 2008:09:13 20:17:07
- Software: K20D Ver 1.01
- XMP-aux
- XMP-crs
- AlreadyApplied: True
- BlueHue: 0
- BlueSaturation: 0
- Brightness: +28
- CameraProfile: ACR 4.4
- ChromaticAberrationB: 0
- ChromaticAberrationR: 0
- Clarity: +43
- ColorNoiseReduction: 25
- Contrast: +60
- ConvertToGrayscale: False
- Defringe: 0
- Exposure: 0.00
- FillLight: 33
- GreenHue: 0
- GreenSaturation: 0
- HasCrop: False
- HasSettings: True
- HighlightRecovery: 37
- HueAdjustmentAqua: 0
- HueAdjustmentBlue: 0
- HueAdjustmentGreen: 0
- HueAdjustmentMagenta: 0
- HueAdjustmentOrange: 0
- HueAdjustmentPurple: 0
- HueAdjustmentRed: 0
- HueAdjustmentYellow: 0
- LuminanceAdjustmentAqua: 0
- LuminanceAdjustmentBlue: 0
- LuminanceAdjustmentGreen: 0
- LuminanceAdjustmentMagenta: 0
- LuminanceAdjustmentOrange: 0
- LuminanceAdjustmentPurple: 0
- LuminanceAdjustmentRed: 0
- LuminanceAdjustmentYellow: 0
- LuminanceSmoothing: 0
- ParametricDarks: 0
- ParametricHighlightSplit: 75
- ParametricHighlights: 0
- ParametricLights: 0
- ParametricMidtoneSplit: 50
- ParametricShadowSplit: 25
- ParametricShadows: 0
- PostCropVignetteAmount: 0
- RawFileName: IMGP0444.PEF
- RedHue: 0
- RedSaturation: 0
- Saturation: +37
- SaturationAdjustmentAqua: 0
- SaturationAdjustmentBlue: 0
- SaturationAdjustmentGreen: 0
- SaturationAdjustmentMagenta: 0
- SaturationAdjustmentOrange: 0
- SaturationAdjustmentPurple: 0
- SaturationAdjustmentRed: 0
- SaturationAdjustmentYellow: 0
- ShadowTint: 0
- Shadows: 4
- SharpenDetail: 25
- SharpenEdgeMasking: 0
- SharpenRadius: +1.0
- Sharpness: 25
- SplitToningBalance: 0
- SplitToningHighlightHue: 0
- SplitToningHighlightSaturation: 0
- SplitToningShadowHue: 0
- SplitToningShadowSaturation: 0
- Temperature: 5450
- Tint: -15
- ToneCurve: 0, 0, 32, 22, 64, 56, 128, 128, 192, 196, 255, 255
- ToneCurveName: Medium Contrast
- Version: 4.5
- Vibrance: +8
- VignetteAmount: 0
- WhiteBalance: As Shot
- XMP-exif
- DateTimeDigitized: 2008:09:13 12:52:21+04:00
- DateTimeOriginal: 2008:09:13 12:52:21+04:00
- ExifImageLength: 3104
- ExifImageWidth: 4672
- FlashFired: False
- FlashFunction: False
- FlashMode: Off
- FlashRedEyeMode: False
- FlashReturn: No return detection
- FocalLengthIn35mmFormat: 27
- XMP-tiff
- ImageHeight: 3104
- ImageWidth: 4672
- XMP-xmp
- CreateDate: 2008:09:13 12:52:21+04:00
- CreatorTool: K20D Ver 1.01
- ModifyDate: 2008:09:13 20:17:07+04:00
- Просмотров: 491
- Рейтинг: голосов еще нет
- Отзывов: 1