- Раздел: Другое, разное
- Дата съёмки: 28.06.2009 04:54
- Дата загрузки фото: 14.09.2009 10:02
- Оригинальная фотография: 1188 x 792 (1,1 Мб)
- Технические характеристики:
- Фотоаппарат: Canon EOS 50D
- Выдержка: 1/20
- Гиперфокальное расстояние: 11,05 m
- Диафрагма: 11,0
- Светочувствительность: 100
- Фокусное расстояние: 24,0 mm (35 mm equivalent: 152,1 mm)
- Полный EXIF
- Adobe
- ColorTransform: YCbCr
- Composite
- Aperture: 11,0
- CircleOfConfusion: 0,005 mm
- FOV: 13,0 deg
- FocalLength35efl: 24,0 mm (35 mm equivalent: 152,1 mm)
- HyperfocalDistance: 11,05 m
- ScaleFactor35efl: 6,3
- ShutterSpeed: 1/20
- ExifIFD
- ApertureValue: 11,0
- ColorSpace: Uncalibrated
- CreateDate: 2009:06:28 04:54:14
- CustomRendered: Normal
- DateTimeOriginal: 2009:06:28 04:54:14
- ExifImageHeight: 792
- ExifImageWidth: 1188
- ExposureCompensation: 0
- ExposureMode: Manual
- ExposureProgram: Manual
- ExposureTime: 1/20
- FNumber: 11,0
- Flash: Off
- FocalLength: 24,0 mm
- ISO: 100
- MaxApertureValue: 4,0
- MeteringMode: Multi-segment
- SceneCaptureType: Standard
- ShutterSpeedValue: 1/20
- WhiteBalance: Auto
- ICC-header
- IFD0
- Artist: shanshin
- ImageDescription: karelia, Hibibni, 2009
- Make: Canon
- Model: Canon EOS 50D
- ModifyDate: 2009:07:02 21:09:31
- Orientation: Horizontal (normal)
- IFD1
- IPTC
- By-line: shanshin
- Caption-Abstract: karelia, Hibibni, 2009
- Keywords: landscape, karelia, lake, water, reflection, mirrored, sky, clouds, bank, sun, red, nature, russian, polar circle
- ObjectName: sunset on the lake
- XMP-aux
- Firmware: 1.0.3
- FlashCompensation: 0
- ImageNumber: 0
- Lens: EF24-105mm f/4L IS USM
- LensInfo: 24/1 105/1 0/0 0/0
- SerialNumber: 430202074
- XMP-crs
- AlreadyApplied: True
- BlueHue: 0
- BlueSaturation: 0
- Brightness: +6
- CameraProfile: ACR 4.6
- ChromaticAberrationB: 0
- ChromaticAberrationR: 0
- Clarity: +36
- ColorNoiseReduction: 25
- Contrast: +55
- ConvertToGrayscale: False
- Defringe: 0
- Exposure: +0.40
- FillLight: 23
- GreenHue: 0
- GreenSaturation: 0
- HasCrop: False
- HasSettings: True
- HighlightRecovery: 5
- HueAdjustmentAqua: 0
- HueAdjustmentBlue: 0
- HueAdjustmentGreen: 0
- HueAdjustmentMagenta: 0
- HueAdjustmentOrange: 0
- HueAdjustmentPurple: 0
- HueAdjustmentRed: 0
- HueAdjustmentYellow: 0
- LuminanceAdjustmentAqua: 0
- LuminanceAdjustmentBlue: 0
- LuminanceAdjustmentGreen: 0
- LuminanceAdjustmentMagenta: 0
- LuminanceAdjustmentOrange: 0
- LuminanceAdjustmentPurple: 0
- LuminanceAdjustmentRed: 0
- LuminanceAdjustmentYellow: 0
- LuminanceSmoothing: 0
- ParametricDarks: 0
- ParametricHighlightSplit: 75
- ParametricHighlights: 0
- ParametricLights: 0
- ParametricMidtoneSplit: 50
- ParametricShadowSplit: 25
- ParametricShadows: 0
- PostCropVignetteAmount: 0
- RawFileName: IMG_1570.CR2
- RedHue: 0
- RedSaturation: 0
- Saturation: +11
- SaturationAdjustmentAqua: 0
- SaturationAdjustmentBlue: 0
- SaturationAdjustmentGreen: 0
- SaturationAdjustmentMagenta: 0
- SaturationAdjustmentOrange: 0
- SaturationAdjustmentPurple: 0
- SaturationAdjustmentRed: 0
- SaturationAdjustmentYellow: 0
- ShadowTint: 0
- Shadows: 8
- SharpenDetail: 25
- SharpenEdgeMasking: 0
- SharpenRadius: +1.0
- Sharpness: 25
- SplitToningBalance: 0
- SplitToningHighlightHue: 0
- SplitToningHighlightSaturation: 0
- SplitToningShadowHue: 0
- SplitToningShadowSaturation: 0
- Temperature: 5050
- Tint: +17
- ToneCurve: 0, 0, 32, 22, 64, 56, 128, 128, 192, 196, 255, 255
- ToneCurveName: Medium Contrast
- Version: 5.1
- Vibrance: +56
- VignetteAmount: +18
- VignetteMidpoint: 50
- WhiteBalance: As Shot
- XMP-dc
- Creator: shanshin
- Description: karelia, Hibibni, 2009
- Format: image/jpeg
- Subject: landscape, karelia, lake, water, reflection, mirrored, sky, clouds, bank, sun, red, nature, russian, polar circle
- Title: sunset on the lake
- XMP-exif
- DateTimeDigitized: 2009:06:28 04:54:14.65+04:00
- DateTimeOriginal: 2009:06:28 04:54:14.65+04:00
- FlashFired: False
- FlashFunction: False
- FlashMode: Off
- FlashRedEyeMode: False
- FlashReturn: No return detection
- XMP-tiff
- XMP-xmp
- CreateDate: 2009:06:28 04:54:14.65+04:00
- ModifyDate: 2009:07:02 21:09:31+04:00
- Rating: 0
- XMP-xmpMM
- XMP-xmpRights