- Раздел: Другое, разное
- Дата съёмки: 06.02.2010 11:58
- Дата загрузки фото: 22.06.2010 01:27
- Оригинальная фотография: 1024 x 680 (500 Кб)
- Технические характеристики:
- Фотоаппарат: Pentax K-x
- Выдержка: 1/2500
- Гиперфокальное расстояние: inf m
- Диафрагма: 2,4
- Светочувствительность: 100
- Фокусное расстояние: 70,0 mm (35 mm equivalent: 70,0 mm)
- Полный EXIF
- Composite
- Aperture: 2,4
- CircleOfConfusion: 0,020 mm
- FOV: 28,0 deg
- FocalLength35efl: 70,0 mm (35 mm equivalent: 70,0 mm)
- HyperfocalDistance: inf m
- ScaleFactor35efl: 1,5
- ShutterSpeed: 1/2500
- ICC-header
- ICC-meas
- ICC-view
- IPTC
- By-line: JALEEL AQBASH
- CopyrightNotice: JALEEL AQBASH
- System
- XMP-aux
- Lens: smc PENTAX-DA 70mm F2.4 Limited
- LensID: 7 243
- LensInfo: 700/10 700/10 24/10 24/10
- XMP-crs
- AlreadyApplied: True
- BlueHue: 0
- BlueSaturation: 0
- Brightness: +50
- CameraProfile: ACR 4.4
- ChromaticAberrationB: 0
- ChromaticAberrationR: 0
- Clarity: +12
- ColorNoiseReduction: 25
- Contrast: +30
- ConvertToGrayscale: False
- Defringe: 0
- Exposure: +0.19
- FillLight: 19
- GreenHue: 0
- GreenSaturation: 0
- HasCrop: False
- HasSettings: True
- HighlightRecovery: 35
- HueAdjustmentAqua: 0
- HueAdjustmentBlue: 0
- HueAdjustmentGreen: 0
- HueAdjustmentMagenta: 0
- HueAdjustmentOrange: 0
- HueAdjustmentPurple: 0
- HueAdjustmentRed: 0
- HueAdjustmentYellow: 0
- LuminanceAdjustmentAqua: 0
- LuminanceAdjustmentBlue: 0
- LuminanceAdjustmentGreen: 0
- LuminanceAdjustmentMagenta: 0
- LuminanceAdjustmentOrange: 0
- LuminanceAdjustmentPurple: 0
- LuminanceAdjustmentRed: 0
- LuminanceAdjustmentYellow: 0
- LuminanceSmoothing: 0
- ParametricDarks: -16
- ParametricHighlightSplit: 75
- ParametricHighlights: -10
- ParametricLights: +27
- ParametricMidtoneSplit: 50
- ParametricShadowSplit: 25
- ParametricShadows: -38
- PostCropVignetteAmount: 0
- RedHue: 0
- RedSaturation: 0
- Saturation: +7
- SaturationAdjustmentAqua: 0
- SaturationAdjustmentBlue: 0
- SaturationAdjustmentGreen: 0
- SaturationAdjustmentMagenta: 0
- SaturationAdjustmentOrange: 0
- SaturationAdjustmentPurple: 0
- SaturationAdjustmentRed: 0
- SaturationAdjustmentYellow: -26
- ShadowTint: 0
- Shadows: 5
- SharpenDetail: 25
- SharpenEdgeMasking: 0
- SharpenRadius: +1.0
- Sharpness: 25
- SplitToningBalance: 0
- SplitToningHighlightHue: 0
- SplitToningHighlightSaturation: 0
- SplitToningShadowHue: 0
- SplitToningShadowSaturation: 0
- Temperature: 5500
- Tint: +2
- ToneCurve: 0, 0, 32, 22, 64, 56, 128, 128, 192, 196, 255, 255
- ToneCurveName: Medium Contrast
- Version: 5.6
- Vibrance: +36
- VignetteAmount: -33
- VignetteMidpoint: 50
- WhiteBalance: Custom
- XMP-dc
- Creator: JALEEL AQBASH
- Rights: JALEEL AQBASH
- XMP-exif
- ApertureValue: 2,4
- Contrast: High
- CustomRendered: Normal
- DateTimeDigitized: 2010:02:06 11:58:01+03:00
- DateTimeOriginal: 2010:02:06 11:58:01+03:00
- ExifImageHeight: 2848
- ExifImageWidth: 4288
- ExposureCompensation: 0
- ExposureMode: Auto
- ExposureProgram: Aperture-priority AE
- ExposureTime: 1/2500
- FNumber: 2,4
- FlashFired: False
- FlashFunction: False
- FlashMode: Off
- FlashRedEyeMode: False
- FlashReturn: No return detection
- FocalLength: 70,0 mm
- FocalLengthIn35mmFormat: 105 mm
- ISO: 100
- MeteringMode: Multi-segment
- Saturation: Normal
- SceneCaptureType: Standard
- SensingMethod: One-chip color area
- Sharpness: Hard
- ShutterSpeedValue: 1/2500
- SubjectDistanceRange: Distant
- WhiteBalance: Manual
- XMP-tiff
- ImageHeight: 2848
- ImageWidth: 4288
- Make: PENTAX
- Model: PENTAX K-x
- XMP-xmp
- CreateDate: 2010:02:06 11:58:01+03:00
- ModifyDate: 2010:02:06 23:31:04+03:00
- Просмотров: 252
- Рейтинг: голосов еще нет
- Отзывов: 0