- Раздел: Пейзаж
- Дата съёмки: неизвестно
- Дата загрузки фото: 13.01.2017 18:46
- Оригинальная фотография: 3049 x 2029 (3,3 Мб)
- Технические характеристики:
- Фотоаппарат: Canon EOS 50D
- Выдержка: 1/500
- Гиперфокальное расстояние: inf m
- Диафрагма: 10,0
- Светочувствительность: 100
- Фокусное расстояние: 18,0 mm (35 mm equivalent: 36,0 mm)
- Полный EXIF
- Adobe
- ColorTransform: YCbCr
- Composite
- Aperture: 10,0
- CircleOfConfusion: 0,012 mm
- FOV: 53,0 deg
- FocalLength35efl: 18,0 mm (35 mm equivalent: 36,0 mm)
- HyperfocalDistance: inf m
- LensID: Canon EF-S 18-135mm f/3.5-5.6 IS
- ScaleFactor35efl: 2,5
- ShutterSpeed: 1/500
- ExifIFD
- ApertureValue: 10,0
- ColorSpace: sRGB
- CreateDate: 2016:06:23 13:14:46
- CustomRendered: Normal
- DateTimeOriginal: 2016:06:23 13:14:46
- ExifImageHeight: 2029
- ExifImageWidth: 3049
- ExposureCompensation: 0
- ExposureMode: Auto
- ExposureProgram: Aperture-priority AE
- ExposureTime: 1/500
- FNumber: 10,0
- Flash: Off, Did not fire
- FocalLength: 18,0 mm
- ISO: 100
- LensInfo: 18-135mm f/?
- LensModel: EF-S18-135mm f/3.5-5.6 IS
- MaxApertureValue: 3,5
- MeteringMode: Center-weighted average
- SceneCaptureType: Standard
- SerialNumber: 1430715093
- ShutterSpeedValue: 1/500
- WhiteBalance: Auto
- ICC-header
- ICC-meas
- ICC-view
- IFD0
- Make: Canon
- Model: Canon EOS 50D
- ModifyDate: 2017:01:13 18:18:29
- Orientation: Horizontal (normal)
- IFD1
- IPTC
- DateCreated: 2016:06:23
- System
- XMP-aux
- ApproximateFocusDistance: 5,55
- DistortionCorrectionAlreadyApplied: True
- Firmware: 1.0.9
- FlashCompensation: 0
- ImageNumber: 0
- LateralChromaticAberrationCorrectionAlreadyApplied: True
- Lens: EF-S18-135mm f/3.5-5.6 IS
- LensID: 51
- VignetteCorrectionAlreadyApplied: True
- XMP-crs
- AlreadyApplied: True
- AutoLateralCA: 1
- AutoWhiteVersion: 134348800
- Blacks2012: -24
- BlueHue: 0
- BlueSaturation: 0
- CameraProfile: Camera Standard
- Clarity2012: 0
- ColorNoiseReduction: 49
- ColorNoiseReductionDetail: 50
- ColorNoiseReductionSmoothness: 50
- ColorTemperature: 4850
- Contrast2012: +8
- ConvertToGrayscale: False
- DefringeGreenAmount: 0
- DefringeGreenHueHi: 60
- DefringeGreenHueLo: 40
- DefringePurpleAmount: 0
- DefringePurpleHueHi: 70
- DefringePurpleHueLo: 30
- Dehaze: 0
- Exposure2012: +0.85
- GrainAmount: 0
- GreenHue: 0
- GreenSaturation: 0
- HasCrop: False
- HasSettings: True
- Highlights2012: -58
- HueAdjustmentAqua: 0
- HueAdjustmentBlue: 0
- HueAdjustmentGreen: 0
- HueAdjustmentMagenta: 0
- HueAdjustmentOrange: 0
- HueAdjustmentPurple: 0
- HueAdjustmentRed: 0
- HueAdjustmentYellow: 0
- LensManualDistortionAmount: 0
- LensProfileChromaticAberrationScale: 100
- LensProfileDistortionScale: 100
- LensProfileEnable: 1
- LensProfileFilename: Canon EOS 50D (Canon EF-S 18-135mm f3.5-5.6 IS) - RAW.lcp
- LensProfileSetup: LensDefaults
- LensProfileVignettingScale: 100
- LuminanceAdjustmentAqua: 0
- LuminanceAdjustmentBlue: 0
- LuminanceAdjustmentGreen: 0
- LuminanceAdjustmentMagenta: 0
- LuminanceAdjustmentOrange: 0
- LuminanceAdjustmentPurple: 0
- LuminanceAdjustmentRed: 0
- LuminanceAdjustmentYellow: 0
- LuminanceNoiseReductionContrast: 0
- LuminanceNoiseReductionDetail: 50
- LuminanceSmoothing: 19
- ParametricDarks: 0
- ParametricHighlightSplit: 75
- ParametricHighlights: 0
- ParametricLights: 0
- ParametricMidtoneSplit: 50
- ParametricShadowSplit: 25
- ParametricShadows: 0
- PerspectiveAspect: 0
- PerspectiveHorizontal: 0
- PerspectiveRotate: 0.0
- PerspectiveScale: 100
- PerspectiveUpright: 1
- PerspectiveVertical: 0
- PerspectiveX: 0.00
- PerspectiveY: 0.00
- PostCropVignetteAmount: 0
- ProcessVersion: 6.7
- RawFileName: 266.CR2
- RedHue: 0
- RedSaturation: 0
- Saturation: 0
- SaturationAdjustmentAqua: 0
- SaturationAdjustmentBlue: 0
- SaturationAdjustmentGreen: 0
- SaturationAdjustmentMagenta: 0
- SaturationAdjustmentOrange: 0
- SaturationAdjustmentPurple: 0
- SaturationAdjustmentRed: 0
- SaturationAdjustmentYellow: 0
- ShadowTint: 0
- Shadows2012: -10
- SharpenDetail: 25
- SharpenEdgeMasking: 30
- SharpenRadius: +1.0
- Sharpness: 4
- SplitToningBalance: 0
- SplitToningHighlightHue: 0
- SplitToningHighlightSaturation: 0
- SplitToningShadowHue: 0
- SplitToningShadowSaturation: 0
- Tint: +30
- ToneCurve: 0, 0, 255, 255
- ToneCurveBlue: 0, 0, 255, 255
- ToneCurveGreen: 0, 0, 255, 255
- ToneCurveName: Linear
- ToneCurveName2012: Linear
- ToneCurvePV2012: 0, 0, 255, 255
- ToneCurvePV2012Blue: 0, 0, 255, 255
- ToneCurvePV2012Green: 0, 0, 255, 255
- ToneCurvePV2012Red: 0, 0, 255, 255
- ToneCurveRed: 0, 0, 255, 255
- ToneMapStrength: 0
- Version: 9.8
- Vibrance: 0
- VignetteAmount: 0
- WhiteBalance: As Shot
- Whites2012: +9
- XMP-dc
- XMP-xmp
- ModifyDate: 2017:01:13 18:18:29+05:00
- Rating: 0
- XMP-xmpMM
- Просмотров: 301
- Рейтинг: голосов еще нет
- Отзывов: 0