- Раздел: Пейзаж
- Дата съёмки: 29.09.2013 15:48
- Дата загрузки фото: 25.02.2019 14:07
- Оригинальная фотография: 5305 x 3537 (6,2 Мб)
- Технические характеристики:
- Фотоаппарат: Samsung NX20
- Выдержка: 0,0
- Гиперфокальное расстояние: inf m
- Диафрагма: 5,6
- Светочувствительность: 100
- Фокусное расстояние: 30,0 mm (35 mm equivalent: 30,0 mm)
- Полный EXIF
- Adobe
- ColorTransform: YCbCr
- Composite
- Aperture: 5,6
- CircleOfConfusion: 0,020 mm
- FOV: 61,0 deg
- FocalLength35efl: 30,0 mm (35 mm equivalent: 30,0 mm)
- HyperfocalDistance: inf m
- LensID: Samsung NX 30mm F2 Pancake
- Megapixels: 18,8
- ScaleFactor35efl: 1,5
- ShutterSpeed: 0,0
- ExifIFD
- ApertureValue: 4,0
- ColorSpace: sRGB
- Contrast: Normal
- DateTimeOriginal: 2013:09:29 15:48:48
- DigitalZoomRatio: 1
- ExposureCompensation: 0
- ExposureMode: Unknown (3)
- ExposureProgram: Aperture-priority AE
- ExposureTime: 0,0
- FNumber: 5,6
- Flash: No Flash
- FocalLength: 30,0 mm
- FocalLengthIn35mmFormat: 46 mm
- ISO: 100
- LensInfo: 30mm f/2
- LensModel: Samsung 30mm f/2
- LensSerialNumber: 316900050933
- LightSource: Unknown
- MeteringMode: Multi-segment
- Saturation: Normal
- SceneCaptureType: Standard
- SerialNumber: 84588
- Sharpness: Normal
- ShutterSpeedValue: 1/64
- WhiteBalance: Auto
- ICC-header
- ICC-meas
- ICC-view
- IFD0
- Make: SAMSUNG
- Model: NX20
- ModifyDate: 2019:02:25 14:03:22
- IFD1
- IPTC
- DateCreated: 2013:09:29
- Keywords: Большой полуостров, Отрадное, Золотая осень, БП
- System
- XMP-aux
- DistortionCorrectionAlreadyApplied: True
- Firmware: NX200_01.14
- LateralChromaticAberrationCorrectionAlreadyApplied: True
- Lens: Samsung 30mm f/2
- LensID: 1
- VignetteCorrectionAlreadyApplied: True
- XMP-crs
- AlreadyApplied: True
- AutoLateralCA: 1
- Blacks2012: -28
- BlueHue: 0
- BlueSaturation: 0
- CameraProfile: Samsung NX20 B+W POL var2b
- CircGradBasedCorrActive: true
- CircGradBasedCorrAmount: 1.000000
- CircGradBasedCorrBrightness: 0.000000
- CircGradBasedCorrClarity: 0.000000
- CircGradBasedCorrClarity2012: 0.000000
- CircGradBasedCorrContrast: 0.000000
- CircGradBasedCorrContrast2012: 0.000000
- CircGradBasedCorrCorrectionRangeMaskColorAmount: 0.500000
- CircGradBasedCorrCorrectionRangeMaskDepthFeather: 0.500000
- CircGradBasedCorrCorrectionRangeMaskDepthMax: 1.000000
- CircGradBasedCorrCorrectionRangeMaskDepthMin: 0.000000
- CircGradBasedCorrCorrectionRangeMaskLumFeather: 0.500000
- CircGradBasedCorrCorrectionRangeMaskLumMax: 1.000000
- CircGradBasedCorrCorrectionRangeMaskLumMin: 0.000000
- CircGradBasedCorrCorrectionRangeMaskType: 0
- CircGradBasedCorrCorrectionRangeMaskVersion: +2
- CircGradBasedCorrDefringe: 0.000000
- CircGradBasedCorrExposure: 0.000000
- CircGradBasedCorrExposure2012: -0.037500
- CircGradBasedCorrHighlights2012: 0.000000
- CircGradBasedCorrHue: 50.000000
- CircGradBasedCorrLocalBlacks2012: 0.000000
- CircGradBasedCorrLocalDehaze: 0.000000
- CircGradBasedCorrLocalWhites2012: 0.000000
- CircGradBasedCorrLuminanceNoise: 0.000000
- CircGradBasedCorrMaskAngle: -1.210290
- CircGradBasedCorrMaskBottom: 1.077104
- CircGradBasedCorrMaskFeather: +63
- CircGradBasedCorrMaskFlipped: false
- CircGradBasedCorrMaskLeft: 0.055619
- CircGradBasedCorrMaskMidpoint: +50
- CircGradBasedCorrMaskRight: 0.973111
- CircGradBasedCorrMaskRoundness: 0
- CircGradBasedCorrMaskTop: -0.094669
- CircGradBasedCorrMaskValue: 1.000000
- CircGradBasedCorrMaskVersion: +2
- CircGradBasedCorrMaskWhat: Mask/CircularGradient
- CircGradBasedCorrMoire: 0.000000
- CircGradBasedCorrSaturation: 0.000000
- CircGradBasedCorrShadows2012: 0.000000
- CircGradBasedCorrSharpness: 0.000000
- CircGradBasedCorrTemperature: 0.090000
- CircGradBasedCorrTint: -0.070000
- CircGradBasedCorrWhat: Correction
- Clarity2012: -20
- ColorNoiseReduction: 25
- ColorNoiseReductionDetail: 0
- ColorNoiseReductionSmoothness: 100
- ColorTemperature: 6900
- Contrast2012: -17
- ConvertToGrayscale: False
- CropAngle: -1.21029
- CropBottom: 0.969283
- CropConstrainToWarp: 1
- CropLeft: 0.008532
- CropRight: 0.991468
- CropTop: 0.030717
- DefringeGreenAmount: 2
- DefringeGreenHueHi: 60
- DefringeGreenHueLo: 40
- DefringePurpleAmount: 2
- DefringePurpleHueHi: 70
- DefringePurpleHueLo: 30
- Dehaze: 0
- Exposure2012: 0.00
- GrainAmount: 0
- GreenHue: 0
- GreenSaturation: 0
- HasCrop: True
- HasSettings: True
- Highlights2012: -54
- HueAdjustmentAqua: 0
- HueAdjustmentBlue: 0
- HueAdjustmentGreen: 0
- HueAdjustmentMagenta: 0
- HueAdjustmentOrange: 0
- HueAdjustmentPurple: 0
- HueAdjustmentRed: 0
- HueAdjustmentYellow: 0
- LensManualDistortionAmount: 0
- LensProfileChromaticAberrationScale: 100
- LensProfileDistortionScale: 100
- LensProfileEnable: 1
- LensProfileFilename: Samsung NX10 (Samsung 30mm f2) - RAW.lcp
- LensProfileSetup: Custom
- LensProfileVignettingScale: 82
- LookName:
- LuminanceAdjustmentAqua: 0
- LuminanceAdjustmentBlue: 0
- LuminanceAdjustmentGreen: +25
- LuminanceAdjustmentMagenta: 0
- LuminanceAdjustmentOrange: +27
- LuminanceAdjustmentPurple: 0
- LuminanceAdjustmentRed: 0
- LuminanceAdjustmentYellow: +52
- LuminanceSmoothing: 0
- OverrideLookVignette: False
- ParametricDarks: 0
- ParametricHighlightSplit: 75
- ParametricHighlights: 0
- ParametricLights: 0
- ParametricMidtoneSplit: 50
- ParametricShadowSplit: 25
- ParametricShadows: 0
- PerspectiveAspect: 0
- PerspectiveHorizontal: 0
- PerspectiveRotate: 0.0
- PerspectiveScale: 100
- PerspectiveUpright: 0
- PerspectiveVertical: 0
- PerspectiveX: 0.00
- PerspectiveY: 0.00
- PostCropVignetteAmount: 0
- ProcessVersion: 11.0
- RawFileName: 09296027+048.dng
- RedHue: 0
- RedSaturation: 0
- Saturation: +4
- SaturationAdjustmentAqua: 0
- SaturationAdjustmentBlue: 0
- SaturationAdjustmentGreen: 0
- SaturationAdjustmentMagenta: 0
- SaturationAdjustmentOrange: 0
- SaturationAdjustmentPurple: 0
- SaturationAdjustmentRed: 0
- SaturationAdjustmentYellow: 0
- ShadowTint: 0
- Shadows2012: +33
- SharpenDetail: 0
- SharpenEdgeMasking: 0
- SharpenRadius: +0.7
- Sharpness: 99
- SplitToningBalance: 0
- SplitToningHighlightHue: 0
- SplitToningHighlightSaturation: 0
- SplitToningShadowHue: 0
- SplitToningShadowSaturation: 0
- Tint: +46
- ToneCurve: 0, 0, 32, 22, 64, 56, 128, 128, 192, 196, 255, 255
- ToneCurveBlue: 0, 0, 255, 255
- ToneCurveGreen: 0, 0, 255, 255
- ToneCurveName: Medium Contrast
- ToneCurveName2012: Custom
- ToneCurvePV2012: 0, 0, 112, 103, 131, 122, 166, 178, 213, 255
- ToneCurvePV2012Blue: 0, 0, 255, 255
- ToneCurvePV2012Green: 0, 0, 255, 255
- ToneCurvePV2012Red: 0, 0, 255, 255
- ToneCurveRed: 0, 0, 255, 255
- ToneMapStrength: 0
- Version: 11.2
- Vibrance: +17
- VignetteAmount: 0
- WhiteBalance: Custom
- Whites2012: 0
- XMP-dc
- Format: image/jpeg
- Subject: Большой полуостров, Отрадное, Золотая осень, БП
- XMP-lr
- HierarchicalSubject: Золотая осень|Отрадное|Большой полуостров, Золотая осень|Отрадное, Золотая осень, Золотая осень|Отрадное|Большой полуостров|БП
- XMP-xmp
- ModifyDate: 2019:02:25 14:03:22+03:00
- XMP-xmpMM
- Просмотров: 707
- Рейтинг: голосов еще нет
- Отзывов: 1