Japanese Garden, Portland
- Раздел: Пейзаж
- Дата съёмки: 06.10.2012 16:05
- Дата загрузки фото: 30.03.2020 09:25
- Оригинальная фотография: 1331 x 2000 (1,2 Мб)
- Технические характеристики:
- Фотоаппарат: Nikon D700
- Выдержка: 0,0
- Гиперфокальное расстояние: inf m
- Диафрагма: 8,0
- Светочувствительность: 1000
- Фокусное расстояние: 24,0 mm (35 mm equivalent: 24,0 mm)
- Экспокоррекция: -1
- Полный EXIF
- Adobe
- ColorTransform: YCbCr
- Composite
- Aperture: 8,0
- CircleOfConfusion: 0,030 mm
- FOV: 73,0 deg
- FocalLength35efl: 24,0 mm (35 mm equivalent: 24,0 mm)
- HyperfocalDistance: inf m
- LensID: AF Nikkor 24mm f/2.8D
- Megapixels: 2,7
- ScaleFactor35efl: 1,0
- ShutterSpeed: 0,0
- ExifIFD
- ApertureValue: 8,0
- CFAPattern: [Red,Green][Green,Blue]
- ColorSpace: sRGB
- Contrast: Normal
- CreateDate: 2012:10:06 16:05:07
- CustomRendered: Normal
- DateTimeOriginal: 2012:10:06 16:05:07
- DigitalZoomRatio: 1
- ExposureCompensation: -1
- ExposureMode: Auto
- ExposureProgram: Aperture-priority AE
- ExposureTime: 0,0
- FNumber: 8,0
- Flash: No Flash
- FocalLength: 24,0 mm
- FocalLengthIn35mmFormat: 24 mm
- GainControl: High gain up
- ISO: 1000
- LensInfo: 24mm f/2.8
- LensModel: 24.0 mm f/2.8
- LightSource: Unknown
- MaxApertureValue: 2,8
- MeteringMode: Center-weighted average
- Saturation: Normal
- SceneCaptureType: Standard
- SceneType: Directly photographed
- SensingMethod: One-chip color area
- SerialNumber: 2543308
- Sharpness: Normal
- ShutterSpeedValue: 1/64
- SubjectDistanceRange: Unknown
- WhiteBalance: Auto
- ICC-header
- ICC-meas
- ICC-view
- IFD0
- Artist: Andrey Lukyanov
- Make: NIKON CORPORATION
- Model: NIKON D700
- ModifyDate: 2020:03:29 23:24:13
- IFD1
- IPTC
- By-line: Andrey Lukyanov
- DateCreated: 2012:10:06
- System
- XMP-aux
- ApproximateFocusDistance: 0,71
- DistortionCorrectionAlreadyApplied: True
- ImageNumber: 659
- Lens: 24.0 mm f/2.8
- LensID: 54
- VignetteCorrectionAlreadyApplied: True
- XMP-crs
- AlreadyApplied: True
- AutoLateralCA: 0
- Blacks2012: -21
- BlueHue: 0
- BlueSaturation: 0
- CameraProfile: Camera Standard v4
- CircGradBasedCorrActive: true
- CircGradBasedCorrAmount: 1.000000
- CircGradBasedCorrBrightness: 0.000000
- CircGradBasedCorrClarity2012: 0.000000
- CircGradBasedCorrContrast2012: 0.000000
- CircGradBasedCorrCorrectionRangeMaskColorAmount: 0.500000
- CircGradBasedCorrCorrectionRangeMaskDepthFeather: 0.500000
- CircGradBasedCorrCorrectionRangeMaskDepthMax: 1.000000
- CircGradBasedCorrCorrectionRangeMaskDepthMin: 0.000000
- CircGradBasedCorrCorrectionRangeMaskLumFeather: 0.500000
- CircGradBasedCorrCorrectionRangeMaskLumMax: 1.000000
- CircGradBasedCorrCorrectionRangeMaskLumMin: 0.000000
- CircGradBasedCorrCorrectionRangeMaskType: 0
- CircGradBasedCorrCorrectionRangeMaskVersion: +2
- CircGradBasedCorrDefringe: 0.000000
- CircGradBasedCorrExposure2012: 0.000000
- CircGradBasedCorrHighlights2012: -0.212500
- CircGradBasedCorrHue: 240.000000
- CircGradBasedCorrLocalBlacks2012: 0.000000
- CircGradBasedCorrLocalDehaze: 0.000000
- CircGradBasedCorrLocalTexture: 0.000000
- CircGradBasedCorrLocalWhites2012: 0.000000
- CircGradBasedCorrLuminanceNoise: 0.000000
- CircGradBasedCorrMaskAngle: -13.361800
- CircGradBasedCorrMaskBottom: 0.948897
- CircGradBasedCorrMaskFeather: +50
- CircGradBasedCorrMaskFlipped: true
- CircGradBasedCorrMaskLeft: 0.433832
- CircGradBasedCorrMaskMidpoint: +50
- CircGradBasedCorrMaskRight: 1.189290
- CircGradBasedCorrMaskRoundness: 0
- CircGradBasedCorrMaskTop: 0.664473
- CircGradBasedCorrMaskValue: 1.000000
- CircGradBasedCorrMaskVersion: +2
- CircGradBasedCorrMaskWhat: Mask/CircularGradient
- CircGradBasedCorrMoire: 0.000000
- CircGradBasedCorrSaturation: 0.000000
- CircGradBasedCorrShadows2012: 0.175000
- CircGradBasedCorrSharpness: 0.000000
- CircGradBasedCorrTemperature: 0.000000
- CircGradBasedCorrTint: 0.000000
- CircGradBasedCorrWhat: Correction
- Clarity2012: +6
- ColorNoiseReduction: 25
- ColorNoiseReductionDetail: 50
- ColorNoiseReductionSmoothness: 50
- ColorTemperature: 5000
- Contrast2012: +31
- ConvertToGrayscale: False
- CropAngle: 0
- CropBottom: 0.98996
- CropConstrainToWarp: 0
- CropLeft: 0.01004
- CropRight: 0.98996
- CropTop: 0.01004
- DefringeGreenAmount: 0
- DefringeGreenHueHi: 60
- DefringeGreenHueLo: 40
- DefringePurpleAmount: 0
- DefringePurpleHueHi: 70
- DefringePurpleHueLo: 30
- Dehaze: +1
- Exposure2012: +0.56
- GrainAmount: 0
- GreenHue: 0
- GreenSaturation: 0
- HasCrop: True
- HasSettings: True
- Highlights2012: 0
- HueAdjustmentAqua: 0
- HueAdjustmentBlue: 0
- HueAdjustmentGreen: 0
- HueAdjustmentMagenta: 0
- HueAdjustmentOrange: 0
- HueAdjustmentPurple: 0
- HueAdjustmentRed: 0
- HueAdjustmentYellow: 0
- LensManualDistortionAmount: 0
- LensProfileChromaticAberrationScale: 100
- LensProfileDistortionScale: 100
- LensProfileEnable: 1
- LensProfileFilename: NIKON D3X (Nikon AF NIKKOR 24mm f2.8D) - RAW.lcp
- LensProfileSetup: LensDefaults
- LensProfileVignettingScale: 100
- LookName:
- LuminanceAdjustmentAqua: 0
- LuminanceAdjustmentBlue: 0
- LuminanceAdjustmentGreen: -15
- LuminanceAdjustmentMagenta: 0
- LuminanceAdjustmentOrange: 0
- LuminanceAdjustmentPurple: 0
- LuminanceAdjustmentRed: 0
- LuminanceAdjustmentYellow: -6
- LuminanceSmoothing: 0
- OverrideLookVignette: False
- ParametricDarks: 0
- ParametricHighlightSplit: 75
- ParametricHighlights: 0
- ParametricLights: 0
- ParametricMidtoneSplit: 50
- ParametricShadowSplit: 25
- ParametricShadows: 0
- PerspectiveAspect: 0
- PerspectiveHorizontal: 0
- PerspectiveRotate: 0.0
- PerspectiveScale: 100
- PerspectiveUpright: 5
- PerspectiveVertical: 0
- PerspectiveX: 0.00
- PerspectiveY: 0.00
- PostCropVignetteAmount: 0
- ProcessVersion: 11.0
- RawFileName: LA2012-0588.NEF
- RedHue: 0
- RedSaturation: 0
- Saturation: 0
- SaturationAdjustmentAqua: 0
- SaturationAdjustmentBlue: 0
- SaturationAdjustmentGreen: +30
- SaturationAdjustmentMagenta: 0
- SaturationAdjustmentOrange: 0
- SaturationAdjustmentPurple: 0
- SaturationAdjustmentRed: 0
- SaturationAdjustmentYellow: +4
- ShadowTint: 0
- Shadows2012: 0
- SharpenDetail: 25
- SharpenEdgeMasking: 0
- SharpenRadius: +1.0
- Sharpness: 25
- SplitToningBalance: 0
- SplitToningHighlightHue: 0
- SplitToningHighlightSaturation: 0
- SplitToningShadowHue: 0
- SplitToningShadowSaturation: 0
- Texture: 0
- Tint: +1
- ToneCurve: 0, 0, 255, 255
- ToneCurveBlue: 0, 0, 255, 255
- ToneCurveGreen: 0, 0, 255, 255
- ToneCurveName: Linear
- ToneCurveName2012: Linear
- ToneCurvePV2012: 0, 0, 255, 255
- ToneCurvePV2012Blue: 0, 0, 255, 255
- ToneCurvePV2012Green: 0, 0, 255, 255
- ToneCurvePV2012Red: 0, 0, 255, 255
- ToneCurveRed: 0, 0, 255, 255
- ToneMapStrength: 0
- Version: 12.2
- Vibrance: +10
- VignetteAmount: 0
- WhiteBalance: As Shot
- Whites2012: +55
- XMP-dc
- Creator: Andrey Lukyanov
- Format: image/jpeg
- XMP-xmp
- CreateDate: 2012:10:06 16:05:07.58
- ModifyDate: 2020:03:29 23:24:13-07:00
- XMP-xmpMM
Получить код для блога
Вставка фотографии в текущем разрешении |
Вставка миниатюры |
HTML (для вставки в блог):
BBCode (для вставки в форум):
Ссылка на фото:
Ссылка на миниатюру:
- Послать ссылку другу
Комментарии к фотографии |