- Раздел: Автомобили
- Дата съёмки: 15.08.2015 12:10
- Дата загрузки фото: 12.09.2020 18:14
- Оригинальная фотография: 2400 x 1385 (1,1 Мб)
- Технические характеристики:
- Фотоаппарат: Canon PowerShot SX50 HS
- Выдержка: 0,0
- Гиперфокальное расстояние: inf m
- Диафрагма: 4,0
- Светочувствительность: 80
- Фокусное расстояние: 7,0 mm (35 mm equivalent: 35,0 mm)
- Полный EXIF
- Adobe
- ColorTransform: YCbCr
- Composite
- Aperture: 4,0
- CircleOfConfusion: 0,005 mm
- FOV: 54,0 deg
- Flash: Off, Did not fire
- FocalLength35efl: 7,0 mm (35 mm equivalent: 35,0 mm)
- HyperfocalDistance: inf m
- Megapixels: 3,3
- ScaleFactor35efl: 5,6
- ShutterSpeed: 0,0
- ExifIFD
- ApertureValue: 4,0
- ColorSpace: sRGB
- CreateDate: 2015:08:15 12:10:24
- CustomRendered: Normal
- DateTimeOriginal: 2015:08:15 12:10:24
- DigitalZoomRatio: 1
- ExifImageHeight: 1385
- ExifImageWidth: 2400
- ExposureCompensation: 0
- ExposureMode: Auto
- ExposureTime: 0,0
- FNumber: 4,0
- FocalLength: 7,0 mm
- ISO: 80
- LensInfo: 4.3-215mm f/?
- LensModel: 4.3-215.0 mm
- MaxApertureValue: 4,0
- MeteringMode: Multi-segment
- SceneCaptureType: Standard
- SensingMethod: One-chip color area
- SensitivityType: Standard Output Sensitivity and Recommended Exposure Index
- ShutterSpeedValue: 1/128
- WhiteBalance: Auto
- ICC-header
- ICC-meas
- ICC-view
- IFD0
- Make: Canon
- Model: Canon PowerShot SX50 HS
- ModifyDate: 2020:09:12 19:56:43
- Orientation: Horizontal (normal)
- IFD1
- IPTC
- DateCreated: 2015:08:15
- System
- XMP-aux
- ApproximateFocusDistance: 3,94
- Firmware: 1.00
- FlashCompensation: 0
- Lens: 4.3-215.0 mm
- XMP-crs
- AlreadyApplied: True
- AutoLateralCA: 0
- Blacks2012: +38
- BlueHue: 0
- BlueSaturation: 0
- CameraProfile: Embedded
- Clarity2012: +15
- ColorNoiseReduction: 0
- Contrast2012: 0
- ConvertToGrayscale: False
- DefringeGreenAmount: 0
- DefringeGreenHueHi: 60
- DefringeGreenHueLo: 40
- DefringePurpleAmount: 0
- DefringePurpleHueHi: 70
- DefringePurpleHueLo: 30
- Dehaze: 0
- Exposure2012: -0.30
- GrainAmount: 0
- GreenHue: 0
- GreenSaturation: 0
- HasCrop: False
- HasSettings: True
- Highlights2012: -73
- HueAdjustmentAqua: 0
- HueAdjustmentBlue: 0
- HueAdjustmentGreen: 0
- HueAdjustmentMagenta: 0
- HueAdjustmentOrange: 0
- HueAdjustmentPurple: 0
- HueAdjustmentRed: 0
- HueAdjustmentYellow: 0
- IncrementalTemperature: 0
- IncrementalTint: 0
- LensManualDistortionAmount: 0
- LensProfileEnable: 0
- LensProfileSetup: LensDefaults
- LuminanceAdjustmentAqua: -23
- LuminanceAdjustmentBlue: -23
- LuminanceAdjustmentGreen: 0
- LuminanceAdjustmentMagenta: 0
- LuminanceAdjustmentOrange: 0
- LuminanceAdjustmentPurple: -22
- LuminanceAdjustmentRed: 0
- LuminanceAdjustmentYellow: 0
- LuminanceSmoothing: 0
- ParametricDarks: 0
- ParametricHighlightSplit: 75
- ParametricHighlights: 0
- ParametricLights: 0
- ParametricMidtoneSplit: 50
- ParametricShadowSplit: 25
- ParametricShadows: 0
- PerspectiveAspect: 0
- PerspectiveHorizontal: 0
- PerspectiveRotate: 0.0
- PerspectiveScale: 100
- PerspectiveUpright: 0
- PerspectiveVertical: 0
- PerspectiveX: 0.00
- PerspectiveY: 0.00
- PostCropVignetteAmount: 0
- ProcessVersion: 6.7
- RawFileName: 105.JPG
- RedHue: 0
- RedSaturation: 0
- Saturation: 0
- SaturationAdjustmentAqua: 0
- SaturationAdjustmentBlue: 0
- SaturationAdjustmentGreen: 0
- SaturationAdjustmentMagenta: 0
- SaturationAdjustmentOrange: 0
- SaturationAdjustmentPurple: 0
- SaturationAdjustmentRed: 0
- SaturationAdjustmentYellow: 0
- ShadowTint: 0
- Shadows2012: +40
- SharpenDetail: 25
- SharpenEdgeMasking: 0
- SharpenRadius: +1.0
- Sharpness: 0
- SplitToningBalance: 0
- SplitToningHighlightHue: 0
- SplitToningHighlightSaturation: 0
- SplitToningShadowHue: 0
- SplitToningShadowSaturation: 0
- ToneCurve: 0, 0, 255, 255
- ToneCurveBlue: 0, 0, 255, 255
- ToneCurveGreen: 0, 0, 255, 255
- ToneCurveName: Linear
- ToneCurveName2012: Linear
- ToneCurvePV2012: 0, 0, 255, 255
- ToneCurvePV2012Blue: 0, 0, 255, 255
- ToneCurvePV2012Green: 0, 0, 255, 255
- ToneCurvePV2012Red: 0, 0, 255, 255
- ToneCurveRed: 0, 0, 255, 255
- ToneMapStrength: 0
- Version: 9.12.1
- Vibrance: +28
- VignetteAmount: 0
- WhiteBalance: As Shot
- Whites2012: -54
- XMP-dc
- XMP-exif
- DateTimeDigitized: 2015:08:15 12:10:24+05:00
- DateTimeOriginal: 2015:08:15 12:10:24+05:00
- ExposureTime: 1/200
- FlashFired: False
- FlashFunction: False
- FlashMode: Off
- FlashRedEyeMode: False
- FlashReturn: No return detection
- FocalLength: 7,2 mm
- ShutterSpeedValue: 1/200
- XMP-microsoft
- DateAcquired: 2015:09:08 20:09:38
- XMP-rdf
- XMP-tiff
- XMP-x
- XMP-xmp
- CreateDate: 2020:09:12 19:56:43+05:00
- ModifyDate: 2020:09:12 19:56:43+05:00
- XMP-xmpMM
- Просмотров: 409
- Рейтинг: голосов еще нет
- Отзывов: 1