Индеец. (Эдипов тамарин)
Эдипов тамарин.
Игрунка эдипова, или Пинче - Saguinus oedipus - относится к тамаринам с оголенным лицом и хохолком. Распространены в северо-западной Панаме и Северной Колумбии, ограничиваясь на востоке рекой Магдалена, где обитают в тропических дождевых лесах, а также лесах других типов. Масса взрослого животного 260-380 г. Отличительной чертой вида является хохолок из длинных белых волос от лба до затылка, ниспадающих на плечи. Спинка черная, нижние части рук и ног белые или желтоватые. Крестец и внутренняя часть бедер красновато-оранжевая. Основание хвоста также красновато-оранжевое, кончик его черный.
Пинче обитают на высоких деревьях, обладают способностью быстро карабкаться, подобно белкам, хвост при этом служит балансиром, что позволяет им совершать прыжки на большие расстояния. В рационе преобладают насекомые, которые составляют 40 % его питания. В большом количестве поедают фрукты - 38,4% рациона; гумми, которое тамарины слизывают с деревьев - 14,4.
/Википедия/
- Раздел: Животные
- Дата съёмки: 04.01.2010 14:22
- Дата загрузки фото: 12.04.2010 06:43
- Оригинальная фотография: 3127 x 2309 (3,6 Мб)
- Технические характеристики:
- Фотоаппарат: Nikon D80
- Выдержка: 1/640
- Гиперфокальное расстояние: inf m
- Диафрагма: 4,8
- Светочувствительность: 250
- Фокусное расстояние: 116,0 mm (35 mm equivalent: 116,0 mm)
- Полный EXIF
- Adobe
- ColorTransform: YCbCr
- Composite
- Aperture: 4,8
- CircleOfConfusion: 0,020 mm
- FOV: 17,0 deg
- FocalLength35efl: 116,0 mm (35 mm equivalent: 116,0 mm)
- HyperfocalDistance: inf m
- ScaleFactor35efl: 1,5
- ShutterSpeed: 1/640
- ExifIFD
- ApertureValue: 4,8
- CFAPattern: [Green,Blue][Red,Green]
- Contrast: Normal
- CreateDate: 2010:01:04 14:22:31
- CustomRendered: Normal
- DateTimeOriginal: 2010:01:04 14:22:31
- DigitalZoomRatio: 1
- ExposureCompensation: 0
- ExposureMode: Auto
- ExposureProgram: Aperture-priority AE
- ExposureTime: 1/640
- FNumber: 4,8
- Flash: No Flash
- FocalLength: 116,0 mm
- FocalLengthIn35mmFormat: 174 mm
- GainControl: None
- ISO: 250
- LightSource: Fine Weather
- MaxApertureValue: 4,8
- MeteringMode: Center-weighted average
- Saturation: Normal
- SceneCaptureType: Standard
- SceneType: Directly photographed
- SensingMethod: One-chip color area
- Sharpness: Normal
- ShutterSpeedValue: 1/640
- SubjectDistanceRange: Unknown
- WhiteBalance: Manual
- ICC-header
- ICC-meas
- ICC-view
- IFD0
- Make: NIKON CORPORATION
- Model: NIKON D80
- ModifyDate: 2010:03:09 03:40:58
- Software: Ver.1.11
- System
- XMP-aux
- ImageNumber: 23807
- Lens: 70.0-300.0 mm f/4.5-5.6
- LensInfo: 700/10 3000/10 45/10 56/10
- XMP-crs
- AlreadyApplied: True
- BlueHue: 0
- BlueSaturation: 0
- Brightness: 0
- CameraProfile: Embedded
- ChromaticAberrationB: 0
- ChromaticAberrationR: 0
- Clarity: 0
- ColorNoiseReduction: 20
- Contrast: 0
- ConvertToGrayscale: False
- CropAngle: 3.785
- CropBottom: 0.977413
- CropHeight: 2309
- CropLeft: 0.04323
- CropRight: 0.809736
- CropTop: 0.009013
- CropUnit: pixels
- CropWidth: 3127
- Defringe: 0
- Exposure: 0.00
- FillLight: 0
- GreenHue: 0
- GreenSaturation: 0
- HasCrop: True
- HasSettings: True
- HighlightRecovery: 0
- HueAdjustmentAqua: 0
- HueAdjustmentBlue: 0
- HueAdjustmentGreen: 0
- HueAdjustmentMagenta: 0
- HueAdjustmentOrange: 0
- HueAdjustmentPurple: 0
- HueAdjustmentRed: 0
- HueAdjustmentYellow: 0
- IncrementalTemperature: 0
- IncrementalTint: 0
- LuminanceAdjustmentAqua: 0
- LuminanceAdjustmentBlue: 0
- LuminanceAdjustmentGreen: 0
- LuminanceAdjustmentMagenta: 0
- LuminanceAdjustmentOrange: 0
- LuminanceAdjustmentPurple: 0
- LuminanceAdjustmentRed: 0
- LuminanceAdjustmentYellow: 0
- LuminanceSmoothing: 30
- ParametricDarks: 0
- ParametricHighlightSplit: 75
- ParametricHighlights: -19
- ParametricLights: 0
- ParametricMidtoneSplit: 50
- ParametricShadowSplit: 25
- ParametricShadows: 0
- RedHue: 0
- RedSaturation: 0
- Saturation: 0
- SaturationAdjustmentAqua: 0
- SaturationAdjustmentBlue: 0
- SaturationAdjustmentGreen: 0
- SaturationAdjustmentMagenta: 0
- SaturationAdjustmentOrange: 0
- SaturationAdjustmentPurple: 0
- SaturationAdjustmentRed: 0
- SaturationAdjustmentYellow: 0
- ShadowTint: 0
- Shadows: 0
- SharpenDetail: 25
- SharpenEdgeMasking: 0
- SharpenRadius: +0.8
- Sharpness: 80
- SplitToningBalance: 0
- SplitToningHighlightHue: 0
- SplitToningHighlightSaturation: 0
- SplitToningShadowHue: 0
- SplitToningShadowSaturation: 0
- ToneCurve: 0, 0, 255, 255
- ToneCurveName: Linear
- Version: 1.0
- Vibrance: 0
- VignetteAmount: 0
- WhiteBalance: As Shot
- XMP-exif
- DateTimeDigitized: 2010:01:04 14:22:31.20+02:00
- DateTimeOriginal: 2010:01:04 14:22:31.20+02:00
- FlashFired: False
- FlashFunction: False
- FlashMode: Unknown
- FlashRedEyeMode: False
- FlashReturn: No return detection
- XMP-tiff
- ImageHeight: 2309
- ImageWidth: 3127
- XMP-xmp
- ModifyDate: 2010:03:09 03:40:58+02:00
- Rating: 5
Получить код для блога
Вставка фотографии в текущем разрешении |
Вставка миниатюры |
HTML (для вставки в блог):
BBCode (для вставки в форум):
Ссылка на фото:
Ссылка на миниатюру:
- Послать ссылку другу
Комментарии к фотографии |