| » Участники » Obi Wan » Аэрофото » DJI00034 [1280x768].jpg |
Уважаемые друзья и участники проекта iXBT.photo! К сожалению, 1 марта 2026 года проект iXBT.photo прекратит свою работу и будет закрыт. Мы высоко ценим ваше участие и тот вклад, который вы внесли в развитие нашего сообщества. Пожалуйста, не забудьте сохранить ваши фотографии до этой даты.
С уважением, команда iXBT.com
| DJI00034 [1280x768].jpg |
DJI00034 [1280x768].jpg
- Раздел: Другое, разное
- Дата съёмки: 15.07.2014 20:41
- Дата загрузки фото: 15.07.2014 23:40
- Оригинальная фотография: 1280 x 719 (242 Кб)
- Технические характеристики:
- Фотоаппарат: DJI PHANTOM VISION FC200
- Выдержка: 1/1050
- Гиперфокальное расстояние: inf m
- Диафрагма: 2,8
- Светочувствительность: 100
- Фокусное расстояние: 5,0 mm (35 mm equivalent: 30,0 mm)
- Полный EXIF
- Composite
- Aperture: 2,8
- CircleOfConfusion: 0,005 mm
- FOV: 61,0 deg
- FocalLength35efl: 5,0 mm (35 mm equivalent: 30,0 mm)
- HyperfocalDistance: inf m
- ScaleFactor35efl: 6,0
- ShutterSpeed: 1/1050
- ExifIFD
- ApertureValue: 2,8
- ColorSpace: sRGB
- Contrast: Normal
- CustomRendered: Normal
- DateTimeOriginal: 2014:07:15 20:41:35
- DigitalZoomRatio: 1
- ExifImageHeight: 2348
- ExifImageWidth: 4178
- ExposureCompensation: 0
- ExposureMode: Auto
- ExposureTime: 1/1050
- FNumber: 2,8
- Flash: No flash function
- FocalLength: 5,0 mm
- FocalLengthIn35mmFormat: 30 mm
- GainControl: None
- ISO: 100
- LightSource: Unknown
- MeteringMode: Center-weighted average
- Saturation: Normal
- SceneCaptureType: Standard
- SceneType: Directly photographed
- SensingMethod: One-chip color area
- Sharpness: Normal
- ShutterSpeedValue: 1/1050
- WhiteBalance: Auto
- ICC-header
- ICC-meas
- ICC-view
- IFD0
- Make: DJI
- Model: PHANTOM VISION FC200
- ModifyDate: 2014:07:15 23:35:52
- Orientation: Horizontal (normal)
- IFD1
- System
- XMP-crs
- AlreadyApplied: True
- AutoLateralCA: 0
- AutoWhiteVersion: 134348800
- Blacks2012: +70
- BlueHue: 0
- BlueSaturation: 0
- CameraProfile: Embedded
- CircularGradientBasedCorrectionsCorrectionActive: true
- CircularGradientBasedCorrectionsCorrectionAmount: 1.000000
- CircularGradientBasedCorrectionsCorrectionMasksAngle: 0.000000
- CircularGradientBasedCorrectionsCorrectionMasksBottom: 0.560716
- CircularGradientBasedCorrectionsCorrectionMasksFeather: +50
- CircularGradientBasedCorrectionsCorrectionMasksFlipped: true
- CircularGradientBasedCorrectionsCorrectionMasksLeft: 0.469602
- CircularGradientBasedCorrectionsCorrectionMasksMaskValue: 1.000000
- CircularGradientBasedCorrectionsCorrectionMasksMidpoint: +50
- CircularGradientBasedCorrectionsCorrectionMasksRight: 0.542265
- CircularGradientBasedCorrectionsCorrectionMasksRoundness: 0
- CircularGradientBasedCorrectionsCorrectionMasksTop: -0.071300
- CircularGradientBasedCorrectionsCorrectionMasksVersion: +2
- CircularGradientBasedCorrectionsCorrectionMasksWhat: Mask/CircularGradient
- CircularGradientBasedCorrectionsLocalBrightness: 0.000000
- CircularGradientBasedCorrectionsLocalClarity2012: 0.000000
- CircularGradientBasedCorrectionsLocalContrast2012: 0.000000
- CircularGradientBasedCorrectionsLocalDefringe: 0.000000
- CircularGradientBasedCorrectionsLocalExposure2012: 0.125000
- CircularGradientBasedCorrectionsLocalHighlights2012: 0.000000
- CircularGradientBasedCorrectionsLocalLuminanceNoise: 0.000000
- CircularGradientBasedCorrectionsLocalMoire: 0.000000
- CircularGradientBasedCorrectionsLocalSaturation: 0.000000
- CircularGradientBasedCorrectionsLocalShadows2012: 0.000000
- CircularGradientBasedCorrectionsLocalSharpness: 0.000000
- CircularGradientBasedCorrectionsLocalTemperature: 0.000000
- CircularGradientBasedCorrectionsLocalTint: 0.000000
- CircularGradientBasedCorrectionsLocalToningHue: 0.000000
- CircularGradientBasedCorrectionsLocalToningSaturation: 0.000000
- CircularGradientBasedCorrectionsWhat: Correction
- Clarity2012: +25
- ColorNoiseReduction: 25
- ColorNoiseReductionDetail: 50
- ColorNoiseReductionSmoothness: 50
- ColorTemperature: 7050
- Contrast2012: 0
- ConvertToGrayscale: False
- CropAngle: 0
- CropBottom: 0.971279
- CropConstrainToWarp: 0
- CropLeft: 0.03083
- CropRight: 0.983832
- CropTop: 0.018277
- DefringeGreenAmount: 0
- DefringeGreenHueHi: 60
- DefringeGreenHueLo: 40
- DefringePurpleAmount: 0
- DefringePurpleHueHi: 70
- DefringePurpleHueLo: 30
- Exposure2012: +0.46
- GradientBasedCorrActive: true
- GradientBasedCorrAmount: 1.000000
- GradientBasedCorrBrightness: 0.000000
- GradientBasedCorrHue: 0.000000
- GradientBasedCorrMaskFullX: 0.163580
- GradientBasedCorrMaskFullY: -0.048906
- GradientBasedCorrMaskValue: 1.000000
- GradientBasedCorrMaskWhat: Mask/Gradient
- GradientBasedCorrMaskZeroX: 0.429079
- GradientBasedCorrMaskZeroY: 0.558229
- GradientBasedCorrSaturation: 0.000000
- GradientBasedCorrSharpness: 0.000000
- GradientBasedCorrWhat: Correction
- GradientBasedCorrectionsLocalClarity2012: 0.000000
- GradientBasedCorrectionsLocalContrast2012: 0.000000
- GradientBasedCorrectionsLocalDefringe: 0.000000
- GradientBasedCorrectionsLocalExposure2012: 0.125000
- GradientBasedCorrectionsLocalHighlights2012: 0.000000
- GradientBasedCorrectionsLocalLuminanceNoise: 0.000000
- GradientBasedCorrectionsLocalMoire: 0.000000
- GradientBasedCorrectionsLocalShadows2012: 0.000000
- GradientBasedCorrectionsLocalTemperature: 0.000000
- GradientBasedCorrectionsLocalTint: 0.000000
- GrainAmount: 0
- GreenHue: 0
- GreenSaturation: 0
- HasCrop: True
- HasSettings: True
- Highlights2012: -50
- HueAdjustmentAqua: 0
- HueAdjustmentBlue: 0
- HueAdjustmentGreen: 0
- HueAdjustmentMagenta: 0
- HueAdjustmentOrange: 0
- HueAdjustmentPurple: 0
- HueAdjustmentRed: 0
- HueAdjustmentYellow: 0
- LensManualDistortionAmount: 0
- LensProfileChromaticAberrationScale: 100
- LensProfileDistortionScale: 100
- LensProfileEnable: 0
- LensProfileFilename: PHANTOM VISION FC200 - RAW.lcp
- LensProfileSetup: LensDefaults
- LensProfileVignettingScale: 100
- LuminanceAdjustmentAqua: 0
- LuminanceAdjustmentBlue: 0
- LuminanceAdjustmentGreen: 0
- LuminanceAdjustmentMagenta: 0
- LuminanceAdjustmentOrange: 0
- LuminanceAdjustmentPurple: 0
- LuminanceAdjustmentRed: 0
- LuminanceAdjustmentYellow: 0
- LuminanceNoiseReductionContrast: 0
- LuminanceNoiseReductionDetail: 50
- LuminanceSmoothing: 50
- ParametricDarks: 0
- ParametricHighlightSplit: 75
- ParametricHighlights: 0
- ParametricLights: 0
- ParametricMidtoneSplit: 50
- ParametricShadowSplit: 25
- ParametricShadows: 0
- PerspectiveAspect: 0
- PerspectiveHorizontal: 0
- PerspectiveRotate: 0.0
- PerspectiveScale: 100
- PerspectiveUpright: 0
- PerspectiveVertical: 0
- PostCropVignetteAmount: 0
- ProcessVersion: 6.7
- RedHue: 0
- RedSaturation: 0
- Saturation: +25
- SaturationAdjustmentAqua: 0
- SaturationAdjustmentBlue: 0
- SaturationAdjustmentGreen: 0
- SaturationAdjustmentMagenta: 0
- SaturationAdjustmentOrange: 0
- SaturationAdjustmentPurple: 0
- SaturationAdjustmentRed: 0
- SaturationAdjustmentYellow: 0
- ShadowTint: 0
- Shadows2012: +70
- SharpenDetail: 50
- SharpenEdgeMasking: 25
- SharpenRadius: +1.0
- Sharpness: 25
- SplitToningBalance: 0
- SplitToningHighlightHue: 0
- SplitToningHighlightSaturation: 0
- SplitToningShadowHue: 0
- SplitToningShadowSaturation: 0
- Tint: +127
- ToneCurve: 0, 0, 255, 255
- ToneCurveBlue: 0, 0, 255, 255
- ToneCurveGreen: 0, 0, 255, 255
- ToneCurveName: Linear
- ToneCurveName2012: Linear
- ToneCurvePV2012: 0, 0, 255, 255
- ToneCurvePV2012Blue: 0, 0, 255, 255
- ToneCurvePV2012Green: 0, 0, 255, 255
- ToneCurvePV2012Red: 0, 0, 255, 255
- ToneCurveRed: 0, 0, 255, 255
- Version: 8.5
- Vibrance: +25
- VignetteAmount: 0
- WhiteBalance: As Shot
- Whites2012: 0
- XMP-dc
- XMP-xmp
- CreateDate: 2014:07:15 20:41:35
- ModifyDate: 2014:07:15 23:35:52+04:00
- XMP-xmpMM
Получить код для блога
| Вставка фотографии в текущем разрешении |
Вставка миниатюры |
HTML (для вставки в блог):
BBCode (для вставки в форум):
Ссылка на фото:
Ссылка на миниатюру:
- Послать ссылку другу
| Комментарии к фотографии |