- Раздел: Тесты фототехники
- Дата съёмки: 14.08.2014 20:50
- Дата загрузки фото: 30.08.2014 16:40
- Оригинальная фотография: 8256 x 6192 (5,1 Мб)
- Технические характеристики:
- Фотоаппарат: Ricoh PENTAX 645Z
- Выдержка: 1/125
- Гиперфокальное расстояние: inf m
- Диафрагма: 11,0
- Светочувствительность: 200
- Фокусное расстояние: 35,0 mm
- Экспокоррекция: -0,3
- Полный EXIF
- Adobe
- ColorTransform: YCbCr
- Composite
- Aperture: 11,0
- CircleOfConfusion: 0,039 mm
- FocalLength35efl: 35,0 mm
- HyperfocalDistance: inf m
- LensID: Unknown (11 11)
- ScaleFactor35efl: 0,8
- ShutterSpeed: 1/125
- ExifIFD
- ApertureValue: 11,0
- ColorSpace: sRGB
- Contrast: High
- CreateDate: 2014:08:14 20:50:44
- CustomRendered: Normal
- DateTimeOriginal: 2014:08:14 20:50:44
- ExifImageHeight: 6192
- ExifImageWidth: 8256
- ExposureCompensation: -0,3
- ExposureMode: Manual
- ExposureProgram: Aperture-priority AE
- ExposureTime: 1/125
- FNumber: 11,0
- Flash: Off, Did not fire
- FocalLength: 35,0 mm
- FocalLengthIn35mmFormat: 27 mm
- ISO: 200
- LensInfo: 35mm f/3.5
- LensModel: smc PENTAX-FA645 35mm F3.5 AL [IF]
- MeteringMode: Multi-segment
- Saturation: Normal
- SceneCaptureType: Standard
- SensingMethod: One-chip color area
- SensitivityType: Standard Output Sensitivity
- Sharpness: Hard
- ShutterSpeedValue: 1/125
- StandardOutputSensitivity: 200
- SubjectDistanceRange: Distant
- WhiteBalance: Manual
- ICC-header
- ICC-meas
- ICC-view
- IFD0
- Make: RICOH IMAGING COMPANY, LTD.
- Model: PENTAX 645Z
- ModifyDate: 2014:08:30 16:36:15
- Orientation: Horizontal (normal)
- IFD1
- IPTC
- DateCreated: 2014:08:14
- System
- XMP-aux
- Lens: smc PENTAX-FA645 35mm F3.5 AL [IF]
- LensID: 11 11
- XMP-crs
- AlreadyApplied: True
- BlueHue: 0
- BlueSaturation: 0
- Brightness: +50
- CameraProfile: Embedded
- ChromaticAberrationB: 0
- ChromaticAberrationR: 0
- Clarity: 0
- ColorNoiseReduction: 25
- ColorNoiseReductionDetail: 50
- ColorTemperature: 5450
- Contrast: +25
- ConvertToGrayscale: False
- Defringe: 0
- Exposure: 0.00
- FillLight: 0
- GrainAmount: 0
- GreenHue: 0
- GreenSaturation: 0
- HasCrop: False
- HasSettings: True
- HighlightRecovery: 11
- HueAdjustmentAqua: 0
- HueAdjustmentBlue: 0
- HueAdjustmentGreen: 0
- HueAdjustmentMagenta: 0
- HueAdjustmentOrange: 0
- HueAdjustmentPurple: 0
- HueAdjustmentRed: 0
- HueAdjustmentYellow: 0
- LensManualDistortionAmount: 0
- LensProfileEnable: 0
- LensProfileSetup: LensDefaults
- LuminanceAdjustmentAqua: 0
- LuminanceAdjustmentBlue: 0
- LuminanceAdjustmentGreen: 0
- LuminanceAdjustmentMagenta: 0
- LuminanceAdjustmentOrange: 0
- LuminanceAdjustmentPurple: 0
- LuminanceAdjustmentRed: 0
- LuminanceAdjustmentYellow: 0
- LuminanceSmoothing: 0
- ParametricDarks: 0
- ParametricHighlightSplit: 75
- ParametricHighlights: 0
- ParametricLights: 0
- ParametricMidtoneSplit: 50
- ParametricShadowSplit: 25
- ParametricShadows: 0
- PerspectiveHorizontal: 0
- PerspectiveRotate: 0.0
- PerspectiveScale: 100
- PerspectiveVertical: 0
- PostCropVignetteAmount: 0
- ProcessVersion: 5.7
- RawFileName: IMGP0468.DNG
- RedHue: 0
- RedSaturation: 0
- Saturation: +24
- SaturationAdjustmentAqua: 0
- SaturationAdjustmentBlue: 0
- SaturationAdjustmentGreen: 0
- SaturationAdjustmentMagenta: 0
- SaturationAdjustmentOrange: 0
- SaturationAdjustmentPurple: 0
- SaturationAdjustmentRed: 0
- SaturationAdjustmentYellow: 0
- ShadowTint: 0
- Shadows: 5
- SharpenDetail: 5
- SharpenEdgeMasking: 0
- SharpenRadius: +0.6
- Sharpness: 73
- SplitToningBalance: 0
- SplitToningHighlightHue: 0
- SplitToningHighlightSaturation: 0
- SplitToningShadowHue: 0
- SplitToningShadowSaturation: 0
- Tint: +11
- ToneCurve: 0, 0, 32, 22, 64, 56, 128, 128, 192, 196, 255, 255
- ToneCurveName: Medium Contrast
- Version: 6.6
- Vibrance: 0
- VignetteAmount: 0
- WhiteBalance: As Shot
- XMP-dc
- XMP-xmp
- CreatorTool: PENTAX 645Z Ver. 1.00
- ModifyDate: 2014:08:30 16:36:15+04:00
- Rating: 0
- XMP-xmpMM
- Просмотров: 312
- Рейтинг: голосов еще нет
- Отзывов: 0