Уважаемые друзья и участники проекта iXBT.photo! К сожалению, 1 марта 2026 года проект iXBT.photo прекратит свою работу и будет закрыт. Мы высоко ценим ваше участие и тот вклад, который вы внесли в развитие нашего сообщества. Пожалуйста, не забудьте сохранить ваши фотографии до этой даты.
С уважением, команда iXBT.com
| DSC_1994.jpg |
DSC_1994.jpg
- Раздел: Другое, разное
- Дата съёмки: 27.10.2014 11:16
- Дата загрузки фото: 27.10.2014 14:35
- Оригинальная фотография: 2020 x 1353 (4,1 Мб)
- Технические характеристики:
- Фотоаппарат: Nikon D7100
- Выдержка: 1/60
- Гиперфокальное расстояние: inf m
- Диафрагма: 7,1
- Светочувствительность: 100
- Фокусное расстояние: 25,0 mm (35 mm equivalent: 25,0 mm)
- Полный EXIF
- Composite
- Aperture: 7,1
- CircleOfConfusion: 0,020 mm
- FOV: 71,0 deg
- FocalLength35efl: 25,0 mm (35 mm equivalent: 25,0 mm)
- HyperfocalDistance: inf m
- LensID: AF-S DX VR Zoom-Nikkor 18-105mm f/3.5-5.6G ED
- ScaleFactor35efl: 1,5
- ShutterSpeed: 1/60
- ExifIFD
- ApertureValue: 7,1
- CFAPattern: [Red,Green][Green,Blue]
- ColorSpace: Uncalibrated
- Contrast: Normal
- CreateDate: 2014:10:27 11:16:51
- CustomRendered: Normal
- DateTimeOriginal: 2014:10:27 11:16:51
- DigitalZoomRatio: 1
- ExposureCompensation: 0
- ExposureMode: Auto
- ExposureProgram: Aperture-priority AE
- ExposureTime: 1/60
- FNumber: 7,1
- Flash: Off, Did not fire
- FocalLength: 25,0 mm
- FocalLengthIn35mmFormat: 37 mm
- GainControl: None
- ISO: 100
- LensInfo: 18-105mm f/3.5-5.6
- LensModel: 18.0-105.0 mm f/3.5-5.6
- LightSource: Unknown
- MaxApertureValue: 4,0
- MeteringMode: Multi-segment
- Saturation: Normal
- SceneCaptureType: Standard
- SceneType: Directly photographed
- SensingMethod: One-chip color area
- SensitivityType: Recommended Exposure Index
- SerialNumber: 4388785
- Sharpness: Normal
- ShutterSpeedValue: 1/60
- SubjectDistanceRange: Unknown
- WhiteBalance: Auto
- ICC-header
- ICC-meas
- ICC-view
- IFD0
- Copyright: Belov VA
- Make: NIKON CORPORATION
- Model: NIKON D7100
- ModifyDate: 2014:10:27 13:43:32
- IFD1
- IPTC
- CopyrightNotice: Belov VA
- DateCreated: 2014:10:27
- System
- XMP-aux
- ApproximateFocusDistance: 2147483647
- ImageNumber: 2059
- Lens: 18.0-105.0 mm f/3.5-5.6
- LensID: 158
- XMP-crs
- AlreadyApplied: True
- BlueHue: 0
- BlueSaturation: 0
- ColorNoiseReduction: 0
- ColorTemperature: 4850
- ConvertToGrayscale: False
- GrainAmount: 0
- GreenHue: 0
- GreenSaturation: 0
- HasCrop: False
- HasSettings: True
- HueAdjustmentAqua: 0
- HueAdjustmentBlue: 0
- HueAdjustmentGreen: 0
- HueAdjustmentMagenta: 0
- HueAdjustmentOrange: 0
- HueAdjustmentPurple: 0
- HueAdjustmentRed: 0
- HueAdjustmentYellow: 0
- LensManualDistortionAmount: 0
- LensProfileEnable: 0
- LensProfileSetup: LensDefaults
- LuminanceAdjustmentAqua: 0
- LuminanceAdjustmentBlue: 0
- LuminanceAdjustmentGreen: 0
- LuminanceAdjustmentMagenta: 0
- LuminanceAdjustmentOrange: 0
- LuminanceAdjustmentPurple: 0
- LuminanceAdjustmentRed: 0
- LuminanceAdjustmentYellow: 0
- LuminanceSmoothing: 0
- ParametricDarks: 0
- ParametricHighlightSplit: 75
- ParametricHighlights: 0
- ParametricLights: 0
- ParametricMidtoneSplit: 50
- ParametricShadowSplit: 25
- ParametricShadows: 0
- PerspectiveHorizontal: 0
- PerspectiveRotate: 0.0
- PerspectiveScale: 100
- PerspectiveVertical: 0
- PostCropVignetteAmount: 0
- ProcessVersion: 6.7
- RedHue: 0
- RedSaturation: 0
- SaturationAdjustmentAqua: 0
- SaturationAdjustmentBlue: 0
- SaturationAdjustmentGreen: 0
- SaturationAdjustmentMagenta: 0
- SaturationAdjustmentOrange: 0
- SaturationAdjustmentPurple: 0
- SaturationAdjustmentRed: 0
- SaturationAdjustmentYellow: 0
- ShadowTint: 0
- SharpenDetail: 50
- SharpenEdgeMasking: 0
- SharpenRadius: +1.0
- SplitToningBalance: 0
- SplitToningHighlightHue: 0
- SplitToningHighlightSaturation: 0
- SplitToningShadowHue: 0
- SplitToningShadowSaturation: 0
- Tint: +2
- ToneCurve: 0, 0, 255, 255
- ToneCurveName: Linear
- Version: 8.4
- Vibrance: +25
- VignetteAmount: 0
- XMP-dc
- Format: image/jpeg
- Rights: Belov VA
- XMP-exif
- XMP-x
- XMP-xmp
- CreateDate: 2014:10:27 11:16:51.60
- ModifyDate: 2014:10:27 13:43:32+03:00
- XMP-xmpMM
- Просмотров: 91
- Рейтинг: голосов еще нет
- Отзывов: отключены
Получить код для блога
| Вставка фотографии в текущем разрешении |
Вставка миниатюры |
HTML (для вставки в блог):
BBCode (для вставки в форум):
Ссылка на фото:
Ссылка на миниатюру:
- Послать ссылку другу
| Комментарии к фотографии |