Уважаемые друзья и участники проекта iXBT.photo! К сожалению, 1 марта 2026 года проект iXBT.photo прекратит свою работу и будет закрыт. Мы высоко ценим ваше участие и тот вклад, который вы внесли в развитие нашего сообщества. Пожалуйста, не забудьте сохранить ваши фотографии до этой даты.
С уважением, команда iXBT.com
| Махринское городище |
Махринское городище
Еще один такой же снимок
- Раздел: Активный отдых, туризм
- Дата съёмки: 11.07.2015 15:15
- Дата загрузки фото: 14.07.2015 19:08
- Оригинальная фотография: 6016 x 4000 (1,4 Мб)
- Технические характеристики:
- Фотоаппарат: Nikon D3200
- Выдержка: 1/1000
- Гиперфокальное расстояние: inf m
- Диафрагма: 16,0
- Светочувствительность: 400
- Фокусное расстояние: 10,0 mm (35 mm equivalent: 10,0 mm)
- Полный EXIF
- Adobe
- ColorTransform: YCbCr
- Composite
- Aperture: 16,0
- CircleOfConfusion: 0,020 mm
- FOV: 121,0 deg
- FocalLength35efl: 10,0 mm (35 mm equivalent: 10,0 mm)
- HyperfocalDistance: inf m
- LensID: Sigma 10-20mm F4-5.6 EX DC HSM
- ScaleFactor35efl: 1,5
- ShutterSpeed: 1/1000
- ExifIFD
- ApertureValue: 16,0
- CFAPattern: [Red,Green][Green,Blue]
- Contrast: Normal
- CreateDate: 2015:07:11 15:15:07
- CustomRendered: Normal
- DateTimeOriginal: 2015:07:11 15:15:07
- DigitalZoomRatio: 1
- ExposureCompensation: 0
- ExposureMode: Auto
- ExposureProgram: Program AE
- ExposureTime: 1/1000
- FNumber: 16,0
- Flash: No Flash
- FocalLength: 10,0 mm
- FocalLengthIn35mmFormat: 15 mm
- GainControl: Low gain up
- ISO: 400
- LensInfo: 10-20mm f/4-5.6
- LensModel: 10.0-20.0 mm f/4.0-5.6
- LightSource: Unknown
- MaxApertureValue: 4,0
- MeteringMode: Multi-segment
- Saturation: Normal
- SceneCaptureType: Standard
- SceneType: Directly photographed
- SensingMethod: One-chip color area
- SensitivityType: Recommended Exposure Index
- SerialNumber: 6186137
- Sharpness: Normal
- ShutterSpeedValue: 1/1000
- SubjectDistanceRange: Unknown
- WhiteBalance: Auto
- ICC-header
- ICC-meas
- ICC-view
- IFD0
- Make: NIKON CORPORATION
- Model: NIKON D3200
- ModifyDate: 2015:07:14 18:56:12
- IFD1
- IPTC
- DateCreated: 2015:07:11
- System
- XMP-aux
- ApproximateFocusDistance: 3,55
- ImageNumber: 47405
- Lens: 10.0-20.0 mm f/4.0-5.6
- LensID: 249
- XMP-crs
- AlreadyApplied: True
- AutoLateralCA: 0
- AutoWhiteVersion: 134348800
- Blacks2012: -20
- BlueHue: 0
- BlueSaturation: 0
- Clarity2012: +30
- ColorNoiseReduction: 25
- ColorNoiseReductionDetail: 50
- ColorNoiseReductionSmoothness: 50
- ColorTemperature: 5550
- Contrast2012: +15
- ConvertToGrayscale: True
- Exposure2012: 0.00
- GrainAmount: 0
- GrayMixerAqua: -19
- GrayMixerBlue: +8
- GrayMixerGreen: -26
- GrayMixerMagenta: +4
- GrayMixerOrange: -17
- GrayMixerPurple: +15
- GrayMixerRed: -8
- GrayMixerYellow: -21
- GreenHue: 0
- GreenSaturation: 0
- HasCrop: False
- HasSettings: True
- Highlights2012: -50
- LensManualDistortionAmount: 0
- LensProfileEnable: 0
- LensProfileSetup: LensDefaults
- LuminanceSmoothing: 0
- ParametricDarks: 0
- ParametricHighlightSplit: 75
- ParametricHighlights: 0
- ParametricLights: 0
- ParametricMidtoneSplit: 50
- ParametricShadowSplit: 25
- ParametricShadows: 0
- PerspectiveAspect: 0
- PerspectiveHorizontal: 0
- PerspectiveRotate: 0.0
- PerspectiveScale: 100
- PerspectiveUpright: 0
- PerspectiveVertical: 0
- PostCropVignetteAmount: 0
- ProcessVersion: 6.7
- RedHue: 0
- RedSaturation: 0
- ShadowTint: 0
- Shadows2012: -30
- SharpenDetail: 35
- SharpenEdgeMasking: 0
- SharpenRadius: +0.8
- Sharpness: 40
- SplitToningBalance: 0
- SplitToningHighlightHue: 0
- SplitToningHighlightSaturation: 0
- SplitToningShadowHue: 0
- SplitToningShadowSaturation: 0
- Tint: +2
- ToneCurve: 0, 0, 255, 255
- ToneCurveBlue: 0, 0, 255, 255
- ToneCurveGreen: 0, 0, 255, 255
- ToneCurveName: Linear
- ToneCurveName2012: Strong Contrast
- ToneCurvePV2012: 0, 0, 32, 16, 64, 50, 128, 128, 192, 202, 255, 255
- ToneCurvePV2012Blue: 0, 0, 255, 255
- ToneCurvePV2012Green: 0, 0, 255, 255
- ToneCurvePV2012Red: 0, 0, 255, 255
- ToneCurveRed: 0, 0, 255, 255
- Version: 8.6
- VignetteAmount: 0
- WhiteBalance: As Shot
- Whites2012: 0
- XMP-dc
- XMP-xmp
- CreateDate: 2015:07:11 15:15:07.20
- ModifyDate: 2015:07:14 18:56:12+03:00
- XMP-xmpMM
- Просмотров: 267
- Рейтинг: голосов еще нет
- Отзывов: 0
Получить код для блога
| Вставка фотографии в текущем разрешении |
Вставка миниатюры |
HTML (для вставки в блог):
BBCode (для вставки в форум):
Ссылка на фото:
Ссылка на миниатюру:
- Послать ссылку другу
| Комментарии к фотографии |