- Раздел: Тесты фототехники
- Дата съёмки: 06.09.2015 14:48
- Дата загрузки фото: 06.09.2015 23:01
- Оригинальная фотография: 7952 x 5304 (6,6 Мб)
- Технические характеристики:
- Фотоаппарат: Sony ILCE-7RM2
- Выдержка: 1/60
- Гиперфокальное расстояние: inf m
- Диафрагма: 7,1
- Светочувствительность: 400
- Фокусное расстояние: 35,0 mm (35 mm equivalent: 35,0 mm)
- Экспокоррекция: -0,3
- Полный EXIF
- Adobe
- ColorTransform: YCbCr
- Composite
- Aperture: 7,1
- CircleOfConfusion: 0,030 mm
- FOV: 54,0 deg
- FocalLength35efl: 35,0 mm (35 mm equivalent: 35,0 mm)
- HyperfocalDistance: inf m
- LensID: E-Mount, T-Mount, Other Lens or no lens
- ScaleFactor35efl: 1,0
- ShutterSpeed: 1/60
- ExifIFD
- ApertureValue: 7,1
- BrightnessValue: 4,6109375
- ColorSpace: Uncalibrated
- Contrast: Normal
- CreateDate: 2015:09:06 14:48:47
- CustomRendered: Normal
- DateTimeOriginal: 2015:09:06 14:48:47
- DigitalZoomRatio: 1
- ExifImageHeight: 5304
- ExifImageWidth: 7952
- ExposureCompensation: -0,3
- ExposureMode: Auto
- ExposureProgram: Aperture-priority AE
- ExposureTime: 1/60
- FNumber: 7,1
- Flash: Off, Did not fire
- FocalLength: 35,0 mm
- FocalLengthIn35mmFormat: 35 mm
- ISO: 400
- LightSource: Unknown
- MaxApertureValue: 1,4
- MeteringMode: Multi-segment
- Saturation: Normal
- SceneCaptureType: Standard
- SceneType: Directly photographed
- Sharpness: Normal
- ShutterSpeedValue: 1/60
- WhiteBalance: Auto
- ICC-header
- IFD0
- Make: SONY
- Model: ILCE-7RM2
- ModifyDate: 2015:09:06 22:56:07
- Orientation: Horizontal (normal)
- IFD1
- IPTC
- DateCreated: 2015:09:06
- System
- XMP-aux
- Lens: FE 35mm F1.4 ZA
- LensDistortInfo: 33117/32768 -42047587/1073741824 13207007/1073741824 6077501/1073741824
- LensID: 65535
- LensInfo: 35mm f/14
- XMP-crs
- AlreadyApplied: True
- BlueHue: 0
- BlueSaturation: 0
- Brightness: +50
- ChromaticAberrationB: 0
- ChromaticAberrationR: 0
- Clarity: 0
- ColorNoiseReduction: 25
- ColorNoiseReductionDetail: 50
- ColorTemperature: 4650
- Contrast: +25
- ConvertToGrayscale: False
- Defringe: 0
- Exposure: -0.15
- FillLight: 12
- GrainAmount: 0
- GreenHue: 0
- GreenSaturation: 0
- HasCrop: False
- HasSettings: True
- HighlightRecovery: 70
- HueAdjustmentAqua: 0
- HueAdjustmentBlue: 0
- HueAdjustmentGreen: 0
- HueAdjustmentMagenta: 0
- HueAdjustmentOrange: 0
- HueAdjustmentPurple: 0
- HueAdjustmentRed: 0
- HueAdjustmentYellow: 0
- LuminanceAdjustmentAqua: 0
- LuminanceAdjustmentBlue: 0
- LuminanceAdjustmentGreen: 0
- LuminanceAdjustmentMagenta: 0
- LuminanceAdjustmentOrange: 0
- LuminanceAdjustmentPurple: 0
- LuminanceAdjustmentRed: 0
- LuminanceAdjustmentYellow: 0
- LuminanceSmoothing: 0
- ParametricDarks: 0
- ParametricHighlightSplit: 75
- ParametricHighlights: 0
- ParametricLights: 0
- ParametricMidtoneSplit: 50
- ParametricShadowSplit: 25
- ParametricShadows: 0
- PostCropVignetteAmount: 0
- ProcessVersion: 5.7
- RawFileName: DSC00098.dng
- RedHue: 0
- RedSaturation: 0
- Saturation: +16
- SaturationAdjustmentAqua: 0
- SaturationAdjustmentBlue: 0
- SaturationAdjustmentGreen: 0
- SaturationAdjustmentMagenta: 0
- SaturationAdjustmentOrange: 0
- SaturationAdjustmentPurple: 0
- SaturationAdjustmentRed: 0
- SaturationAdjustmentYellow: 0
- ShadowTint: 0
- Shadows: 0
- SharpenDetail: 0
- SharpenEdgeMasking: 0
- SharpenRadius: +0.7
- Sharpness: 55
- SplitToningBalance: 0
- SplitToningHighlightHue: 0
- SplitToningHighlightSaturation: 0
- SplitToningShadowHue: 0
- SplitToningShadowSaturation: 0
- Tint: +30
- ToneCurve: 0, 0, 32, 22, 64, 56, 128, 128, 192, 196, 255, 255
- ToneCurveName: Medium Contrast
- Version: 6.0
- Vibrance: 0
- VignetteAmount: 0
- XMP-dc
- XMP-xmp
- ModifyDate: 2015:09:06 22:56:07+03:00
- Rating: 0
- XMP-xmpMM
- Просмотров: 327
- Рейтинг: голосов еще нет
- Отзывов: 0