Уважаемые друзья и участники проекта iXBT.photo! К сожалению, 1 марта 2026 года проект iXBT.photo прекратит свою работу и будет закрыт. Мы высоко ценим ваше участие и тот вклад, который вы внесли в развитие нашего сообщества. Пожалуйста, не забудьте сохранить ваши фотографии до этой даты.
С уважением, команда iXBT.com
| 1918.jpg |
1918.jpg
- Раздел: Природа
- Дата съёмки: 17.06.2015 16:53
- Дата загрузки фото: 08.10.2015 21:20
- Оригинальная фотография: 2398 x 2000 (1,2 Мб)
- Технические характеристики:
- Фотоаппарат: Canon EOS 550D
- Выдержка: 1/10
- Гиперфокальное расстояние: inf m
- Диафрагма: 3,5
- Светочувствительность: 3200
- Фокусное расстояние: 21,0 mm (35 mm equivalent: 63,0 mm)
- Экспокоррекция: -4/3
- Полный EXIF
- Adobe
- ColorTransform: YCbCr
- Composite
- Aperture: 3,5
- CircleOfConfusion: 0,010 mm
- DOF: inf (0,00 m - inf)
- FOV: 31,0 deg
- Flash: Off, Did not fire
- FocalLength35efl: 21,0 mm (35 mm equivalent: 63,0 mm)
- HyperfocalDistance: inf m
- LensID: Canon EF-S 18-135mm f/3.5-5.6 IS
- ScaleFactor35efl: 3,1
- ShutterSpeed: 1/10
- ExifIFD
- ApertureValue: 3,5
- CreateDate: 2015:06:17 16:53:15
- CustomRendered: Normal
- DateTimeOriginal: 2015:06:17 16:53:15
- ExposureCompensation: -4/3
- ExposureMode: Auto
- ExposureProgram: Not Defined
- ExposureTime: 1/10
- FNumber: 3,5
- FocalLength: 21,0 mm
- ISO: 3200
- LensInfo: 18-135mm f/?
- LensModel: EF-S18-135mm f/3.5-5.6 IS
- MaxApertureValue: 3,5
- MeteringMode: Multi-segment
- SceneCaptureType: Standard
- SensitivityType: Unknown
- SerialNumber: 1132505168
- ShutterSpeedValue: 1/10
- SubjectDistance: 9,35 m
- WhiteBalance: Auto
- ICC-header
- ICC-meas
- ICC-view
- IFD0
- Artist: Lebedev A N
- Make: Canon
- Model: Canon EOS 550D
- ModifyDate: 2015:10:08 19:11:38
- IFD1
- IPTC
- By-line: Lebedev A N
- System
- XMP-aux
- ApproximateFocusDistance: 9,35
- Firmware: 1.0.8
- FlashCompensation: 0
- ImageNumber: 0
- Lens: EF-S18-135mm f/3.5-5.6 IS
- LensID: 51
- XMP-crs
- AlreadyApplied: True
- BlueHue: 0
- BlueSaturation: 0
- Brightness: +45
- CameraProfile: Embedded
- ChromaticAberrationB: 0
- ChromaticAberrationR: 0
- Clarity: 0
- ColorNoiseReduction: 0
- Contrast: +57
- ConvertToGrayscale: False
- CropAngle: 0
- CropBottom: 0.995798
- CropConstrainToWarp: 0
- CropHeight: 2000
- CropLeft: 0.14099
- CropRight: 0.923436
- CropTop: 0.016807
- CropUnit: pixels
- CropWidth: 2398
- Defringe: 0
- Exposure: -1.02
- FillLight: 40
- GrainAmount: 0
- GreenHue: 0
- GreenSaturation: 0
- HasCrop: True
- HasSettings: True
- HighlightRecovery: 0
- HueAdjustmentAqua: 0
- HueAdjustmentBlue: 0
- HueAdjustmentGreen: 0
- HueAdjustmentMagenta: 0
- HueAdjustmentOrange: 0
- HueAdjustmentPurple: 0
- HueAdjustmentRed: 0
- HueAdjustmentYellow: 0
- IncrementalTemperature: 0
- IncrementalTint: 0
- LensManualDistortionAmount: 0
- LensProfileEnable: 0
- LensProfileSetup: LensDefaults
- LuminanceAdjustmentAqua: 0
- LuminanceAdjustmentBlue: 0
- LuminanceAdjustmentGreen: 0
- LuminanceAdjustmentMagenta: 0
- LuminanceAdjustmentOrange: 0
- LuminanceAdjustmentPurple: 0
- LuminanceAdjustmentRed: 0
- LuminanceAdjustmentYellow: 0
- LuminanceSmoothing: 0
- ParametricDarks: 0
- ParametricHighlightSplit: 75
- ParametricHighlights: 0
- ParametricLights: 0
- ParametricMidtoneSplit: 50
- ParametricShadowSplit: 25
- ParametricShadows: 0
- PerspectiveHorizontal: 0
- PerspectiveRotate: 0.0
- PerspectiveScale: 100
- PerspectiveVertical: 0
- PostCropVignetteAmount: 0
- ProcessVersion: 5.7
- RedHue: 0
- RedSaturation: 0
- Saturation: 0
- SaturationAdjustmentAqua: 0
- SaturationAdjustmentBlue: 0
- SaturationAdjustmentGreen: 0
- SaturationAdjustmentMagenta: 0
- SaturationAdjustmentOrange: 0
- SaturationAdjustmentPurple: 0
- SaturationAdjustmentRed: 0
- SaturationAdjustmentYellow: 0
- ShadowTint: 0
- Shadows: 7
- SharpenDetail: 25
- SharpenEdgeMasking: 0
- SharpenRadius: +1.0
- Sharpness: 0
- SplitToningBalance: 0
- SplitToningHighlightHue: 0
- SplitToningHighlightSaturation: 0
- SplitToningShadowHue: 0
- SplitToningShadowSaturation: 0
- ToneCurve: 0, 0, 255, 255
- ToneCurveName: Linear
- Version: 6.3
- Vibrance: 0
- VignetteAmount: 0
- WhiteBalance: As Shot
- XMP-dc
- XMP-exif
- DateTimeDigitized: 2015:06:17 16:53:15.22+03:00
- DateTimeOriginal: 2015:06:17 16:53:15.22+03:00
- ExifImageHeight: 2000
- ExifImageWidth: 2398
- FlashFired: False
- FlashFunction: False
- FlashMode: Off
- FlashRedEyeMode: False
- FlashReturn: No return detection
- XMP-tiff
- ImageHeight: 2000
- ImageWidth: 2398
- XMP-xmp
- CreateDate: 2015:06:17 16:53:15.22+03:00
- ModifyDate: 2015:10:08 19:11:38+03:00
- Просмотров: 128
- Рейтинг: голосов еще нет
- Отзывов: отключены
Получить код для блога
| Вставка фотографии в текущем разрешении |
Вставка миниатюры |
HTML (для вставки в блог):
BBCode (для вставки в форум):
Ссылка на фото:
Ссылка на миниатюру:
- Послать ссылку другу
| Комментарии к фотографии |