Уважаемые друзья и участники проекта iXBT.photo! К сожалению, 1 марта 2026 года проект iXBT.photo прекратит свою работу и будет закрыт. Мы высоко ценим ваше участие и тот вклад, который вы внесли в развитие нашего сообщества. Пожалуйста, не забудьте сохранить ваши фотографии до этой даты.
С уважением, команда iXBT.com
| * * * |
* * *
Sony A850+Minolta 28-70/2.8G
Технический пример без ретуши.
- Раздел: Другое, разное
- Дата съёмки: 14.08.2015 13:39
- Дата загрузки фото: 13.12.2015 19:47
- Оригинальная фотография: 5975 x 3983 (4,7 Мб)
- Технические характеристики:
- Фотоаппарат: Sony DSLR-A850
- Выдержка: 1/250
- Гиперфокальное расстояние: inf m
- Диафрагма: 5,6
- Светочувствительность: 200
- Фокусное расстояние: 35,0 mm (35 mm equivalent: 35,0 mm)
- Полный EXIF
- Adobe
- ColorTransform: YCbCr
- Composite
- Aperture: 5,6
- CircleOfConfusion: 0,030 mm
- FOV: 54,0 deg
- Flash: On, Fired
- FocalLength35efl: 35,0 mm (35 mm equivalent: 35,0 mm)
- HyperfocalDistance: inf m
- LensID: Minolta AF 28-70mm F2.8 G
- ScaleFactor35efl: 1,0
- ShutterSpeed: 1/250
- ExifIFD
- ApertureValue: 5,6
- BrightnessValue: 7,62
- Contrast: Normal
- CreateDate: 2015:08:14 13:39:00
- CustomRendered: Normal
- DateTimeOriginal: 2015:08:14 13:39:00
- ExposureCompensation: 0
- ExposureMode: Auto
- ExposureProgram: Aperture-priority AE
- ExposureTime: 1/250
- FNumber: 5,6
- FocalLength: 35,0 mm
- FocalLengthIn35mmFormat: 35 mm
- ISO: 200
- LightSource: Unknown
- MaxApertureValue: 2,8
- MeteringMode: Center-weighted average
- Saturation: Normal
- SceneCaptureType: Standard
- SceneType: Directly photographed
- Sharpness: Normal
- ShutterSpeedValue: 1/250
- WhiteBalance: Manual
- ICC-header
- ICC-meas
- ICC-view
- IFD0
- ImageDescription: SONY DSC
- Make: SONY
- Model: DSLR-A850
- ModifyDate: 2015:12:13 19:35:15
- Software: DSLR-A850 v1.00
- IFD1
- IPTC
- Caption-Abstract: SONY DSC
- System
- XMP-aux
- Lens: 28-70mm F2.8
- LensID: 2
- LensInfo: 28-70mm f/2.8
- XMP-crs
- AlreadyApplied: True
- BlueHue: +10
- BlueSaturation: +6
- Brightness: +50
- ChromaticAberrationB: +12
- ChromaticAberrationR: -12
- Clarity: 0
- ColorNoiseReduction: 25
- ColorTemperature: 4900
- Contrast: +20
- ConvertToGrayscale: False
- CropAngle: -0.15
- CropBottom: 0.992035
- CropHeight: 3983
- CropLeft: 0.000287
- CropRight: 0.989958
- CropTop: 0.007965
- CropUnit: pixels
- CropWidth: 5975
- Defringe: 2
- Exposure: -0.20
- FillLight: 10
- GradientBasedCorrActive: true
- GradientBasedCorrAmount: 1.000000
- GradientBasedCorrBrightness: 0.000000
- GradientBasedCorrClarity: 0.000000
- GradientBasedCorrContrast: -0.080000
- GradientBasedCorrExposure: -0.050000
- GradientBasedCorrHue: 230.000000
- GradientBasedCorrMaskFullX: 0.486437
- GradientBasedCorrMaskFullY: 0.532139
- GradientBasedCorrMaskValue: 1.000000
- GradientBasedCorrMaskWhat: Mask/Gradient
- GradientBasedCorrMaskZeroX: 0.486437
- GradientBasedCorrMaskZeroY: 0.320264
- GradientBasedCorrSaturation: 0.000000
- GradientBasedCorrSharpness: 0.000000
- GradientBasedCorrWhat: Correction
- GreenHue: 0
- GreenSaturation: 0
- HasCrop: True
- HasSettings: True
- HighlightRecovery: 0
- HueAdjustmentAqua: 0
- HueAdjustmentBlue: 0
- HueAdjustmentGreen: 0
- HueAdjustmentMagenta: +10
- HueAdjustmentOrange: +20
- HueAdjustmentPurple: -23
- HueAdjustmentRed: -40
- HueAdjustmentYellow: 0
- LuminanceAdjustmentAqua: 0
- LuminanceAdjustmentBlue: 0
- LuminanceAdjustmentGreen: 0
- LuminanceAdjustmentMagenta: -20
- LuminanceAdjustmentOrange: -5
- LuminanceAdjustmentPurple: +5
- LuminanceAdjustmentRed: +10
- LuminanceAdjustmentYellow: 0
- LuminanceSmoothing: 0
- ParametricDarks: -22
- ParametricHighlightSplit: 75
- ParametricHighlights: -15
- ParametricLights: -15
- ParametricMidtoneSplit: 50
- ParametricShadowSplit: 25
- ParametricShadows: -25
- PostCropVignetteAmount: 0
- RedHue: -4
- RedSaturation: -4
- Saturation: 0
- SaturationAdjustmentAqua: 0
- SaturationAdjustmentBlue: 0
- SaturationAdjustmentGreen: 0
- SaturationAdjustmentMagenta: -25
- SaturationAdjustmentOrange: -5
- SaturationAdjustmentPurple: -10
- SaturationAdjustmentRed: -15
- SaturationAdjustmentYellow: 0
- ShadowTint: +10
- Shadows: 2
- SharpenDetail: 25
- SharpenEdgeMasking: 0
- SharpenRadius: +1.2
- Sharpness: 40
- SplitToningBalance: 0
- SplitToningHighlightHue: 0
- SplitToningHighlightSaturation: 0
- SplitToningShadowHue: 0
- SplitToningShadowSaturation: 0
- Tint: +8
- ToneCurve: 0, 0, 32, 22, 64, 56, 128, 128, 192, 196, 255, 253
- ToneCurveName: Unknown ([ 0-253 ] Medium)
- Version: 5.7
- Vibrance: 0
- VignetteAmount: 0
- WhiteBalance: Custom
- XMP-dc
- XMP-exif
- DateTimeDigitized: 2015:08:14 13:39:00+04:00
- DateTimeOriginal: 2015:08:14 13:39:00+04:00
- ExifImageHeight: 3983
- ExifImageWidth: 5975
- FlashFired: True
- FlashFunction: False
- FlashMode: On
- FlashRedEyeMode: False
- FlashReturn: No return detection
- XMP-tiff
- ImageHeight: 3983
- ImageWidth: 5975
- XMP-xmp
- CreateDate: 2015:08:14 13:39:00+04:00
- ModifyDate: 2015:12:13 19:35:15+03:00
- Просмотров: 1137
- Рейтинг: голосов еще нет
- Отзывов: отключены
Получить код для блога
| Вставка фотографии в текущем разрешении |
Вставка миниатюры |
HTML (для вставки в блог):
BBCode (для вставки в форум):
Ссылка на фото:
Ссылка на миниатюру:
- Послать ссылку другу
| Комментарии к фотографии |