- Раздел: Портрет
- Дата съёмки: 11.08.2007 09:46
- Дата загрузки фото: 13.08.2007 03:02
- Оригинальная фотография: 800 x 600 (364 Кб)
- Технические характеристики:
- Фотоаппарат: FujiFilm FinePix S6500fd
- Выдержка: 1/600
- Гиперфокальное расстояние: 44,98 m
- Диафрагма: 5,6
- Светочувствительность: 200
- Фокусное расстояние: 29,0mm (35mm эквивалент: 261,0mm)
- Полный EXIF
- ColorTransform: YCbCr
- Composite
- Aperture: 5,6
- CircleOfConfusion: 0,003 mm
- EV: 13,2
- FocalLength35efl: 29,0mm (35mm equivalent: 261,0mm)
- HyperfocalDistance: 44,98 m
- ScaleFactor35efl: 9,0
- ShutterSpeed: 1/600
- ExifIFD
- ApertureValue: 5,6
- BrightnessValue: 8,13
- CreateDate: 2007:08:11 09:46:35
- CustomRendered: Normal
- DateTimeOriginal: 2007:08:11 09:46:35
- ExposureCompensation: 0
- ExposureMode: Auto
- ExposureProgram: Aperture-priority AE
- ExposureTime: 1/600
- FNumber: 5,6
- Flash: On
- FocalLength: 29,0mm
- ISO: 200
- LightSource: Unknown (0)
- MaxApertureValue: 2,8
- MeteringMode: Average
- SceneCaptureType: Standard
- SceneType: Directly photographed
- SensingMethod: One-chip color area
- Sharpness: Normal
- ShutterSpeedValue: 1/600
- WhiteBalance: Auto
- ICC-header
- ICC-meas
- ICC-view
- IFD0
- Make: FUJIFILM
- Model: FinePix S6500fd
- ModifyDate: 2007:08:13 02:02:03
- Software: Digital Camera FinePix S6500fd Ver1.00
- TimeZoneOffset: 3 3
- XMP-crs
- AlreadyApplied: True
- BlueHue: 0
- BlueSaturation: 0
- Brightness: +50
- CameraProfile: ACR 3.6
- ChromaticAberrationB: 0
- ChromaticAberrationR: +13
- Clarity: 48
- ColorNoiseReduction: 25
- Contrast: +43
- ConvertToGrayscale: False
- Defringe: 0
- Exposure: 0.00
- FillLight: 0
- GreenHue: 0
- GreenSaturation: 0
- HasCrop: False
- HasSettings: True
- HighlightRecovery: 0
- HueAdjustmentAqua: 0
- HueAdjustmentBlue: 0
- HueAdjustmentGreen: +8
- HueAdjustmentMagenta: 0
- HueAdjustmentOrange: 0
- HueAdjustmentPurple: 0
- HueAdjustmentRed: 0
- HueAdjustmentYellow: 0
- LuminanceAdjustmentAqua: 0
- LuminanceAdjustmentBlue: -28
- LuminanceAdjustmentGreen: -29
- LuminanceAdjustmentMagenta: 0
- LuminanceAdjustmentOrange: -1
- LuminanceAdjustmentPurple: 0
- LuminanceAdjustmentRed: -20
- LuminanceAdjustmentYellow: 0
- LuminanceSmoothing: 9
- ParametricDarks: 0
- ParametricHighlightSplit: 75
- ParametricHighlights: 0
- ParametricLights: 0
- ParametricMidtoneSplit: 50
- ParametricShadowSplit: 25
- ParametricShadows: 0
- RedHue: 0
- RedSaturation: 0
- Saturation: +11
- SaturationAdjustmentAqua: +2
- SaturationAdjustmentBlue: +29
- SaturationAdjustmentGreen: +53
- SaturationAdjustmentMagenta: +2
- SaturationAdjustmentOrange: +16
- SaturationAdjustmentPurple: +8
- SaturationAdjustmentRed: +10
- SaturationAdjustmentYellow: +43
- ShadowTint: 0
- Shadows: 0
- SharpenDetail: 26
- SharpenEdgeMasking: 38
- SharpenRadius: +0.5
- Sharpness: 64
- SplitToningBalance: 0
- SplitToningHighlightHue: 0
- SplitToningHighlightSaturation: 0
- SplitToningShadowHue: 0
- SplitToningShadowSaturation: 0
- Temperature: 4700
- Tint: -1
- ToneCurve: 0, 0, 32, 22, 64, 56, 128, 128, 192, 196, 255, 255
- ToneCurveName: Medium Contrast
- Version: 1.0
- Vibrance: +1
- VignetteAmount: 0
- WhiteBalance: Custom
- XMP-exif
- DateTimeDigitized: 2007:08:11 09:46:35+03:00
- DateTimeOriginal: 2007:08:11 09:46:35+03:00
- FlashFired: True
- FlashFunction: False
- FlashMode: On
- FlashRedEyeMode: False
- FlashReturn: No return detection
- SubjectDistanceRange: Unknown
- XMP-tiff
- ImageHeight: 600
- ImageWidth: 800
- XMP-xmp
- ModifyDate: 2007:08:13 02:02:03+03:00
- Просмотров: 2911
- Рейтинг: голосов еще нет
- Отзывов: 0