Уважаемые друзья и участники проекта iXBT.photo! К сожалению, 1 марта 2026 года проект iXBT.photo прекратит свою работу и будет закрыт. Мы высоко ценим ваше участие и тот вклад, который вы внесли в развитие нашего сообщества. Пожалуйста, не забудьте сохранить ваши фотографии до этой даты.
С уважением, команда iXBT.com
| DSC_0554.jpg |
DSC_0554.jpg
- Раздел: Другое, разное
- Дата съёмки: неизвестно
- Дата загрузки фото: 25.05.2017 13:51
- Оригинальная фотография: 3734 x 2238 (3,7 Мб)
- Технические характеристики:
- Фотоаппарат: Nikon D5200
- Выдержка: 0,0
- Гиперфокальное расстояние: inf m
- Диафрагма: 10,0
- Светочувствительность: 200
- Фокусное расстояние: 55,0 mm (35 mm equivalent: 55,0 mm)
- Полный EXIF
- Adobe
- ColorTransform: YCbCr
- Composite
- Aperture: 10,0
- CircleOfConfusion: 0,020 mm
- FOV: 36,0 deg
- FocalLength35efl: 55,0 mm (35 mm equivalent: 55,0 mm)
- HyperfocalDistance: inf m
- LensID: AF-S DX Nikkor 18-55mm f/3.5-5.6G VR II
- Megapixels: 8,4
- ScaleFactor35efl: 1,5
- ShutterSpeed: 0,0
- ExifIFD
- ApertureValue: 8,0
- CFAPattern: [Red,Green][Green,Blue]
- ColorSpace: Uncalibrated
- Contrast: Normal
- CreateDate: 2017:05:07 19:41:58
- CustomRendered: Normal
- DateTimeOriginal: 2017:05:07 19:41:58
- DigitalZoomRatio: 1
- ExifImageHeight: 2238
- ExifImageWidth: 3734
- ExposureCompensation: 0
- ExposureMode: Manual
- ExposureProgram: Manual
- ExposureTime: 0,0
- FNumber: 10,0
- Flash: No Flash
- FocalLength: 55,0 mm
- FocalLengthIn35mmFormat: 82 mm
- GainControl: None
- ISO: 200
- LensInfo: 18-55mm f/3.5-5.6
- LensModel: 18.0-55.0 mm f/3.5-5.6
- LightSource: Unknown
- MaxApertureValue: 5,7
- MeteringMode: Multi-segment
- Saturation: Normal
- SceneCaptureType: Landscape
- SceneType: Directly photographed
- SensingMethod: One-chip color area
- SensitivityType: Recommended Exposure Index
- SerialNumber: 4835374
- Sharpness: Normal
- ShutterSpeedValue: 1/64
- SubjectDistanceRange: Unknown
- WhiteBalance: Auto
- ICC-header
- IFD0
- Make: NIKON CORPORATION
- Model: NIKON D5200
- ModifyDate: 2017:05:25 20:13:11
- Orientation: Horizontal (normal)
- IFD1
- IPTC
- DateCreated: 2017:05:07
- System
- XMP-aux
- ApproximateFocusDistance: 4294967295
- ImageNumber: 4713
- Lens: 18.0-55.0 mm f/3.5-5.6
- LensID: 162
- XMP-crs
- AlreadyApplied: True
- AutoLateralCA: 1
- AutoWhiteVersion: 134348800
- Blacks2012: -4
- BlueHue: +7
- BlueSaturation: +41
- Clarity2012: +16
- ColorNoiseReduction: 28
- ColorNoiseReductionDetail: 50
- ColorNoiseReductionSmoothness: 50
- ColorTemperature: 6050
- Contrast2012: +18
- ConvertToGrayscale: False
- DefringeGreenAmount: 0
- DefringeGreenHueHi: 60
- DefringeGreenHueLo: 40
- DefringePurpleAmount: 0
- DefringePurpleHueHi: 70
- DefringePurpleHueLo: 30
- Exposure2012: +0.55
- GrainAmount: 0
- GreenHue: +14
- GreenSaturation: +100
- HasCrop: False
- HasSettings: True
- Highlights2012: -100
- HueAdjustmentAqua: 0
- HueAdjustmentBlue: 0
- HueAdjustmentGreen: 0
- HueAdjustmentMagenta: 0
- HueAdjustmentOrange: 0
- HueAdjustmentPurple: 0
- HueAdjustmentRed: 0
- HueAdjustmentYellow: 0
- LensManualDistortionAmount: 0
- LensProfileChromaticAberrationScale: 100
- LensProfileDistortionScale: 100
- LensProfileEnable: 1
- LensProfileFilename: NIKON D300 (Nikon AF-S DX NIKKOR 18-55mm f3.5-5.6G VR II) - RAW.lcp
- LensProfileSetup: LensDefaults
- LensProfileVignettingScale: 100
- LuminanceAdjustmentAqua: 0
- LuminanceAdjustmentBlue: 0
- LuminanceAdjustmentGreen: -50
- LuminanceAdjustmentMagenta: 0
- LuminanceAdjustmentOrange: 0
- LuminanceAdjustmentPurple: 0
- LuminanceAdjustmentRed: 0
- LuminanceAdjustmentYellow: +19
- LuminanceNoiseReductionContrast: 36
- LuminanceNoiseReductionDetail: 50
- LuminanceSmoothing: 43
- ParametricDarks: -11
- ParametricHighlightSplit: 75
- ParametricHighlights: +17
- ParametricLights: +15
- ParametricMidtoneSplit: 50
- ParametricShadowSplit: 25
- ParametricShadows: +22
- PerspectiveAspect: 0
- PerspectiveHorizontal: 0
- PerspectiveRotate: 0.0
- PerspectiveScale: 100
- PerspectiveUpright: 0
- PerspectiveVertical: 0
- PostCropVignetteAmount: 0
- ProcessVersion: 6.7
- RawFileName: DSC_0554.NEF
- RedHue: +45
- RedSaturation: +53
- Saturation: +10
- SaturationAdjustmentAqua: +6
- SaturationAdjustmentBlue: +28
- SaturationAdjustmentGreen: +36
- SaturationAdjustmentMagenta: 0
- SaturationAdjustmentOrange: 0
- SaturationAdjustmentPurple: 0
- SaturationAdjustmentRed: 0
- SaturationAdjustmentYellow: +49
- ShadowTint: +4
- Shadows2012: +100
- SharpenDetail: 45
- SharpenEdgeMasking: 0
- SharpenRadius: +0.9
- Sharpness: 59
- SplitToningBalance: 0
- SplitToningHighlightHue: 0
- SplitToningHighlightSaturation: 0
- SplitToningShadowHue: 0
- SplitToningShadowSaturation: 0
- Tint: 0
- ToneCurve: 0, 0, 32, 22, 64, 56, 128, 128, 192, 196, 255, 255
- ToneCurveBlue: 0, 0, 255, 255
- ToneCurveGreen: 0, 0, 255, 255
- ToneCurveName: Medium Contrast
- ToneCurveName2012: Linear
- ToneCurvePV2012: 0, 0, 255, 255
- ToneCurvePV2012Blue: 0, 0, 255, 255
- ToneCurvePV2012Green: 0, 0, 255, 255
- ToneCurvePV2012Red: 0, 0, 255, 255
- ToneCurveRed: 0, 0, 255, 255
- Version: 8.4.1
- Vibrance: +10
- VignetteAmount: 0
- WhiteBalance: Custom
- Whites2012: +32
- XMP-dc
- XMP-xmp
- CreatorTool: Ver.1.03
- ModifyDate: 2017:05:25 20:13:11+10:00
- Rating: 0
- XMP-xmpMM
- Просмотров: 76
- Рейтинг: голосов еще нет
- Отзывов: 0
Получить код для блога
| Вставка фотографии в текущем разрешении |
Вставка миниатюры |
HTML (для вставки в блог):
BBCode (для вставки в форум):
Ссылка на фото:
Ссылка на миниатюру:
- Послать ссылку другу
| Комментарии к фотографии |