Уважаемые друзья и участники проекта iXBT.photo! К сожалению, 1 марта 2026 года проект iXBT.photo прекратит свою работу и будет закрыт. Мы высоко ценим ваше участие и тот вклад, который вы внесли в развитие нашего сообщества. Пожалуйста, не забудьте сохранить ваши фотографии до этой даты.
С уважением, команда iXBT.com
| P6121605_1.jpg |
P6121605_1.jpg
- Раздел: Другое, разное
- Дата съёмки: неизвестно
- Дата загрузки фото: 14.06.2017 23:09
- Оригинальная фотография: 1280 x 853 (249 Кб)
- Технические характеристики:
- Фотоаппарат: Olympus E-M5
- Выдержка: 0,0
- Гиперфокальное расстояние: inf m
- Диафрагма: 4,7
- Светочувствительность: 1250
- Фокусное расстояние: 25,0 mm (35 mm equivalent: 50,0 mm)
- Полный EXIF
- Adobe
- ColorTransform: YCbCr
- Composite
- Aperture: 4,7
- CircleOfConfusion: 0,015 mm
- FOV: 39,0 deg
- FocalLength35efl: 25,0 mm (35 mm equivalent: 50,0 mm)
- HyperfocalDistance: inf m
- Megapixels: 1,1
- ScaleFactor35efl: 2,0
- ShutterSpeed: 0,0
- ExifIFD
- ApertureValue: 4,0
- CFAPattern: [Red,Green][Green,Blue]
- ColorSpace: sRGB
- Contrast: High
- CreateDate: 2017:06:12 21:42:49
- CustomRendered: Normal
- DateTimeOriginal: 2017:06:12 21:42:49
- DigitalZoomRatio: 1
- ExifImageHeight: 853
- ExifImageWidth: 1280
- ExposureCompensation: 0
- ExposureMode: Manual
- ExposureProgram: Manual
- ExposureTime: 0,0
- FNumber: 4,7
- Flash: On, Did not fire
- FocalLength: 25,0 mm
- FocalLengthIn35mmFormat: 50 mm
- GainControl: High gain up
- ISO: 1250
- LensInfo: 14-140mm f/4-5.8
- LensModel: LUMIX G VARIO 14-140/F4.0-5.8
- LensSerialNumber: 11110501936
- LightSource: Unknown
- MaxApertureValue: 4,0
- MeteringMode: Center-weighted average
- Saturation: Normal
- SceneCaptureType: Standard
- SensitivityType: Standard Output Sensitivity
- SerialNumber: BF4507803
- Sharpness: Hard
- ShutterSpeedValue: 1/16
- WhiteBalance: Auto
- ICC-header
- ICC-meas
- ICC-view
- IFD0
- Artist: DMITRIY
- BitsPerSample: 8 8 8
- ImageDescription: OLYMPUS DIGITAL CAMERA
- ImageHeight: 3072
- ImageWidth: 4608
- Make: OLYMPUS IMAGING CORP.
- Model: E-M5
- ModifyDate: 2017:06:14 22:59:26
- Orientation: Horizontal (normal)
- PhotometricInterpretation: RGB
- SamplesPerPixel: 3
- IFD1
- IPTC
- By-line: DMITRIY
- Caption-Abstract: OLYMPUS DIGITAL CAMERA
- DateCreated: 2017:06:12
- System
- XMP-aux
- ApproximateFocusDistance: 2,07
- DistortionCorrectionAlreadyApplied: True
- FlashCompensation: -1,33203125
- LateralChromaticAberrationCorrectionAlreadyApplied: True
- Lens: LUMIX G VARIO 14-140/F4.0-5.8
- XMP-crs
- AlreadyApplied: True
- AutoLateralCA: 1
- AutoWhiteVersion: 134348800
- Blacks2012: -14
- BlueHue: 0
- BlueSaturation: 0
- Clarity2012: +13
- ColorNoiseReduction: 81
- ColorNoiseReductionDetail: 50
- ColorNoiseReductionSmoothness: 50
- ColorTemperature: 2750
- Contrast2012: +67
- ConvertToGrayscale: False
- DefringeGreenAmount: 2
- DefringeGreenHueHi: 60
- DefringeGreenHueLo: 17
- DefringePurpleAmount: 3
- DefringePurpleHueHi: 80
- DefringePurpleHueLo: 30
- Dehaze: 0
- Exposure2012: +1.90
- GrainAmount: 0
- GreenHue: 0
- GreenSaturation: 0
- HasCrop: False
- HasSettings: True
- Highlights2012: -96
- HueAdjustmentAqua: 0
- HueAdjustmentBlue: 0
- HueAdjustmentGreen: 0
- HueAdjustmentMagenta: 0
- HueAdjustmentOrange: 0
- HueAdjustmentPurple: 0
- HueAdjustmentRed: 0
- HueAdjustmentYellow: 0
- LensManualDistortionAmount: 0
- LensProfileEnable: 0
- LensProfileSetup: LensDefaults
- LuminanceAdjustmentAqua: 0
- LuminanceAdjustmentBlue: 0
- LuminanceAdjustmentGreen: 0
- LuminanceAdjustmentMagenta: 0
- LuminanceAdjustmentOrange: 0
- LuminanceAdjustmentPurple: 0
- LuminanceAdjustmentRed: 0
- LuminanceAdjustmentYellow: 0
- LuminanceNoiseReductionContrast: 50
- LuminanceNoiseReductionDetail: 50
- LuminanceSmoothing: 77
- ParametricDarks: 0
- ParametricHighlightSplit: 75
- ParametricHighlights: 0
- ParametricLights: 0
- ParametricMidtoneSplit: 50
- ParametricShadowSplit: 25
- ParametricShadows: 0
- PerspectiveAspect: 0
- PerspectiveHorizontal: 0
- PerspectiveRotate: 0.0
- PerspectiveScale: 100
- PerspectiveUpright: 0
- PerspectiveVertical: 0
- PostCropVignetteAmount: 0
- ProcessVersion: 6.7
- RawFileName: P6121605.ORF
- RedHue: 0
- RedSaturation: 0
- Saturation: +15
- SaturationAdjustmentAqua: 0
- SaturationAdjustmentBlue: 0
- SaturationAdjustmentGreen: 0
- SaturationAdjustmentMagenta: 0
- SaturationAdjustmentOrange: 0
- SaturationAdjustmentPurple: 0
- SaturationAdjustmentRed: 0
- SaturationAdjustmentYellow: 0
- ShadowTint: 0
- Shadows2012: +95
- SharpenDetail: 31
- SharpenEdgeMasking: 77
- SharpenRadius: +0.9
- Sharpness: 16
- SplitToningBalance: 0
- SplitToningHighlightHue: 0
- SplitToningHighlightSaturation: 0
- SplitToningShadowHue: 0
- SplitToningShadowSaturation: 0
- Tint: +8
- ToneCurve: 0, 0, 32, 22, 64, 56, 128, 128, 192, 196, 255, 255
- ToneCurveBlue: 0, 0, 255, 255
- ToneCurveGreen: 0, 0, 255, 255
- ToneCurveName: Medium Contrast
- ToneCurveName2012: Linear
- ToneCurvePV2012: 0, 0, 255, 255
- ToneCurvePV2012Blue: 0, 0, 255, 255
- ToneCurvePV2012Green: 0, 0, 255, 255
- ToneCurvePV2012Red: 0, 0, 255, 255
- ToneCurveRed: 0, 0, 255, 255
- ToneMapStrength: 0
- Version: 9.1.1
- Vibrance: +25
- VignetteAmount: 0
- WhiteBalance: Custom
- Whites2012: +62
- XMP-dc
- Creator: DMITRIY
- Description: OLYMPUS DIGITAL CAMERA
- Format: image/jpeg
- XMP-xmp
- ModifyDate: 2017:06:14 22:59:26+03:00
- Rating: 0
- XMP-xmpMM
- Просмотров: 124
- Рейтинг: голосов еще нет
- Отзывов: отключены
Получить код для блога
| Вставка фотографии в текущем разрешении |
Вставка миниатюры |
HTML (для вставки в блог):
BBCode (для вставки в форум):
Ссылка на фото:
Ссылка на миниатюру:
- Послать ссылку другу
| Комментарии к фотографии |