| » Участники » Валерий0053 » Птицы » Жуланиха с добычей |
Уважаемые друзья и участники проекта iXBT.photo! К сожалению, 1 марта 2026 года проект iXBT.photo прекратит свою работу и будет закрыт. Мы высоко ценим ваше участие и тот вклад, который вы внесли в развитие нашего сообщества. Пожалуйста, не забудьте сохранить ваши фотографии до этой даты.
С уважением, команда iXBT.com
| Жуланиха с добычей |
Жуланиха с добычей
- Раздел: Животные
- Дата съёмки: неизвестно
- Дата загрузки фото: 07.07.2017 16:25
- Оригинальная фотография: 2100 x 1400 (721 Кб)
- Технические характеристики:
- Фотоаппарат: Panasonic DMC-FZ150
- Выдержка: 0,0
- Гиперфокальное расстояние: inf m
- Диафрагма: 5,2
- Светочувствительность: 100
- Фокусное расстояние: 108,0 mm (35 mm equivalent: 540,0 mm)
- Полный EXIF
- Adobe
- ColorTransform: YCbCr
- Composite
- Aperture: 5,2
- CircleOfConfusion: 0,005 mm
- FOV: 3,0 deg
- FocalLength35efl: 108,0 mm (35 mm equivalent: 540,0 mm)
- HyperfocalDistance: inf m
- Megapixels: 2,9
- ScaleFactor35efl: 5,6
- ShutterSpeed: 0,0
- ExifIFD
- ApertureValue: 4,0
- ColorSpace: sRGB
- Contrast: Low
- CreateDate: 2017:07:01 09:00:58
- CustomRendered: Custom
- DateTimeOriginal: 2017:07:01 09:00:58
- DigitalZoomRatio: 0
- ExifImageHeight: 1400
- ExifImageWidth: 2100
- ExposureCompensation: 0
- ExposureMode: Auto
- ExposureProgram: Aperture-priority AE
- ExposureTime: 0,0
- FNumber: 5,2
- Flash: Off, Did not fire
- FocalLength: 108,0 mm
- FocalLengthIn35mmFormat: 600 mm
- GainControl: None
- ISO: 100
- LightSource: Fine Weather
- MaxApertureValue: 4,0
- MeteringMode: Center-weighted average
- Saturation: Normal
- SceneCaptureType: Standard
- SceneType: Directly photographed
- SensingMethod: One-chip color area
- Sharpness: Normal
- ShutterSpeedValue: 1/512
- WhiteBalance: Manual
- ICC-header
- ICC-meas
- ICC-view
- IFD0
- Make: Panasonic
- Model: DMC-FZ150
- ModifyDate: 2017:07:06 21:09:49
- Orientation: Horizontal (normal)
- IFD1
- IPTC
- DateCreated: 2017:07:01
- System
- XMP-aux
- DistortionCorrectionAlreadyApplied: True
- LateralChromaticAberrationCorrectionAlreadyApplied: True
- XMP-crs
- AlreadyApplied: True
- AutoLateralCA: 1
- AutoWhiteVersion: 134348800
- Blacks2012: 0
- BlueHue: 0
- BlueSaturation: 0
- Clarity2012: -10
- ColorNoiseReduction: 15
- ColorNoiseReductionDetail: 50
- ColorNoiseReductionSmoothness: 50
- ColorTemperature: 5050
- Contrast2012: +5
- ConvertToGrayscale: False
- CropAngle: 0
- CropBottom: 0.823111
- CropConstrainToWarp: 1
- CropHeight: 3
- CropLeft: 0.095194
- CropRight: 0.850194
- CropTop: 0.152
- CropUnit: Unknown (3)
- CropWidth: 2
- DefringeGreenAmount: 1
- DefringeGreenHueHi: 80
- DefringeGreenHueLo: 20
- DefringePurpleAmount: 1
- DefringePurpleHueHi: 70
- DefringePurpleHueLo: 30
- Dehaze: 0
- Exposure2012: 0.00
- GrainAmount: 0
- GreenHue: 0
- GreenSaturation: 0
- HasCrop: True
- HasSettings: True
- Highlights2012: 0
- HueAdjustmentAqua: 0
- HueAdjustmentBlue: 0
- HueAdjustmentGreen: 0
- HueAdjustmentMagenta: 0
- HueAdjustmentOrange: 0
- HueAdjustmentPurple: 0
- HueAdjustmentRed: 0
- HueAdjustmentYellow: 0
- LensManualDistortionAmount: 0
- LensProfileEnable: 0
- LensProfileSetup: LensDefaults
- LuminanceAdjustmentAqua: 0
- LuminanceAdjustmentBlue: 0
- LuminanceAdjustmentGreen: 0
- LuminanceAdjustmentMagenta: 0
- LuminanceAdjustmentOrange: 0
- LuminanceAdjustmentPurple: 0
- LuminanceAdjustmentRed: 0
- LuminanceAdjustmentYellow: 0
- LuminanceSmoothing: 0
- ParametricDarks: 0
- ParametricHighlightSplit: 75
- ParametricHighlights: 0
- ParametricLights: 0
- ParametricMidtoneSplit: 50
- ParametricShadowSplit: 25
- ParametricShadows: 0
- PerspectiveAspect: 0
- PerspectiveHorizontal: 0
- PerspectiveRotate: 0.0
- PerspectiveScale: 100
- PerspectiveUpright: 0
- PerspectiveVertical: 0
- PostCropVignetteAmount: 0
- ProcessVersion: 6.7
- RawFileName: P1020305.RW2
- RedHue: 0
- RedSaturation: 0
- Saturation: 0
- SaturationAdjustmentAqua: 0
- SaturationAdjustmentBlue: 0
- SaturationAdjustmentGreen: 0
- SaturationAdjustmentMagenta: 0
- SaturationAdjustmentOrange: 0
- SaturationAdjustmentPurple: 0
- SaturationAdjustmentRed: 0
- SaturationAdjustmentYellow: 0
- ShadowTint: 0
- Shadows2012: 0
- SharpenDetail: 0
- SharpenEdgeMasking: 0
- SharpenRadius: +0.5
- Sharpness: 0
- SplitToningBalance: 0
- SplitToningHighlightHue: 0
- SplitToningHighlightSaturation: 0
- SplitToningShadowHue: 0
- SplitToningShadowSaturation: 0
- Tint: +14
- ToneCurve: 0, 0, 32, 22, 64, 56, 128, 128, 192, 196, 255, 255
- ToneCurveBlue: 0, 0, 255, 255
- ToneCurveGreen: 0, 0, 255, 255
- ToneCurveName: Medium Contrast
- ToneCurveName2012: Linear
- ToneCurvePV2012: 0, 0, 255, 255
- ToneCurvePV2012Blue: 0, 0, 255, 255
- ToneCurvePV2012Green: 0, 0, 255, 255
- ToneCurvePV2012Red: 0, 0, 255, 255
- ToneCurveRed: 0, 0, 255, 255
- ToneMapStrength: 0
- Version: 9.2
- Vibrance: 0
- VignetteAmount: 0
- WhiteBalance: Custom
- Whites2012: -10
- XMP-dc
- XMP-xmp
- ModifyDate: 2017:07:06 21:09:49+03:00
- Rating: 0
- XMP-xmpMM
- Просмотров: 183
- Рейтинг: голосов еще нет
- Отзывов: 0
Получить код для блога
| Вставка фотографии в текущем разрешении |
Вставка миниатюры |
HTML (для вставки в блог):
BBCode (для вставки в форум):
Ссылка на фото:
Ссылка на миниатюру:
- Послать ссылку другу
| Комментарии к фотографии |