- Раздел: Другое, разное
- Дата съёмки: неизвестно
- Дата загрузки фото: 16.10.2017 02:41
- Оригинальная фотография: 4000 x 2667 (7,2 Мб)
- Технические характеристики:
- Фотоаппарат: Canon EOS 6D
- Выдержка: 0,0
- Гиперфокальное расстояние: inf m
- Диафрагма: 2,8
- Светочувствительность: 50
- Фокусное расстояние: 67,0 mm (35 mm equivalent: 67,0 mm)
- Полный EXIF
- Adobe
- ColorTransform: YCbCr
- Composite
- Aperture: 2,8
- CircleOfConfusion: 0,022 mm
- FOV: 30,0 deg
- FocalLength35efl: 67,0 mm (35 mm equivalent: 67,0 mm)
- HyperfocalDistance: inf m
- LensID: Canon EF 35mm f/2
- Megapixels: 10,7
- ScaleFactor35efl: 1,4
- ShutterSpeed: 0,0
- ExifIFD
- ApertureValue: 2,0
- ColorSpace: sRGB
- CreateDate: 2017:08:07 20:03:39
- CustomRendered: Normal
- DateTimeOriginal: 2017:08:07 20:03:39
- ExifImageHeight: 2667
- ExifImageWidth: 4000
- ExposureCompensation: 0
- ExposureMode: Manual
- ExposureProgram: Manual
- ExposureTime: 0,0
- FNumber: 2,8
- Flash: Off, Did not fire
- FocalLength: 67,0 mm
- ISO: 50
- LensInfo: 28-70mm f/?
- LensModel: 28-70mm
- LensSerialNumber: 0000000000
- MaxApertureValue: 2,8
- MeteringMode: Multi-segment
- RecommendedExposureIndex: 50
- SceneCaptureType: Standard
- SensitivityType: Recommended Exposure Index
- SerialNumber: 211020000677
- ShutterSpeedValue: 1/256
- WhiteBalance: Auto
- ICC-header
- ICC-meas
- ICC-view
- IFD0
- Artist: Alpatova
- BitsPerSample: 16 16 16
- Copyright: Alpatova
- ImageHeight: 2667
- ImageWidth: 4000
- Make: Canon
- Model: Canon EOS 6D
- ModifyDate: 2017:09:25 17:13:31
- Orientation: Horizontal (normal)
- PhotometricInterpretation: RGB
- PlanarConfiguration: Chunky
- SamplesPerPixel: 3
- IFD1
- IPTC
- By-line: Alpatova
- CopyrightNotice: Alpatova
- DateCreated: 2017:08:07
- System
- XMP-aux
- Firmware: 1.1.4
- FlashCompensation: 0
- ImageNumber: 0
- Lens: 28-70mm
- LensID: 11
- XMP-crs
- AlreadyApplied: True
- AutoLateralCA: 1
- AutoWhiteVersion: 134348800
- Blacks2012: +38
- BlueHue: -12
- BlueSaturation: +8
- CircGradBasedCorrActive: true
- CircGradBasedCorrAmount: 1.000000
- CircGradBasedCorrBrightness: 0.000000
- CircGradBasedCorrClarity2012: 0.734690
- CircGradBasedCorrContrast2012: 0.042550
- CircGradBasedCorrDefringe: 0.000000
- CircGradBasedCorrExposure2012: 0.011250
- CircGradBasedCorrHighlights2012: 0.102040
- CircGradBasedCorrHue: 50.000000
- CircGradBasedCorrLuminanceNoise: 0.000000
- CircGradBasedCorrMaskAngle: 0.000000
- CircGradBasedCorrMaskBottom: 0.850141
- CircGradBasedCorrMaskFeather: +63
- CircGradBasedCorrMaskFlipped: true
- CircGradBasedCorrMaskLeft: 0.039215
- CircGradBasedCorrMaskMidpoint: +50
- CircGradBasedCorrMaskRight: 0.974789
- CircGradBasedCorrMaskRoundness: 0
- CircGradBasedCorrMaskTop: 0.256301
- CircGradBasedCorrMaskValue: 1.000000
- CircGradBasedCorrMaskVersion: +2
- CircGradBasedCorrMaskWhat: Mask/CircularGradient
- CircGradBasedCorrMoire: 0.000000
- CircGradBasedCorrSaturation: 0.000000
- CircGradBasedCorrShadows2012: 0.040820
- CircGradBasedCorrSharpness: 0.040000
- CircGradBasedCorrTemperature: 0.000820
- CircGradBasedCorrTint: 0.000000
- CircGradBasedCorrWhat: Correction
- Clarity2012: -15
- ColorNoiseReduction: 53
- ColorNoiseReductionDetail: 50
- ColorNoiseReductionSmoothness: 50
- ColorTemperature: 5000
- Contrast2012: +74
- ConvertToGrayscale: False
- DefringeGreenAmount: 0
- DefringeGreenHueHi: 60
- DefringeGreenHueLo: 40
- DefringePurpleAmount: 0
- DefringePurpleHueHi: 70
- DefringePurpleHueLo: 30
- Exposure2012: 0.00
- GrainAmount: 0
- GreenHue: 0
- GreenSaturation: +8
- HasCrop: False
- HasSettings: True
- Highlights2012: -72
- HueAdjustmentAqua: +3
- HueAdjustmentBlue: -7
- HueAdjustmentGreen: +48
- HueAdjustmentMagenta: -25
- HueAdjustmentOrange: +7
- HueAdjustmentPurple: +21
- HueAdjustmentRed: +5
- HueAdjustmentYellow: +22
- LensManualDistortionAmount: 0
- LensProfileChromaticAberrationScale: 100
- LensProfileDistortionScale: 100
- LensProfileEnable: 1
- LensProfileFilename: Canon EOS 5D Mark II (Canon EF 28-70mm f2.8 L USM) - RAW.lcp
- LensProfileSetup: Custom
- LensProfileVignettingScale: 100
- LuminanceAdjustmentAqua: +14
- LuminanceAdjustmentBlue: +19
- LuminanceAdjustmentGreen: +28
- LuminanceAdjustmentMagenta: -12
- LuminanceAdjustmentOrange: +13
- LuminanceAdjustmentPurple: +18
- LuminanceAdjustmentRed: -12
- LuminanceAdjustmentYellow: +28
- LuminanceSmoothing: 0
- ParametricDarks: 0
- ParametricHighlightSplit: 75
- ParametricHighlights: 0
- ParametricLights: 0
- ParametricMidtoneSplit: 50
- ParametricShadowSplit: 25
- ParametricShadows: 0
- PerspectiveAspect: 0
- PerspectiveHorizontal: 0
- PerspectiveRotate: 0.0
- PerspectiveScale: 100
- PerspectiveUpright: 0
- PerspectiveVertical: 0
- PostCropVignetteAmount: 0
- ProcessVersion: 6.7
- RawFileName: IMG_5109.tif
- RedHue: 0
- RedSaturation: 0
- Saturation: -5
- SaturationAdjustmentAqua: +7
- SaturationAdjustmentBlue: +5
- SaturationAdjustmentGreen: -51
- SaturationAdjustmentMagenta: -39
- SaturationAdjustmentOrange: -9
- SaturationAdjustmentPurple: +9
- SaturationAdjustmentRed: -10
- SaturationAdjustmentYellow: -17
- ShadowTint: 0
- Shadows2012: +3
- SharpenDetail: 65
- SharpenEdgeMasking: 0
- SharpenRadius: +1.0
- Sharpness: 40
- SplitToningBalance: 0
- SplitToningHighlightHue: 0
- SplitToningHighlightSaturation: 0
- SplitToningShadowHue: 0
- SplitToningShadowSaturation: 0
- Tint: +5
- ToneCurve: 0, 0, 255, 255
- ToneCurveBlue: 0, 0, 255, 255
- ToneCurveGreen: 0, 0, 255, 255
- ToneCurveName: Linear
- ToneCurveName2012: Custom
- ToneCurvePV2012: 0, 0, 140, 159, 255, 255
- ToneCurvePV2012Blue: 0, 0, 255, 255
- ToneCurvePV2012Green: 0, 0, 255, 255
- ToneCurvePV2012Red: 0, 0, 255, 255
- ToneCurveRed: 0, 0, 255, 255
- Version: 9.0
- Vibrance: -10
- VignetteAmount: 0
- WhiteBalance: As Shot
- Whites2012: +26
- XMP-dc
- Creator: Alpatova
- Format: image/jpeg
- Rights: Alpatova
- XMP-xmp
- ModifyDate: 2017:09:25 17:13:31+03:00
- XMP-xmpMM
- Просмотров: 176
- Рейтинг: голосов еще нет
- Отзывов: 0