- Раздел: Активный отдых, туризм
- Дата съёмки: неизвестно
- Дата загрузки фото: 07.01.2018 22:52
- Оригинальная фотография: 1924 x 1466 (2,6 Мб)
- Технические характеристики:
- Фотоаппарат: Nikon D300S
- Выдержка: 2,0
- Гиперфокальное расстояние: inf m
- Диафрагма: 8,0
- Светочувствительность: 200
- Фокусное расстояние: 18,0 mm (35 mm equivalent: 18,0 mm)
- Полный EXIF
- Composite
- Aperture: 8,0
- CircleOfConfusion: 0,020 mm
- FOV: 90,0 deg
- FocalLength35efl: 18,0 mm (35 mm equivalent: 18,0 mm)
- HyperfocalDistance: inf m
- LensID: AF-S DX Nikkor 18-140mm f/3.5-5.6G ED VR
- LightValue: 4,0
- Megapixels: 2,8
- ScaleFactor35efl: 1,5
- ShutterSpeed: 2,0
- ExifIFD
- ApertureValue: 8,0
- CFAPattern: [Red,Green][Green,Blue]
- ColorSpace: Uncalibrated
- Contrast: Normal
- CreateDate: 2018:01:03 17:39:56
- CustomRendered: Normal
- DateTimeOriginal: 2018:01:03 17:39:56
- DigitalZoomRatio: 1
- ExifImageHeight: 1466
- ExifImageWidth: 1924
- ExposureCompensation: 0
- ExposureMode: Auto
- ExposureProgram: Aperture-priority AE
- ExposureTime: 2,0
- FNumber: 8,0
- Flash: No Flash
- FocalLength: 18,0 mm
- FocalLengthIn35mmFormat: 27 mm
- GainControl: None
- ISO: 200
- LensInfo: 18-140mm f/3.5-5.6
- LensModel: 18.0-140.0 mm f/3.5-5.6
- LightSource: Unknown
- MaxApertureValue: 2,8
- MeteringMode: Center-weighted average
- Saturation: Normal
- SceneCaptureType: Standard
- SceneType: Directly photographed
- SensingMethod: One-chip color area
- SerialNumber: 6103954
- Sharpness: Normal
- ShutterSpeedValue: 2,0
- SubjectDistanceRange: Unknown
- WhiteBalance: Auto
- ICC-header
- IFD0
- Make: NIKON CORPORATION
- Model: NIKON D300S
- ModifyDate: 2018:01:07 22:51:53
- Orientation: Horizontal (normal)
- Software: ACDSee Pro 5
- IFD1
- IPTC
- DateCreated: 2018:01:03
- System
- XMP-aux
- ApproximateFocusDistance: 4294967295
- DistortionCorrectionAlreadyApplied: True
- ImageNumber: 18750
- LateralChromaticAberrationCorrectionAlreadyApplied: True
- Lens: 18.0-140.0 mm f/3.5-5.6
- LensID: 160
- VignetteCorrectionAlreadyApplied: True
- XMP-crs
- AlreadyApplied: True
- AutoLateralCA: 1
- AutoWhiteVersion: 134348800
- Blacks2012: -61
- BlueHue: 0
- BlueSaturation: 0
- Clarity2012: +94
- ColorNoiseReduction: 25
- ColorNoiseReductionDetail: 50
- ColorNoiseReductionSmoothness: 50
- ColorTemperature: 6500
- Contrast2012: +17
- ConvertToGrayscale: False
- CropAngle: 0
- CropBottom: 1
- CropConstrainToWarp: 1
- CropLeft: 0.129338
- CropRight: 1
- CropTop: 0
- DefringeGreenAmount: 0
- DefringeGreenHueHi: 60
- DefringeGreenHueLo: 40
- DefringePurpleAmount: 0
- DefringePurpleHueHi: 70
- DefringePurpleHueLo: 30
- Dehaze: 0
- Exposure2012: +1.00
- GrainAmount: 0
- GreenHue: 0
- GreenSaturation: 0
- HasCrop: True
- HasSettings: True
- Highlights2012: -100
- HueAdjustmentAqua: 0
- HueAdjustmentBlue: 0
- HueAdjustmentGreen: 0
- HueAdjustmentMagenta: 0
- HueAdjustmentOrange: 0
- HueAdjustmentPurple: 0
- HueAdjustmentRed: 0
- HueAdjustmentYellow: 0
- LensManualDistortionAmount: 0
- LensProfileChromaticAberrationScale: 100
- LensProfileDistortionScale: 100
- LensProfileEnable: 1
- LensProfileFilename: NIKON D300 (Nikon AF-S DX NIKKOR 18-140mm f3.5-5.6G ED VR) - RAW.lcp
- LensProfileSetup: LensDefaults
- LensProfileVignettingScale: 100
- LuminanceAdjustmentAqua: 0
- LuminanceAdjustmentBlue: 0
- LuminanceAdjustmentGreen: 0
- LuminanceAdjustmentMagenta: 0
- LuminanceAdjustmentOrange: 0
- LuminanceAdjustmentPurple: 0
- LuminanceAdjustmentRed: 0
- LuminanceAdjustmentYellow: 0
- LuminanceSmoothing: 0
- ParametricDarks: +15
- ParametricHighlightSplit: 75
- ParametricHighlights: +28
- ParametricLights: +18
- ParametricMidtoneSplit: 50
- ParametricShadowSplit: 25
- ParametricShadows: 0
- PerspectiveAspect: 0
- PerspectiveHorizontal: 0
- PerspectiveRotate: 0.0
- PerspectiveScale: 100
- PerspectiveUpright: 0
- PerspectiveVertical: 0
- PostCropVignetteAmount: 0
- ProcessVersion: 6.7
- RawFileName: DSC_4778.NEF
- RedHue: 0
- RedSaturation: 0
- Saturation: 0
- SaturationAdjustmentAqua: 0
- SaturationAdjustmentBlue: 0
- SaturationAdjustmentGreen: 0
- SaturationAdjustmentMagenta: 0
- SaturationAdjustmentOrange: 0
- SaturationAdjustmentPurple: 0
- SaturationAdjustmentRed: 0
- SaturationAdjustmentYellow: 0
- ShadowTint: 0
- Shadows2012: +52
- SharpenDetail: 25
- SharpenEdgeMasking: 0
- SharpenRadius: +1.0
- Sharpness: 25
- SplitToningBalance: 0
- SplitToningHighlightHue: 0
- SplitToningHighlightSaturation: 0
- SplitToningShadowHue: 0
- SplitToningShadowSaturation: 0
- Tint: +10
- ToneCurve: 0, 0, 32, 22, 64, 56, 128, 128, 192, 196, 255, 255
- ToneCurveBlue: 0, 0, 255, 255
- ToneCurveGreen: 0, 0, 255, 255
- ToneCurveName: Medium Contrast
- ToneCurveName2012: Linear
- ToneCurvePV2012: 0, 0, 255, 255
- ToneCurvePV2012Blue: 0, 0, 255, 255
- ToneCurvePV2012Green: 0, 0, 255, 255
- ToneCurvePV2012Red: 0, 0, 255, 255
- ToneCurveRed: 0, 0, 255, 255
- ToneMapStrength: 0
- Version: 9.1.1
- Vibrance: 0
- VignetteAmount: 0
- WhiteBalance: Cloudy
- Whites2012: +18
- XMP-dc
- XMP-x
- XMP-xmp
- CreatorTool: Ver.1.01
- ModifyDate: 2018:01:07 21:23:53+03:00
- Rating: 0
- XMP-xmpMM
- Просмотров: 743
- Рейтинг: голосов еще нет
- Отзывов: отключены