Уважаемые друзья и участники проекта iXBT.photo! К сожалению, 1 марта 2026 года проект iXBT.photo прекратит свою работу и будет закрыт. Мы высоко ценим ваше участие и тот вклад, который вы внесли в развитие нашего сообщества. Пожалуйста, не забудьте сохранить ваши фотографии до этой даты.
С уважением, команда iXBT.com
| IMG37110.jpg |
IMG37110.jpg
- Раздел: Другое, разное
- Дата съёмки: 01.08.2008 15:07
- Дата загрузки фото: 13.02.2018 09:03
- Оригинальная фотография: 2268 x 1512 (575 Кб)
- Технические характеристики:
- Фотоаппарат: Sigma SD10
- Выдержка: 0,0
- Гиперфокальное расстояние: inf m
- Диафрагма: 29,0
- Светочувствительность: 100
- Фокусное расстояние: 200,0 mm (35 mm equivalent: 200,0 mm)
- Экспокоррекция: -3
- Полный EXIF
- Composite
- Aperture: 29,0
- CircleOfConfusion: 0,018 mm
- FOV: 10,0 deg
- FocalLength35efl: 200,0 mm (35 mm equivalent: 200,0 mm)
- HyperfocalDistance: inf m
- LensID: Unknown (145)
- Megapixels: 3,4
- ScaleFactor35efl: 1,7
- ShutterSpeed: 0,0
- ExifIFD
- ApertureValue: 22,6
- ColorSpace: Uncalibrated
- DateTimeOriginal: 2008:08:01 15:07:09
- ExifImageHeight: 1512
- ExifImageWidth: 2268
- ExposureCompensation: -3
- ExposureProgram: Program AE
- ExposureTime: 0,0
- FNumber: 29,0
- FocalLength: 200,0 mm
- FocalLengthIn35mmFormat: 340 mm
- ISO: 100
- MaxApertureValue: 5,7
- MeteringMode: Average
- ShutterSpeedValue: 1/2048
- ICC-header
- IFD0
- Make: SIGMA
- Model: SIGMA SD10
- ModifyDate: 2018:02:08 18:28:09
- Orientation: Horizontal (normal)
- Software: ACDSee Pro 7
- IPTC
- DateCreated: 2008:08:01
- ObjectName:
- System
- XMP-aux
- Firmware: 2.0.4.1642 Release
- Lens: 18.0-200.0 mm
- LensID: 145
- LensInfo: 18-200mm f/?
- SerialNumber: 02007005
- XMP-crs
- AlreadyApplied: True
- BlueHue: 0
- BlueSaturation: 0
- Brightness: +48
- CameraProfile: Embedded
- ChromaticAberrationB: 0
- ChromaticAberrationR: 0
- Clarity: 0
- ColorNoiseReduction: 0
- ColorTemperature: 5300
- Contrast: 0
- ConvertToGrayscale: False
- Defringe: 0
- Exposure: 0.00
- FillLight: 42
- GrainAmount: 0
- GreenHue: 0
- GreenSaturation: 0
- HasCrop: False
- HasSettings: True
- HighlightRecovery: 40
- HueAdjustmentAqua: 0
- HueAdjustmentBlue: 0
- HueAdjustmentGreen: 0
- HueAdjustmentMagenta: 0
- HueAdjustmentOrange: 0
- HueAdjustmentPurple: 0
- HueAdjustmentRed: 0
- HueAdjustmentYellow: 0
- LensManualDistortionAmount: 0
- LensProfileChromaticAberrationScale: 100
- LensProfileDistortionScale: 100
- LensProfileEnable: 1
- LensProfileFilename: Canon (Sigma_18-200mm_F3.5-6.3_DC ) - RAW.lcp
- LensProfileSetup: Custom
- LensProfileVignettingScale: 100
- LuminanceAdjustmentAqua: 0
- LuminanceAdjustmentBlue: 0
- LuminanceAdjustmentGreen: 0
- LuminanceAdjustmentMagenta: 0
- LuminanceAdjustmentOrange: 0
- LuminanceAdjustmentPurple: 0
- LuminanceAdjustmentRed: 0
- LuminanceAdjustmentYellow: 0
- LuminanceSmoothing: 0
- ParametricDarks: 0
- ParametricHighlightSplit: 75
- ParametricHighlights: 0
- ParametricLights: 0
- ParametricMidtoneSplit: 50
- ParametricShadowSplit: 25
- ParametricShadows: 0
- PerspectiveHorizontal: 0
- PerspectiveRotate: 0.0
- PerspectiveScale: 100
- PerspectiveVertical: 0
- PostCropVignetteAmount: 0
- ProcessVersion: 5.7
- RawFileName: IMG37110.X3F
- RedHue: 0
- RedSaturation: 0
- Saturation: 0
- SaturationAdjustmentAqua: 0
- SaturationAdjustmentBlue: 0
- SaturationAdjustmentGreen: 0
- SaturationAdjustmentMagenta: 0
- SaturationAdjustmentOrange: 0
- SaturationAdjustmentPurple: 0
- SaturationAdjustmentRed: 0
- SaturationAdjustmentYellow: 0
- ShadowTint: 0
- Shadows: 0
- SharpenDetail: 7
- SharpenEdgeMasking: 0
- SharpenRadius: +0.6
- Sharpness: 129
- SplitToningBalance: 0
- SplitToningHighlightHue: 0
- SplitToningHighlightSaturation: 0
- SplitToningShadowHue: 0
- SplitToningShadowSaturation: 0
- Tint: -10
- ToneCurve: 0, 0, 32, 22, 64, 56, 128, 128, 192, 196, 255, 255
- ToneCurveName: Medium Contrast
- Version: 6.5
- Vibrance: 0
- VignetteAmount: 0
- WhiteBalance: As Shot
- XMP-dc
- XMP-exif
- ApertureValue: 29,0
- DateTimeOriginal: 2008:08:01 15:07:09+3:00
- ExposureTime: 1/4000
- FocalLengthIn35mmFormat: 340
- MaxApertureValue: 6,3
- ShutterSpeedValue: 1/4000
- XMP-tiff
- XMP-x
- XMP-xmp
- CreateDate: 2008:08:01 15:07:09
- CreatorTool: 2.0.4.1642 Release
- ModifyDate: 2012:01:02 14:32:51+03:00
- Rating: 0
- XMP-xmpMM
- Просмотров: 175
- Рейтинг: голосов еще нет
- Отзывов: 0
Получить код для блога
| Вставка фотографии в текущем разрешении |
Вставка миниатюры |
HTML (для вставки в блог):
BBCode (для вставки в форум):
Ссылка на фото:
Ссылка на миниатюру:
- Послать ссылку другу
| Комментарии к фотографии |