Уважаемые друзья и участники проекта iXBT.photo! К сожалению, 1 марта 2026 года проект iXBT.photo прекратит свою работу и будет закрыт. Мы высоко ценим ваше участие и тот вклад, который вы внесли в развитие нашего сообщества. Пожалуйста, не забудьте сохранить ваши фотографии до этой даты.
С уважением, команда iXBT.com
| _MG_0789.jpg |
_MG_0789.jpg
- Раздел: Другое, разное
- Дата съёмки: неизвестно
- Дата загрузки фото: 14.05.2018 13:18
- Оригинальная фотография: 6000 x 4000 (8,8 Мб)
- Технические характеристики:
- Фотоаппарат: Canon EOS M50
- Выдержка: 0,0
- Гиперфокальное расстояние: inf m
- Диафрагма: 7,1
- Светочувствительность: 100
- Фокусное расстояние: 15,0 mm (35 mm equivalent: 15,0 mm)
- Полный EXIF
- Adobe
- ColorTransform: YCbCr
- Composite
- Aperture: 7,1
- CircleOfConfusion: 0,029 mm
- FOV: 100,0 deg
- FocalLength35efl: 15,0 mm (35 mm equivalent: 15,0 mm)
- HyperfocalDistance: inf m
- LensID: Canon EF-M 15-45mm f/3.5-6.3 IS STM
- Megapixels: 24,0
- ScaleFactor35efl: 1,0
- ShutterSpeed: 0,0
- ExifIFD
- ApertureValue: 5,7
- ColorSpace: Uncalibrated
- CreateDate: 2018:04:08 15:13:48
- CustomRendered: Normal
- DateTimeOriginal: 2018:04:08 15:13:48
- ExposureCompensation: 0
- ExposureMode: Auto
- ExposureProgram: Aperture-priority AE
- ExposureTime: 0,0
- FNumber: 7,1
- Flash: No Flash
- FocalLength: 15,0 mm
- ISO: 100
- LensInfo: 15-45mm f/?
- LensModel: EF-M15-45mm f/3.5-6.3 IS STM
- LensSerialNumber: 0000000000
- MaxApertureValue: 2,8
- MeteringMode: Partial
- RecommendedExposureIndex: 100
- SceneCaptureType: Standard
- SensitivityType: Recommended Exposure Index
- SerialNumber: 613040000374
- ShutterSpeedValue: 1/512
- WhiteBalance: Auto
- ICC-header
- IFD0
- Artist: Mikhail Rybakov
- Copyright: Mikhail Rybakov
- Make: Canon
- Model: Canon EOS M50
- ModifyDate: 2018:05:12 00:35:10
- IFD1
- IPTC
- By-line: Mikhail Rybakov
- CopyrightNotice: Mikhail Rybakov
- DateCreated: 2018:04:08
- System
- XMP-aux
- ApproximateFocusDistance: 4,29
- DistortionCorrectionAlreadyApplied: True
- Firmware: 1.0.0
- FlashCompensation: 0
- ImageNumber: 0
- LateralChromaticAberrationCorrectionAlreadyApplied: True
- Lens: EF-M15-45mm f/3.5-6.3 IS STM
- LensID: 4153
- VignetteCorrectionAlreadyApplied: True
- XMP-crs
- AlreadyApplied: True
- AutoLateralCA: 1
- Blacks2012: -14
- BlueHue: 0
- BlueSaturation: 0
- Clarity2012: 0
- ColorNoiseReduction: 25
- ColorNoiseReductionDetail: 50
- ColorNoiseReductionSmoothness: 50
- ColorTemperature: 5550
- Contrast2012: -11
- ConvertToGrayscale: False
- DefringeGreenAmount: 0
- DefringeGreenHueHi: 60
- DefringeGreenHueLo: 40
- DefringePurpleAmount: 0
- DefringePurpleHueHi: 70
- DefringePurpleHueLo: 30
- Dehaze: +26
- Exposure2012: +0.25
- GrainAmount: 0
- GreenHue: 0
- GreenSaturation: 0
- HasCrop: False
- HasSettings: True
- Highlights2012: -76
- HueAdjustmentAqua: 0
- HueAdjustmentBlue: 0
- HueAdjustmentGreen: 0
- HueAdjustmentMagenta: 0
- HueAdjustmentOrange: 0
- HueAdjustmentPurple: 0
- HueAdjustmentRed: 0
- HueAdjustmentYellow: 0
- LensManualDistortionAmount: 0
- LensProfileChromaticAberrationScale: 100
- LensProfileDistortionScale: 100
- LensProfileEnable: 1
- LensProfileFilename: Canon EOS M10 (Canon EF-M 15-45mm f3.5-6.3 IS STM) - RAW.lcp
- LensProfileSetup: LensDefaults
- LensProfileVignettingScale: 100
- LookAmount: 1.000000
- LookGroup: Profiles
- LookParametersConvertToGrayscale: False
- LookParametersLookTable: E1095149FDB39D7A057BAB208837E2E1
- LookParametersProcessVersion: 10.0
- LookParametersToneCurvePV2012: 0, 0, 22, 16, 40, 35, 127, 127, 224, 230, 240, 246, 255, 255
- LookParametersToneCurvePV2012Blue: 0, 0, 255, 255
- LookParametersToneCurvePV2012Green: 0, 0, 255, 255
- LookParametersToneCurvePV2012Red: 0, 0, 255, 255
- LookParametersVersion: 10.3
- LookSupportsAmount: false
- LookSupportsMonochrome: false
- LookSupportsOutputReferred: false
- LuminanceAdjustmentAqua: 0
- LuminanceAdjustmentBlue: 0
- LuminanceAdjustmentGreen: 0
- LuminanceAdjustmentMagenta: 0
- LuminanceAdjustmentOrange: 0
- LuminanceAdjustmentPurple: 0
- LuminanceAdjustmentRed: 0
- LuminanceAdjustmentYellow: 0
- LuminanceSmoothing: 0
- OverrideLookVignette: False
- ParametricDarks: 0
- ParametricHighlightSplit: 75
- ParametricHighlights: 0
- ParametricLights: 0
- ParametricMidtoneSplit: 50
- ParametricShadowSplit: 25
- ParametricShadows: 0
- PerspectiveAspect: 0
- PerspectiveHorizontal: 0
- PerspectiveRotate: 0.0
- PerspectiveScale: 108
- PerspectiveUpright: 4
- PerspectiveVertical: 0
- PerspectiveX: +3.00
- PerspectiveY: -6.00
- PostCropVignetteAmount: 0
- ProcessVersion: 10.0
- RawFileName: _MG_0789.CR3
- RedHue: 0
- RedSaturation: 0
- Saturation: +11
- SaturationAdjustmentAqua: 0
- SaturationAdjustmentBlue: 0
- SaturationAdjustmentGreen: 0
- SaturationAdjustmentMagenta: 0
- SaturationAdjustmentOrange: 0
- SaturationAdjustmentPurple: 0
- SaturationAdjustmentRed: 0
- SaturationAdjustmentYellow: 0
- ShadowTint: 0
- Shadows2012: +53
- SharpenDetail: 25
- SharpenEdgeMasking: 0
- SharpenRadius: +1.0
- Sharpness: 40
- SplitToningBalance: 0
- SplitToningHighlightHue: 0
- SplitToningHighlightSaturation: 0
- SplitToningShadowHue: 0
- SplitToningShadowSaturation: 0
- Tint: +2
- ToneCurve: 0, 0, 32, 22, 64, 56, 128, 128, 192, 196, 255, 255
- ToneCurveBlue: 0, 0, 255, 255
- ToneCurveGreen: 0, 0, 255, 255
- ToneCurveName: Medium Contrast
- ToneCurveName2012: Linear
- ToneCurvePV2012: 0, 0, 255, 255
- ToneCurvePV2012Blue: 0, 0, 255, 255
- ToneCurvePV2012Green: 0, 0, 255, 255
- ToneCurvePV2012Red: 0, 0, 255, 255
- ToneCurveRed: 0, 0, 255, 255
- ToneMapStrength: 0
- Version: 10.3
- Vibrance: +12
- VignetteAmount: 0
- WhiteBalance: As Shot
- Whites2012: +15
- XMP-dc
- Creator: Mikhail Rybakov
- Format: image/jpeg
- Rights: Mikhail Rybakov
- XMP-exifEX
- XMP-xmp
- CreateDate: 2018:04:08 15:13:48.52
- ModifyDate: 2018:05:12 00:35:10+03:00
- XMP-xmpMM
- Просмотров: 358
- Рейтинг: голосов еще нет
- Отзывов: отключены
Получить код для блога
| Вставка фотографии в текущем разрешении |
Вставка миниатюры |
HTML (для вставки в блог):
BBCode (для вставки в форум):
Ссылка на фото:
Ссылка на миниатюру:
- Послать ссылку другу
| Комментарии к фотографии |