- Раздел: Портрет
- Дата съёмки: 29.08.2007 12:41
- Дата загрузки фото: 29.08.2007 19:15
- Оригинальная фотография: 800 x 600 (434 Кб)
- Технические характеристики:
- Фотоаппарат: FujiFilm FinePix S6500fd
- Выдержка: 1/140
- Гиперфокальное расстояние: 21,63 m
- Диафрагма: 5,0
- Светочувствительность: 200
- Фокусное расстояние: 19,0mm (35mm эквивалент: 171,0mm)
- Полный EXIF
- ColorTransform: YCbCr
- Composite
- Aperture: 5,0
- CircleOfConfusion: 0,003 mm
- EV: 10,8
- FocalLength35efl: 19,0mm (35mm equivalent: 171,0mm)
- HyperfocalDistance: 21,63 m
- ScaleFactor35efl: 9,0
- ShutterSpeed: 1/140
- ExifIFD
- ApertureValue: 5,0
- BrightnessValue: 5,94
- CreateDate: 2007:08:29 12:41:56
- CustomRendered: Normal
- DateTimeOriginal: 2007:08:29 12:41:56
- ExposureCompensation: 0
- ExposureMode: Auto
- ExposureProgram: Aperture-priority AE
- ExposureTime: 1/140
- FNumber: 5,0
- Flash: Off
- FocalLength: 19,0mm
- ISO: 200
- LightSource: Unknown (0)
- MaxApertureValue: 2,8
- MeteringMode: Average
- SceneCaptureType: Standard
- SceneType: Directly photographed
- SensingMethod: One-chip color area
- Sharpness: Hard
- ShutterSpeedValue: 1/140
- WhiteBalance: Auto
- ICC-header
- ICC-meas
- ICC-view
- IFD0
- Make: FUJIFILM
- Model: FinePix S6500fd
- ModifyDate: 2007:08:29 17:19:23
- Software: Digital Camera FinePix S6500fd Ver1.00
- TimeZoneOffset: 3 3
- XMP-crs
- AlreadyApplied: True
- BlueHue: 0
- BlueSaturation: 0
- Brightness: +51
- CameraProfile: ACR 3.6
- ChromaticAberrationB: 0
- ChromaticAberrationR: +13
- Clarity: 73
- ColorNoiseReduction: 26
- Contrast: +42
- ConvertToGrayscale: False
- Defringe: 0
- Exposure: +0.16
- FillLight: 0
- GreenHue: 0
- GreenSaturation: 0
- HasCrop: False
- HasSettings: True
- HighlightRecovery: 0
- HueAdjustmentAqua: 0
- HueAdjustmentBlue: 0
- HueAdjustmentGreen: 0
- HueAdjustmentMagenta: 0
- HueAdjustmentOrange: 0
- HueAdjustmentPurple: 0
- HueAdjustmentRed: 0
- HueAdjustmentYellow: 0
- LuminanceAdjustmentAqua: 0
- LuminanceAdjustmentBlue: 0
- LuminanceAdjustmentGreen: 0
- LuminanceAdjustmentMagenta: 0
- LuminanceAdjustmentOrange: 0
- LuminanceAdjustmentPurple: 0
- LuminanceAdjustmentRed: 0
- LuminanceAdjustmentYellow: 0
- LuminanceSmoothing: 6
- ParametricDarks: 0
- ParametricHighlightSplit: 75
- ParametricHighlights: 0
- ParametricLights: 0
- ParametricMidtoneSplit: 50
- ParametricShadowSplit: 25
- ParametricShadows: 0
- RedHue: 0
- RedSaturation: 0
- Saturation: +32
- SaturationAdjustmentAqua: 0
- SaturationAdjustmentBlue: 0
- SaturationAdjustmentGreen: 0
- SaturationAdjustmentMagenta: 0
- SaturationAdjustmentOrange: 0
- SaturationAdjustmentPurple: 0
- SaturationAdjustmentRed: 0
- SaturationAdjustmentYellow: 0
- ShadowTint: 0
- Shadows: 0
- SharpenDetail: 13
- SharpenEdgeMasking: 22
- SharpenRadius: +0.5
- Sharpness: 56
- SplitToningBalance: 0
- SplitToningHighlightHue: 0
- SplitToningHighlightSaturation: 0
- SplitToningShadowHue: 0
- SplitToningShadowSaturation: 0
- Temperature: 4750
- Tint: +9
- ToneCurve: 0, 0, 32, 22, 64, 56, 128, 128, 192, 196, 255, 255
- ToneCurveName: Medium Contrast
- Version: 1.0
- Vibrance: +1
- VignetteAmount: -100
- VignetteMidpoint: 23
- WhiteBalance: Custom
- XMP-exif
- DateTimeDigitized: 2007:08:29 12:41:56+03:00
- DateTimeOriginal: 2007:08:29 12:41:56+03:00
- FlashFired: False
- FlashFunction: False
- FlashMode: Off
- FlashRedEyeMode: False
- FlashReturn: No return detection
- SubjectDistanceRange: Unknown
- XMP-tiff
- ImageHeight: 600
- ImageWidth: 800
- XMP-xmp
- ModifyDate: 2007:08:29 17:19:23+03:00
- Просмотров: 2666
- Рейтинг: голосов еще нет
- Отзывов: 0