| » Участники » *KAI* » Всё подряд » IMG_6883й.jpg |
Уважаемые друзья и участники проекта iXBT.photo! К сожалению, 1 марта 2026 года проект iXBT.photo прекратит свою работу и будет закрыт. Мы высоко ценим ваше участие и тот вклад, который вы внесли в развитие нашего сообщества. Пожалуйста, не забудьте сохранить ваши фотографии до этой даты.
С уважением, команда iXBT.com
| IMG_6883й.jpg |
IMG_6883й.jpg
- Раздел: Другое, разное
- Дата съёмки: неизвестно
- Дата загрузки фото: 25.01.2019 14:07
- Оригинальная фотография: 1434 x 2151 (3,1 Мб)
- Технические характеристики:
- Фотоаппарат: Canon EOS 5D
- Выдержка: 0,0
- Гиперфокальное расстояние: inf m
- Диафрагма: 6,3
- Светочувствительность: 100
- Фокусное расстояние: 20,0 mm (35 mm equivalent: 20,0 mm)
- Полный EXIF
- Adobe
- ColorTransform: YCbCr
- Composite
- Aperture: 6,3
- CircleOfConfusion: 0,030 mm
- FOV: 83,0 deg
- FocalLength35efl: 20,0 mm (35 mm equivalent: 20,0 mm)
- HyperfocalDistance: inf m
- LensID: Canon EF 20-35mm f/3.5-4.5 USM or Tamron or Tokina Lens
- Megapixels: 3,1
- ScaleFactor35efl: 1,0
- ShutterSpeed: 0,0
- ExifIFD
- ApertureValue: 5,7
- ColorSpace: sRGB
- CreateDate: 2018:12:31 13:17:57
- CustomRendered: Normal
- DateTimeOriginal: 2018:12:31 13:17:57
- ExifImageHeight: 2151
- ExifImageWidth: 1434
- ExposureCompensation: 0
- ExposureMode: Auto
- ExposureProgram: Aperture-priority AE
- ExposureTime: 0,0
- FNumber: 6,3
- Flash: Off, Did not fire
- FocalLength: 20,0 mm
- ISO: 100
- LensInfo: 20-35mm f/?
- LensModel: EF20-35mm f/3.5-4.5 USM
- MaxApertureValue: 2,8
- MeteringMode: Unknown
- SceneCaptureType: Standard
- SerialNumber: 930604573
- ShutterSpeedValue: 1/64
- WhiteBalance: Auto
- ICC-header
- ICC-meas
- ICC-view
- IFD0
- Make: Canon
- Model: Canon EOS 5D
- ModifyDate: 2019:01:25 15:44:41
- Orientation: Horizontal (normal)
- IFD1
- IPTC
- DateCreated: 2018:12:31
- System
- XMP-aux
- Firmware: 1.1.1
- FlashCompensation: 0
- ImageNumber: 15
- LateralChromaticAberrationCorrectionAlreadyApplied: True
- Lens: EF20-35mm f/3.5-4.5 USM
- LensID: 160
- XMP-crs
- AlreadyApplied: True
- AutoLateralCA: 1
- Blacks2012: -19
- BlueHue: 0
- BlueSaturation: 0
- CameraProfile: Camera Standard
- Clarity2012: 0
- ColorNoiseReduction: 27
- ColorNoiseReductionDetail: 50
- ColorNoiseReductionSmoothness: 50
- ColorTemperature: 5300
- Contrast2012: -2
- ConvertToGrayscale: False
- DefringeGreenAmount: 0
- DefringeGreenHueHi: 60
- DefringeGreenHueLo: 40
- DefringePurpleAmount: 0
- DefringePurpleHueHi: 70
- DefringePurpleHueLo: 30
- Dehaze: 0
- Exposure2012: +0.30
- GrainAmount: 0
- GreenHue: 0
- GreenSaturation: 0
- HasCrop: False
- HasSettings: True
- Highlights2012: -74
- HueAdjustmentAqua: 0
- HueAdjustmentBlue: 0
- HueAdjustmentGreen: 0
- HueAdjustmentMagenta: 0
- HueAdjustmentOrange: 0
- HueAdjustmentPurple: 0
- HueAdjustmentRed: 0
- HueAdjustmentYellow: 0
- LensManualDistortionAmount: 0
- LensProfileEnable: 1
- LensProfileSetup: LensDefaults
- LuminanceAdjustmentAqua: 0
- LuminanceAdjustmentBlue: 0
- LuminanceAdjustmentGreen: 0
- LuminanceAdjustmentMagenta: 0
- LuminanceAdjustmentOrange: 0
- LuminanceAdjustmentPurple: 0
- LuminanceAdjustmentRed: 0
- LuminanceAdjustmentYellow: 0
- LuminanceNoiseReductionContrast: 0
- LuminanceNoiseReductionDetail: 50
- LuminanceSmoothing: 20
- OverrideLookVignette: False
- ParametricDarks: 0
- ParametricHighlightSplit: 75
- ParametricHighlights: 0
- ParametricLights: 0
- ParametricMidtoneSplit: 50
- ParametricShadowSplit: 25
- ParametricShadows: 0
- PerspectiveAspect: 0
- PerspectiveHorizontal: 0
- PerspectiveRotate: 0.0
- PerspectiveScale: 100
- PerspectiveUpright: 1
- PerspectiveVertical: 0
- PerspectiveX: 0.00
- PerspectiveY: 0.00
- PostCropVignetteAmount: 0
- ProcessVersion: 10.0
- RawFileName: IMG_6883.CR2
- RedHue: 0
- RedSaturation: 0
- Saturation: +4
- SaturationAdjustmentAqua: 0
- SaturationAdjustmentBlue: 0
- SaturationAdjustmentGreen: 0
- SaturationAdjustmentMagenta: 0
- SaturationAdjustmentOrange: 0
- SaturationAdjustmentPurple: 0
- SaturationAdjustmentRed: 0
- SaturationAdjustmentYellow: 0
- ShadowTint: 0
- Shadows2012: +56
- SharpenDetail: 25
- SharpenEdgeMasking: 16
- SharpenRadius: +1.0
- Sharpness: 19
- SplitToningBalance: 0
- SplitToningHighlightHue: 0
- SplitToningHighlightSaturation: 0
- SplitToningShadowHue: 0
- SplitToningShadowSaturation: 0
- Tint: -5
- ToneCurve: 0, 0, 255, 255
- ToneCurveBlue: 0, 0, 255, 255
- ToneCurveGreen: 0, 0, 255, 255
- ToneCurveName: Linear
- ToneCurveName2012: Linear
- ToneCurvePV2012: 0, 0, 255, 255
- ToneCurvePV2012Blue: 0, 0, 255, 255
- ToneCurvePV2012Green: 0, 0, 255, 255
- ToneCurvePV2012Red: 0, 0, 255, 255
- ToneCurveRed: 0, 0, 255, 255
- ToneMapStrength: 0
- Version: 10.5
- Vibrance: +18
- VignetteAmount: 0
- WhiteBalance: As Shot
- Whites2012: +19
- XMP-dc
- XMP-exifEX
- XMP-xmp
- ModifyDate: 2019:01:25 15:44:41+05:00
- Rating: 0
- XMP-xmpMM
- Просмотров: 240
- Рейтинг: голосов еще нет
- Отзывов: 0
Получить код для блога
| Вставка фотографии в текущем разрешении |
Вставка миниатюры |
HTML (для вставки в блог):
BBCode (для вставки в форум):
Ссылка на фото:
Ссылка на миниатюру:
- Послать ссылку другу
| Комментарии к фотографии |