| » Участники » DF77 » Там... » GG4J1350.jpg |
Уважаемые друзья и участники проекта iXBT.photo! К сожалению, 1 марта 2026 года проект iXBT.photo прекратит свою работу и будет закрыт. Мы высоко ценим ваше участие и тот вклад, который вы внесли в развитие нашего сообщества. Пожалуйста, не забудьте сохранить ваши фотографии до этой даты.
С уважением, команда iXBT.com
| GG4J1350.jpg |
GG4J1350.jpg
- Раздел: Путешествия
- Дата съёмки: 21.08.2007 11:40
- Дата загрузки фото: 09.09.2007 15:37
- Оригинальная фотография: 3000 x 4500 (2,8 Мб)
- Технические характеристики:
- Фотоаппарат: Kodak DCS Pro SLR/n
- Выдержка: 1/20
- Диафрагма: 8,0
- Светочувствительность: 160
- Фокусное расстояние: 24,0mm
- Экспокоррекция: -1/2
- Полный EXIF
- ColorTransform: YCbCr
- Composite
- Aperture: 8,0
- EV: 9,6
- FocalLength35efl: 24,0mm
- ShutterSpeed: 1/20
- ExifIFD
- ApertureValue: 8,0
- DateTimeOriginal: 2007:08:21 11:40:15
- ExposureCompensation: -1/2
- ExposureIndex: 160
- ExposureProgram: Aperture-priority AE
- ExposureTime: 1/20
- FNumber: 8,0
- Flash: No Flash
- FocalLength: 24,0mm
- ISO: 160
- LightSource: Unknown (0)
- MaxApertureValue: 3,4
- MeteringMode: Multi-spot
- SensingMethod: One-chip color area
- ShutterSpeedValue: 1/20
- ICC-header
- ICC-meas
- ICC-view
- IFD0
- Make: Kodak
- Model: DCS Pro SLR/n
- ModifyDate: 2007:09:01 10:08:25
- Software: 5.4.9
- XMP-aux
- ImageNumber: 1350
- SerialNumber: PSLRN-21042
- XMP-crs
- AlreadyApplied: True
- BlueHue: 0
- BlueSaturation: 0
- Brightness: +49
- CameraProfile: ACR 2.4
- ChromaticAberrationB: 0
- ChromaticAberrationR: 0
- ColorNoiseReduction: 25
- Contrast: +23
- ConvertToGrayscale: False
- Exposure: +0.40
- FillLight: 0
- GreenHue: 0
- GreenSaturation: 0
- HasCrop: False
- HasSettings: True
- HighlightRecovery: 33
- HueAdjustmentAqua: 0
- HueAdjustmentBlue: 0
- HueAdjustmentGreen: 0
- HueAdjustmentMagenta: 0
- HueAdjustmentOrange: 0
- HueAdjustmentPurple: 0
- HueAdjustmentRed: 0
- HueAdjustmentYellow: 0
- LuminanceAdjustmentAqua: 0
- LuminanceAdjustmentBlue: 0
- LuminanceAdjustmentGreen: 0
- LuminanceAdjustmentMagenta: 0
- LuminanceAdjustmentOrange: 0
- LuminanceAdjustmentPurple: 0
- LuminanceAdjustmentRed: 0
- LuminanceAdjustmentYellow: 0
- LuminanceSmoothing: 0
- ParametricDarks: 0
- ParametricHighlightSplit: 75
- ParametricHighlights: 0
- ParametricLights: 0
- ParametricMidtoneSplit: 50
- ParametricShadowSplit: 25
- ParametricShadows: 0
- RedHue: 0
- RedSaturation: 0
- Saturation: 0
- SaturationAdjustmentAqua: 0
- SaturationAdjustmentBlue: 0
- SaturationAdjustmentGreen: 0
- SaturationAdjustmentMagenta: 0
- SaturationAdjustmentOrange: 0
- SaturationAdjustmentPurple: 0
- SaturationAdjustmentRed: 0
- SaturationAdjustmentYellow: 0
- ShadowTint: 0
- Shadows: 5
- Sharpness: 48
- SplitToningBalance: 0
- SplitToningHighlightHue: 0
- SplitToningHighlightSaturation: 0
- SplitToningShadowHue: 0
- SplitToningShadowSaturation: 0
- Temperature: 3750
- Tint: 0
- ToneCurve: 0, 0, 32, 22, 64, 56, 128, 128, 192, 196, 255, 255
- ToneCurveName: Medium Contrast
- Version: 1.0
- Vibrance: 0
- VignetteAmount: 0
- WhiteBalance: Auto
- XMP-exif
- DateTimeOriginal: 2007:08:21 11:40:15+04:00
- FlashFired: False
- XMP-tiff
- ImageHeight: 4500
- ImageWidth: 3000
- XMP-xmp
- ModifyDate: 2007:09:01 10:08:25+04:00
- Просмотров: 473
- Рейтинг: голосов еще нет
- Отзывов: 0
Получить код для блога
| Вставка фотографии в текущем разрешении |
Вставка миниатюры |
HTML (для вставки в блог):
BBCode (для вставки в форум):
Ссылка на фото:
Ссылка на миниатюру:
- Послать ссылку другу
| Комментарии к фотографии |