Уважаемые друзья и участники проекта iXBT.photo! К сожалению, 1 марта 2026 года проект iXBT.photo прекратит свою работу и будет закрыт. Мы высоко ценим ваше участие и тот вклад, который вы внесли в развитие нашего сообщества. Пожалуйста, не забудьте сохранить ваши фотографии до этой даты.
С уважением, команда iXBT.com
| IMG_0206_DxO.jpg |
IMG_0206_DxO.jpg
- Раздел: Другое, разное
- Дата съёмки: неизвестно
- Дата загрузки фото: 16.11.2020 20:08
- Оригинальная фотография: 6240 x 4160 (24,1 Мб)
- Технические характеристики:
- Фотоаппарат: Canon EOS RP
- Выдержка: 61,2
- Гиперфокальное расстояние: inf m
- Диафрагма: 13,0
- Светочувствительность: 160
- Фокусное расстояние: 24,0 mm (35 mm equivalent: 24,0 mm)
- Полный EXIF
- Canon
- AEBBracketValue: 0
- AFAreaHeights: 481 0 0 0 0 0 0 0 0 0 0 0 0 0 0 0 0 0 0 0 0 0 0 0 0 0 0 0 0 0 0 0 0 0 0 0 0 0 0 0 0 0 0 0 0 0 0 0 0 0 0 0 0 0 0 0 0 0 0 0 0 0 0 0 0 0 0 0 0 0 0 0 0 0 0 0 0 0 0 0 0 0 0 0 0 0 0 0 0 0 0 0 0 0 0 0 0 0 0 0 0 0 0 0 0 0 0 0 0 0 0 0 0 0 0 0 0 0 0 0 0 0 0 0 0 0 0 0 0 0 0 0 0 0 0 0 0 0 0 0 0 0 0
- AFAreaMode: Off (Manual Focus)
- AFAreaWidths: 480 0 0 0 0 0 0 0 0 0 0 0 0 0 0 0 0 0 0 0 0 0 0 0 0 0 0 0 0 0 0 0 0 0 0 0 0 0 0 0 0 0 0 0 0 0 0 0 0 0 0 0 0 0 0 0 0 0 0 0 0 0 0 0 0 0 0 0 0 0 0 0 0 0 0 0 0 0 0 0 0 0 0 0 0 0 0 0 0 0 0 0 0 0 0 0 0 0 0 0 0 0 0 0 0 0 0 0 0 0 0 0 0 0 0 0 0 0 0 0 0 0 0 0 0 0 0 0 0 0 0 0 0 0 0 0 0 0 0 0 0 0 0
- AFAreaXPositions: -1568 0 0 0 0 0 0 0 0 0 0 0 0 0 0 0 0 0 0 0 0 0 0 0 0 0 0 0 0 0 0 0 0 0 0 0 0 0 0 0 0 0 0 0 0 0 0 0 0 0 0 0 0 0 0 0 0 0 0 0 0 0 0 0 0 0 0 0 0 0 0 0 0 0 0 0 0 0 0 0 0 0 0 0 0 0 0 0 0 0 0 0 0 0 0 0 0 0 0 0 0 0 0 0 0 0 0 0 0 0 0 0 0 0 0 0 0 0 0 0 0 0 0 0 0 0 0 0 0 0 0 0 0 0 0 0 0 0 0 0 0 0 0
- AFAreaYPositions: 1066 0 0 0 0 0 0 0 0 0 0 0 0 0 0 0 0 0 0 0 0 0 0 0 0 0 0 0 0 0 0 0 0 0 0 0 0 0 0 0 0 0 0 0 0 0 0 0 0 0 0 0 0 0 0 0 0 0 0 0 0 0 0 0 0 0 0 0 0 0 0 0 0 0 0 0 0 0 0 0 0 0 0 0 0 0 0 0 0 0 0 0 0 0 0 0 0 0 0 0 0 0 0 0 0 0 0 0 0 0 0 0 0 0 0 0 0 0 0 0 0 0 0 0 0 0 0 0 0 0 0 0 0 0 0 0 0 0 0 0 0 0 0
- AFImageHeight: 4160
- AFImageWidth: 6240
- AFMicroAdjMode: Disable
- AFMicroAdjValue: 0
- AFPointsInFocus: (none)
- AFPointsSelected: 0
- AmbienceSelection: Standard
- AspectRatio: 3:2
- AutoExposureBracketing: Off
- AutoISO: 100
- AutoLightingOptimizer: Off
- AutoRotate: None
- BaseISO: 154
- BlackMaskBottomBorder: 0
- BlackMaskLeftBorder: 0
- BlackMaskRightBorder: 0
- BlackMaskTopBorder: 0
- BracketMode: Off
- BracketShotNumber: 0
- BracketValue: 0
- BulbDuration: 61,2
- CameraTemperature: 31 C
- CameraType: EOS High-end
- CanonExposureMode: Bulb
- CanonFirmwareVersion: Firmware Version 1.5.0
- CanonFlashMode: Off
- CanonImageHeight: 4160
- CanonImageType: Canon EOS RP
- CanonImageWidth: 6240
- CanonModelID: Unknown (0x80000433)
- ChromaticAberrationSetting: On
- ColorDataVersion: 18
- ColorTone: Normal
- ContinuousDrive: Single
- Contrast: Normal
- ControlMode: Unknown (8)
- CropBottomMargin: 0
- CropLeftMargin: 0
- CropRightMargin: 0
- CropTopMargin: 0
- CroppedImageHeight: 4160
- CroppedImageLeft: 0
- CroppedImageTop: 0
- CroppedImageWidth: 6240
- CustomPictureStyleFileName:
- DaylightSavings: Off
- DigitalZoom: None
- EasyMode: Manual
- ExposureCompensation: 0
- ExposureTime: 2048,0
- FNumber: 12
- FlashActivity: 0
- FlashBits: E-TTL
- FlashExposureComp: 0
- FlashExposureLock: Off
- FlashGuideNumber: 0
- FocalLength: 24 mm
- FocalUnits: 1/mm
- FocusContinuous: Continuous
- FocusDistanceLower: 4,73 m
- FocusDistanceUpper: 5,9 m
- FocusMode: Manual Focus (3)
- FocusRange: Auto
- HDR: Off
- HDREffect: Natural
- HighISONoiseReduction: Low
- HighlightTonePriority: Off
- ImageStabilization: On (2)
- InternalSerialNumber: VK0039032
- LensModel: RF24-105mm F4 L IS USM
- LensSerialNumber: 6903004736
- LensType: Unknown (61182)
- LiveViewShooting: On
- LongExposureNoiseReduction: Off
- MacroMode: Normal
- ManualFlashOutput: n/a
- MaxAperture: 4,2
- MaxFocalLength: 105 mm
- MeasuredEV: 1,38
- MeasuredEV2: 0,75
- MeasuredRGGB: 555 1024 1024 605
- MeteringMode: Evaluative
- MinAperture: 23
- MinFocalLength: 24 mm
- MultiExposure: Off
- MultiExposureControl: Additive
- MultiExposureShots: 0
- NDFilter: Off
- NumAFPoints: 143
- OpticalZoomCode: n/a
- OwnerName:
- PeripheralIlluminationCorr: Off
- PeripheralLightingSetting: On
- PictureStylePC: None; None; None
- PictureStyleUserDef: Auto; Auto; Auto
- Quality: Fine
- RawJpgSize: Large
- RecordMode: Unknown (13)
- SRAWQuality: n/a
- Saturation: Normal
- SelfTimer: Off
- SensorBottomBorder: 4215
- SensorHeight: 4224
- SensorLeftBorder: 132
- SensorRightBorder: 6371
- SensorTopBorder: 56
- SensorWidth: 6384
- SequenceNumber: 0
- SlowShutter: None
- TargetAperture: 13
- TargetExposureTime: 1,0
- TimeZone: +01:00
- TimeZoneCity: Paris
- VRDOffset: 0
- ValidAFPoints: 1
- WBBracketMode: Off
- WBBracketValueAB: 0
- WBBracketValueGM: 0
- WhiteBalance: Auto
- ZoomSourceWidth: 0
- ZoomTargetWidth: 0
- CanonCustom
- AEBAutoCancel: On
- AEBSequence: 0,-,+
- AEBShotCount: 7 shots
- AIServoTrackingMethod: Main focus point priority
- AIServoTrackingSensitivity: Standard
- AccelerationTracking: 0
- CustomControls: 19 0 81 0 0 255 255 255 3 0 0 255 255 255 18 0 4 0 53 0 25 0 37 0 13 0 14 2 14 2 29 0 29 0 5 0 5 0 5 0 5 0 23 0 0 0 0 0 90 0 29 0 29 0 29 0 88 0 103 0 39 0 105 0 53 0 65535 0 3 5376 3840 0 0 0 0 0 0 0 0 0 0 0 5200 0 0 0 0 0 0 0 0 0 0 7 3 4 31 1 2 3 4 5 1
- DialDirectionTvAv: Normal
- ExposureLevelIncrements: 1/3 Stop
- ISOSpeedIncrements: 1/3 Stop
- InitialAFPointAIServoAF: Auto
- LensDriveNoAF: Focus search on
- OrientationLinkedAFPoint: Same for vertical and horizontal
- RetractLensOnPowerOff: Enable
- SafetyShift: Disable
- SelectAFAreaSelectMode: Unknown (1142); Flags 0x476
- ShutterReleaseWithoutLens: Disable
- Composite
- Aperture: 13,0
- CircleOfConfusion: 0,030 mm
- ConditionalFEC: 0
- DOF: inf (0,00 m - inf)
- DriveMode: Single-frame Shooting
- FOV: 73,0 deg
- Flash: No Flash
- FlashType: Built-In Flash
- FocalLength35efl: 24,0 mm (35 mm equivalent: 24,0 mm)
- HyperfocalDistance: inf m
- ISO: 154
- Lens: 24,0 - 105,0 mm
- Lens35efl: 24,0 - 105,0 mm (35 mm equivalent: 24,0 - 105,2 mm)
- LensID: Canon RF24-105mm F4 L IS USM
- LightValue: 0,8
- Megapixels: 26,0
- RedEyeReduction: Off
- ScaleFactor35efl: 1,0
- ShootingMode: Bulb
- ShutterCurtainHack: 1st-curtain sync
- ShutterSpeed: 61,2
- ExifIFD
- ApertureValue: 11,3
- ColorSpace: sRGB
- CreateDate: 2020:11:16 16:46:32
- CustomRendered: Normal
- DateTimeOriginal: 2020:11:16 16:46:32
- ExifImageHeight: 4160
- ExifImageWidth: 6240
- ExposureMode: Auto
- ExposureProgram: Bulb
- ExposureTime: 61,0
- FNumber: 13,0
- FocalLength: 24,0 mm
- ISO: 160
- LensInfo: 24-105mm f/0
- MeteringMode: Multi-segment
- RecommendedExposureIndex: 160
- SceneCaptureType: Standard
- SensitivityType: Recommended Exposure Index
- SerialNumber: 033022000048
- ShutterSpeedValue: 0,0
- SubjectDistance: 5,9 m
- UserComment:
- GPS
- IFD0
- Artist:
- Copyright:
- Make: Canon
- Model: Canon EOS RP
- ModifyDate: 2020:11:16 16:46:32
- Orientation: Horizontal (normal)
- Rating: 1
- Software: DxO PhotoLab 4.0.1
- IFD1
- System
- XMP-aux
- ApproximateFocusDistance: 5,23
- Firmware: 1.5.0
- FlashCompensation: 0
- ImageNumber: 0
- Lens: RF24-105mm F4 L IS USM
- LensID: 61182
- LensInfo: 24-105mm f/?
- XMP-crd
- CameraProfile: Camera Neutral
- LookName:
- XMP-crs
- AlreadyApplied: True
- AutoLateralCA: 1
- Blacks2012: -30
- BlueHue: 0
- BlueSaturation: 0
- CameraProfile: Canon EOS RP Camera Landscape
- Clarity2012: 0
- ColorGradeBlending: 50
- ColorGradeGlobalHue: 0
- ColorGradeGlobalLum: 0
- ColorGradeGlobalSat: 0
- ColorGradeHighlightLum: 0
- ColorGradeMidtoneHue: 0
- ColorGradeMidtoneLum: 0
- ColorGradeMidtoneSat: 0
- ColorGradeShadowLum: 0
- ColorNoiseReduction: 25
- ColorNoiseReductionDetail: 50
- ColorNoiseReductionSmoothness: 50
- ColorTemperature: 5050
- Contrast2012: +34
- ConvertToGrayscale: False
- DefringeGreenAmount: 3
- DefringeGreenHueHi: 67
- DefringeGreenHueLo: 33
- DefringePurpleAmount: 3
- DefringePurpleHueHi: 70
- DefringePurpleHueLo: 30
- Dehaze: +16
- Exposure2012: +1.50
- GrainAmount: 0
- GreenHue: 0
- GreenSaturation: 0
- HasCrop: False
- HasSettings: True
- Highlights2012: -100
- HueAdjustmentAqua: 0
- HueAdjustmentBlue: 0
- HueAdjustmentGreen: 0
- HueAdjustmentMagenta: 0
- HueAdjustmentOrange: 0
- HueAdjustmentPurple: 0
- HueAdjustmentRed: 0
- HueAdjustmentYellow: 0
- LensManualDistortionAmount: 0
- LensProfileEnable: 0
- LuminanceAdjustmentAqua: 0
- LuminanceAdjustmentBlue: 0
- LuminanceAdjustmentGreen: 0
- LuminanceAdjustmentMagenta: 0
- LuminanceAdjustmentOrange: 0
- LuminanceAdjustmentPurple: 0
- LuminanceAdjustmentRed: 0
- LuminanceAdjustmentYellow: 0
- LuminanceSmoothing: 0
- OverrideLookVignette: False
- ParametricDarks: 0
- ParametricHighlightSplit: 75
- ParametricHighlights: 0
- ParametricLights: 0
- ParametricMidtoneSplit: 50
- ParametricShadowSplit: 25
- ParametricShadows: 0
- PerspectiveAspect: 0
- PerspectiveHorizontal: 0
- PerspectiveRotate: 0.0
- PerspectiveScale: 100
- PerspectiveUpright: 0
- PerspectiveVertical: 0
- PerspectiveX: 0.00
- PerspectiveY: 0.00
- PostCropVignetteAmount: 0
- ProcessVersion: 11.0
- RedHue: 0
- RedSaturation: 0
- Saturation: 0
- SaturationAdjustmentAqua: 0
- SaturationAdjustmentBlue: 0
- SaturationAdjustmentGreen: 0
- SaturationAdjustmentMagenta: 0
- SaturationAdjustmentOrange: 0
- SaturationAdjustmentPurple: 0
- SaturationAdjustmentRed: 0
- SaturationAdjustmentYellow: 0
- ShadowTint: 0
- Shadows2012: +100
- SharpenDetail: 25
- SharpenEdgeMasking: 0
- SharpenRadius: +1.0
- Sharpness: 40
- SplitToningBalance: 0
- SplitToningHighlightHue: 0
- SplitToningHighlightSaturation: 0
- SplitToningShadowHue: 0
- SplitToningShadowSaturation: 0
- Texture: -11
- Tint: -2
- ToneCurveName2012: Linear
- ToneCurvePV2012: 0, 0, 255, 255
- ToneCurvePV2012Blue: 0, 0, 255, 255
- ToneCurvePV2012Green: 0, 0, 255, 255
- ToneCurvePV2012Red: 0, 0, 255, 255
- Version: 13.0.2
- Vibrance: -5
- VignetteAmount: 0
- WhiteBalance: As Shot
- Whites2012: 0
- XMP-dc
- Format: image/x-canon-cr3
- XMP-exif
- ApertureValue: 13,0
- DateTimeOriginal: 2020:11:16 16:46:32.57+01:00
- ExposureProgram: Unknown (9)
- FlashFired: False
- FlashFunction: False
- FlashMode: Unknown
- FlashRedEyeMode: False
- FlashReturn: No return detection
- MaxApertureValue: 4,2
- SensitivityType: 2
- ShutterSpeedValue: 61,0
- XMP-exifEX
- XMP-tiff
- XMP-x
- XMP-xmp
- CreateDate: 2020:11:16 16:46:32.57+01:00
- ModifyDate: 2020:11:16 16:46:32.57+01:00
- XMP-xmpMM
- Просмотров: 79
- Рейтинг: голосов еще нет
- Отзывов: отключены
Получить код для блога
| Вставка фотографии в текущем разрешении |
Вставка миниатюры |
HTML (для вставки в блог):
BBCode (для вставки в форум):
Ссылка на фото:
Ссылка на миниатюру:
- Послать ссылку другу
| Комментарии к фотографии |