| » Участники » Mutaborr » GC © June 24 » MMXXII.06.24 _ OL016.jpg |
Уважаемые друзья и участники проекта iXBT.photo! К сожалению, 1 марта 2026 года проект iXBT.photo прекратит свою работу и будет закрыт. Мы высоко ценим ваше участие и тот вклад, который вы внесли в развитие нашего сообщества. Пожалуйста, не забудьте сохранить ваши фотографии до этой даты.
С уважением, команда iXBT.com
| MMXXII.06.24 _ OL016.jpg |
MMXXII.06.24 _ OL016.jpg
- Раздел: Активный отдых, туризм
- Дата съёмки: неизвестно
- Дата загрузки фото: 02.07.2022 11:30
- Оригинальная фотография: 4608 x 3072 (6,9 Мб)
- Технические характеристики:
- Фотоаппарат: E-M5
- Выдержка: 0,0
- Гиперфокальное расстояние: inf m
- Диафрагма: 6,3
- Светочувствительность: 200
- Фокусное расстояние: 45,0 mm (35 mm equivalent: 90,0 mm)
- Полный EXIF
- Adobe
- ColorTransform: YCbCr
- Composite
- Aperture: 6,3
- CircleOfConfusion: 0,015 mm
- FOV: 22,0 deg
- FocalLength35efl: 45,0 mm (35 mm equivalent: 90,0 mm)
- GPSLatitude: 54 deg 51' 2,00" N
- GPSLatitudeRef: North
- GPSLongitude: 37 deg 36' 39,00" E
- GPSLongitudeRef: East
- GPSPosition: 54 deg 51' 2,00" N, 37 deg 36' 39,00" E
- HyperfocalDistance: inf m
- Megapixels: 14,2
- ScaleFactor35efl: 2,0
- ShutterSpeed: 0,0
- ExifIFD
- ApertureValue: 5,7
- CFAPattern: [Red,Green][Green,Blue]
- ColorSpace: sRGB
- Contrast: Normal
- CustomRendered: Normal
- DigitalZoomRatio: 1
- ExifImageHeight: 3072
- ExifImageWidth: 4608
- ExposureCompensation: 0
- ExposureMode: Manual
- ExposureProgram: Aperture-priority AE
- ExposureTime: 0,0
- FNumber: 6,3
- Flash: Auto, Did not fire
- FocalLength: 45,0 mm
- FocalLengthIn35mmFormat: 90 mm
- GainControl: Low gain up
- ISO: 200
- LensInfo: 14-45mm f/3.5-5.6
- LensModel: LUMIX G VARIO 14-45/F3.5-5.6
- LensSerialNumber: 01HG1012199
- LightSource: Unknown
- MaxApertureValue: 2,8
- MeteringMode: Multi-segment
- Saturation: High
- SceneCaptureType: Standard
- SensitivityType: Standard Output Sensitivity
- SerialNumber: BEK501834
- Sharpness: Hard
- ShutterSpeedValue: 1/1024
- WhiteBalance: Auto
- GPS
- GPSLatitude: 54 deg 51' 2,00"
- GPSLongitude: 37 deg 36' 39,00"
- GPSMapDatum: WGS-84
- GPSVersionID: 2.3.0.0
- ICC-header
- ICC-meas
- ICC-view
- IFD0
- Artist: <= Mutaborr =>
- Copyright: KIP
- Model: E-M5
- ModifyDate: 2022:07:02 08:38:53
- Orientation: Horizontal (normal)
- IFD1
- IPTC
- By-line: <= Mutaborr =>
- CopyrightNotice: KIP
- System
- XMP-aux
- ApproximateFocusDistance: 14,1
- FlashCompensation: 0
- LateralChromaticAberrationCorrectionAlreadyApplied: True
- Lens: LUMIX G VARIO 14-45/F3.5-5.6
- XMP-crs
- AlreadyApplied: True
- AutoLateralCA: 1
- Blacks2012: 0
- BlueHue: 0
- BlueSaturation: 0
- CameraProfile: Camera Natural
- Clarity2012: 0
- ColorNoiseReduction: 25
- ColorNoiseReductionDetail: 50
- ColorNoiseReductionSmoothness: 50
- ColorTemperature: 5050
- Contrast2012: +6
- ConvertToGrayscale: False
- DefringeGreenAmount: 1
- DefringeGreenHueHi: 60
- DefringeGreenHueLo: 40
- DefringePurpleAmount: 1
- DefringePurpleHueHi: 70
- DefringePurpleHueLo: 30
- Dehaze: 0
- Exposure2012: +0.85
- GrainAmount: 0
- GreenHue: 0
- GreenSaturation: 0
- HasCrop: False
- HasSettings: True
- Highlights2012: -93
- HueAdjustmentAqua: 0
- HueAdjustmentBlue: 0
- HueAdjustmentGreen: 0
- HueAdjustmentMagenta: 0
- HueAdjustmentOrange: 0
- HueAdjustmentPurple: 0
- HueAdjustmentRed: 0
- HueAdjustmentYellow: 0
- LensManualDistortionAmount: 0
- LensProfileEnable: 1
- LensProfileSetup: LensDefaults
- LuminanceAdjustmentAqua: 0
- LuminanceAdjustmentBlue: 0
- LuminanceAdjustmentGreen: 0
- LuminanceAdjustmentMagenta: 0
- LuminanceAdjustmentOrange: 0
- LuminanceAdjustmentPurple: 0
- LuminanceAdjustmentRed: 0
- LuminanceAdjustmentYellow: 0
- LuminanceSmoothing: 0
- OverrideLookVignette: False
- ParametricDarks: 0
- ParametricHighlightSplit: 75
- ParametricHighlights: 0
- ParametricLights: 0
- ParametricMidtoneSplit: 50
- ParametricShadowSplit: 25
- ParametricShadows: 0
- PerspectiveAspect: 0
- PerspectiveHorizontal: 0
- PerspectiveRotate: 0.0
- PerspectiveScale: 100
- PerspectiveUpright: 0
- PerspectiveVertical: 0
- PerspectiveX: 0.00
- PerspectiveY: 0.00
- PostCropVignetteAmount: 0
- ProcessVersion: 11.0
- RawFileName: _ORF0862.ORF
- RedHue: 0
- RedSaturation: 0
- Saturation: +4
- SaturationAdjustmentAqua: 0
- SaturationAdjustmentBlue: 0
- SaturationAdjustmentGreen: 0
- SaturationAdjustmentMagenta: 0
- SaturationAdjustmentOrange: 0
- SaturationAdjustmentPurple: 0
- SaturationAdjustmentRed: 0
- SaturationAdjustmentYellow: 0
- ShadowTint: 0
- Shadows2012: +29
- SharpenDetail: 25
- SharpenEdgeMasking: 0
- SharpenRadius: +1.0
- Sharpness: 40
- SplitToningBalance: 0
- SplitToningHighlightHue: 0
- SplitToningHighlightSaturation: 0
- SplitToningShadowHue: 0
- SplitToningShadowSaturation: 0
- Tint: +18
- ToneCurve: 0, 0, 32, 22, 64, 56, 128, 128, 192, 196, 255, 255
- ToneCurveBlue: 0, 0, 255, 255
- ToneCurveGreen: 0, 0, 255, 255
- ToneCurveName: Medium Contrast
- ToneCurveName2012: Linear
- ToneCurvePV2012: 0, 0, 255, 255
- ToneCurvePV2012Blue: 0, 0, 255, 255
- ToneCurvePV2012Green: 0, 0, 255, 255
- ToneCurvePV2012Red: 0, 0, 255, 255
- ToneCurveRed: 0, 0, 255, 255
- ToneMapStrength: 0
- Version: 11.0
- Vibrance: +13
- VignetteAmount: 0
- WhiteBalance: Custom
- Whites2012: 0
- XMP-dc
- Creator: <= Mutaborr =>
- Format: image/jpeg
- Rights: KIP
- XMP-exif
- XMP-exifEX
- XMP-x
- XMP-xmp
- CreateDate: 1904:01:01 03:00+03:00
- CreatorTool: Version 2.3
- ModifyDate: 2022:07:02 08:38:53+03:00
- Rating: 0
- XMP-xmpMM
- Просмотров: 39
- Рейтинг: голосов еще нет
- Отзывов: отключены
Получить код для блога
| Вставка фотографии в текущем разрешении |
Вставка миниатюры |
HTML (для вставки в блог):
BBCode (для вставки в форум):
Ссылка на фото:
Ссылка на миниатюру:
- Послать ссылку другу
| Комментарии к фотографии |