- Раздел: Город
- Дата съёмки: неизвестно
- Дата загрузки фото: 07.08.2022 21:51
- Оригинальная фотография: 3456 x 5184 (10,0 Мб)
- Технические характеристики:
- Фотоаппарат: Canon EOS 600D
- Выдержка: 0,0
- Гиперфокальное расстояние: inf m
- Диафрагма: 5,6
- Светочувствительность: 100
- Фокусное расстояние: 18,0 mm (35 mm equivalent: 18,0 mm)
- Полный EXIF
- Adobe
- ColorTransform: YCbCr
- Composite
- Aperture: 5,6
- CircleOfConfusion: 0,019 mm
- FOV: 90,0 deg
- FocalLength35efl: 18,0 mm (35 mm equivalent: 18,0 mm)
- HyperfocalDistance: inf m
- LensID: Canon EF-S18-55mm f/4-5.6 IS STM
- Megapixels: 17,9
- ScaleFactor35efl: 1,6
- ShutterSpeed: 0,0
- ExifIFD
- ApertureValue: 4,0
- ColorSpace: sRGB
- CreateDate: 2022:08:07 16:20:07
- CustomRendered: Normal
- DateTimeOriginal: 2022:08:07 16:20:07
- ExposureCompensation: 0
- ExposureMode: Manual
- ExposureProgram: Manual
- ExposureTime: 0,0
- FNumber: 5,6
- Flash: Off, Did not fire
- FocalLength: 18,0 mm
- ISO: 100
- LensInfo: 18-55mm f/?
- LensModel: EF-S18-55mm f/4-5.6 IS STM
- LensSerialNumber: 00000b4645
- MaxApertureValue: 4,0
- MeteringMode: Multi-segment
- RecommendedExposureIndex: 100
- SceneCaptureType: Standard
- SensitivityType: Recommended Exposure Index
- SerialNumber: 313076166234
- ShutterSpeedValue: 1/128
- WhiteBalance: Auto
- ICC-header
- ICC-meas
- ICC-view
- IFD0
- Copyright: misha1981
- Make: Canon
- Model: Canon EOS 600D
- ModifyDate: 2022:08:07 21:10:41
- IFD1
- IPTC
- CopyrightNotice: misha1981
- DateCreated: 2022:08:07
- System
- XMP-aux
- ApproximateFocusDistance: 4294967295
- Firmware: 1.0.3
- FlashCompensation: 0
- ImageNumber: 0
- Lens: EF-S18-55mm f/4-5.6 IS STM
- LensID: 4158
- XMP-crs
- AlreadyApplied: True
- AutoLateralCA: 0
- Blacks2012: -13
- BlueHue: 0
- BlueSaturation: 0
- Clarity2012: 0
- ColorGradeBlending: 50
- ColorGradeGlobalHue: 0
- ColorGradeGlobalLum: 0
- ColorGradeGlobalSat: 0
- ColorGradeHighlightLum: 0
- ColorGradeMidtoneHue: 0
- ColorGradeMidtoneLum: 0
- ColorGradeMidtoneSat: 0
- ColorGradeShadowLum: 0
- ColorNoiseReduction: 25
- ColorNoiseReductionDetail: 50
- ColorNoiseReductionSmoothness: 50
- ColorTemperature: 5000
- Contrast2012: +6
- CropAngle: 0
- CropBottom: 1
- CropConstrainToWarp: 0
- CropLeft: 0
- CropRight: 1
- CropTop: 0
- DefringeGreenAmount: 0
- DefringeGreenHueHi: 60
- DefringeGreenHueLo: 40
- DefringePurpleAmount: 0
- DefringePurpleHueHi: 70
- DefringePurpleHueLo: 30
- Dehaze: 0
- Exposure2012: -0.05
- GrainAmount: 0
- GreenHue: 0
- GreenSaturation: 0
- HasCrop: False
- HasSettings: True
- Highlights2012: -72
- HueAdjustmentAqua: 0
- HueAdjustmentBlue: 0
- HueAdjustmentGreen: 0
- HueAdjustmentMagenta: 0
- HueAdjustmentOrange: 0
- HueAdjustmentPurple: 0
- HueAdjustmentRed: 0
- HueAdjustmentYellow: 0
- LensManualDistortionAmount: 0
- LensProfileEnable: 0
- LookAmount: 1
- LookGroup: Profiles
- LookParametersConvertToGrayscale: False
- LookParametersLookTable: E1095149FDB39D7A057BAB208837E2E1
- LookParametersProcessVersion: 11.0
- LookParametersToneCurvePV2012: 0, 0, 22, 16, 40, 35, 127, 127, 224, 230, 240, 246, 255, 255
- LookParametersToneCurvePV2012Blue: 0, 0, 255, 255
- LookParametersToneCurvePV2012Green: 0, 0, 255, 255
- LookParametersToneCurvePV2012Red: 0, 0, 255, 255
- LookParametersVersion: 14.4
- LookSupportsAmount: false
- LookSupportsMonochrome: false
- LookSupportsOutputReferred: false
- LuminanceAdjustmentAqua: 0
- LuminanceAdjustmentBlue: 0
- LuminanceAdjustmentGreen: 0
- LuminanceAdjustmentMagenta: 0
- LuminanceAdjustmentOrange: 0
- LuminanceAdjustmentPurple: 0
- LuminanceAdjustmentRed: 0
- LuminanceAdjustmentYellow: 0
- LuminanceSmoothing: 0
- OverrideLookVignette: False
- ParametricDarks: 0
- ParametricHighlightSplit: 75
- ParametricHighlights: 0
- ParametricLights: 0
- ParametricMidtoneSplit: 50
- ParametricShadowSplit: 25
- ParametricShadows: 0
- PerspectiveAspect: 0
- PerspectiveHorizontal: 0
- PerspectiveRotate: 0.0
- PerspectiveScale: 100
- PerspectiveUpright: 0
- PerspectiveVertical: 0
- PerspectiveX: 0.00
- PerspectiveY: 0.00
- PostCropVignetteAmount: 0
- ProcessVersion: 11.0
- RawFileName: _MG_0136.CR2
- RedHue: 0
- RedSaturation: 0
- Saturation: -1
- SaturationAdjustmentAqua: 0
- SaturationAdjustmentBlue: 0
- SaturationAdjustmentGreen: 0
- SaturationAdjustmentMagenta: 0
- SaturationAdjustmentOrange: 0
- SaturationAdjustmentPurple: 0
- SaturationAdjustmentRed: 0
- SaturationAdjustmentYellow: 0
- ShadowTint: 0
- Shadows2012: +43
- SharpenDetail: 25
- SharpenEdgeMasking: 0
- SharpenRadius: +1.0
- Sharpness: 40
- SplitToningBalance: 0
- SplitToningHighlightHue: 0
- SplitToningHighlightSaturation: 0
- SplitToningShadowHue: 0
- SplitToningShadowSaturation: 0
- Texture: 0
- Tint: +23
- ToneCurveName2012: Linear
- ToneCurvePV2012: 0, 0, 255, 255
- ToneCurvePV2012Blue: 0, 0, 255, 255
- ToneCurvePV2012Green: 0, 0, 255, 255
- ToneCurvePV2012Red: 0, 0, 255, 255
- Version: 14.4
- Vibrance: +15
- VignetteAmount: 0
- WhiteBalance: As Shot
- Whites2012: +13
- XMP-dc
- Format: image/jpeg
- Rights: misha1981
- XMP-exifEX
- XMP-xmp
- CreateDate: 2022:08:07 16:20:07.76
- ModifyDate: 2022:08:07 21:10:41+03:00
- XMP-xmpMM
- PreservedFileName: _MG_0136.CR2
- Просмотров: 62
- Рейтинг: голосов еще нет
- Отзывов: 0