- Раздел: Город
- Дата съёмки: неизвестно
- Дата загрузки фото: 25.08.2022 02:18
- Оригинальная фотография: 5184 x 3456 (13,9 Мб)
- Технические характеристики:
- Фотоаппарат: Canon EOS 600D
- Выдержка: 0,0
- Гиперфокальное расстояние: inf m
- Диафрагма: 5,6
- Светочувствительность: 200
- Фокусное расстояние: 45,0 mm (35 mm equivalent: 45,0 mm)
- Полный EXIF
- Adobe
- ColorTransform: YCbCr
- Composite
- Aperture: 5,6
- CircleOfConfusion: 0,019 mm
- FOV: 43,0 deg
- FocalLength35efl: 45,0 mm (35 mm equivalent: 45,0 mm)
- HyperfocalDistance: inf m
- LensID: Canon EF-S18-55mm f/4-5.6 IS STM
- Megapixels: 17,9
- ScaleFactor35efl: 1,6
- ShutterSpeed: 0,0
- ExifIFD
- ApertureValue: 4,0
- ColorSpace: sRGB
- CreateDate: 2022:08:24 22:51:46
- CustomRendered: Normal
- DateTimeOriginal: 2022:08:24 22:51:46
- ExposureCompensation: 0
- ExposureMode: Manual
- ExposureProgram: Manual
- ExposureTime: 0,0
- FNumber: 5,6
- Flash: Off, Did not fire
- FocalLength: 45,0 mm
- ISO: 200
- LensInfo: 18-55mm f/?
- LensModel: EF-S18-55mm f/4-5.6 IS STM
- LensSerialNumber: 00000b4645
- MaxApertureValue: 4,0
- MeteringMode: Spot
- RecommendedExposureIndex: 200
- SceneCaptureType: Standard
- SensitivityType: Recommended Exposure Index
- SerialNumber: 313076166234
- ShutterSpeedValue: 1/16
- WhiteBalance: Auto
- ICC-header
- ICC-meas
- ICC-view
- IFD0
- Copyright: misha1981
- Make: Canon
- Model: Canon EOS 600D
- ModifyDate: 2022:08:25 01:29:57
- IFD1
- IPTC
- CopyrightNotice: misha1981
- DateCreated: 2022:08:24
- System
- XMP-aux
- ApproximateFocusDistance: 4294967295
- Firmware: 1.0.3
- FlashCompensation: 0
- ImageNumber: 0
- Lens: EF-S18-55mm f/4-5.6 IS STM
- LensID: 4158
- XMP-crs
- AlreadyApplied: True
- AutoLateralCA: 0
- Blacks2012: +59
- BlueHue: 0
- BlueSaturation: 0
- Clarity2012: +5
- ColorGradeBlending: 85
- ColorGradeGlobalHue: 0
- ColorGradeGlobalLum: 0
- ColorGradeGlobalSat: 0
- ColorGradeHighlightLum: +50
- ColorGradeMidtoneHue: 213
- ColorGradeMidtoneLum: +31
- ColorGradeMidtoneSat: 45
- ColorGradeShadowLum: -73
- ColorNoiseReduction: 25
- ColorNoiseReductionDetail: 50
- ColorNoiseReductionSmoothness: 50
- ColorTemperature: 4900
- Contrast2012: +6
- CropAngle: 0
- CropBottom: 1
- CropConstrainToWarp: 0
- CropLeft: 0
- CropRight: 1
- CropTop: 0
- DefringeGreenAmount: 0
- DefringeGreenHueHi: 60
- DefringeGreenHueLo: 40
- DefringePurpleAmount: 0
- DefringePurpleHueHi: 70
- DefringePurpleHueLo: 30
- Dehaze: 0
- Exposure2012: +0.90
- GrainAmount: 0
- GreenHue: 0
- GreenSaturation: 0
- HasCrop: False
- HasSettings: True
- Highlights2012: -95
- HueAdjustmentAqua: -25
- HueAdjustmentBlue: -15
- HueAdjustmentGreen: -5
- HueAdjustmentMagenta: -25
- HueAdjustmentOrange: 0
- HueAdjustmentPurple: -15
- HueAdjustmentRed: -5
- HueAdjustmentYellow: -35
- LensManualDistortionAmount: 0
- LensProfileEnable: 0
- LookAmount: 1
- LookGroup: Profiles
- LookParametersConvertToGrayscale: False
- LookParametersLookTable: E1095149FDB39D7A057BAB208837E2E1
- LookParametersProcessVersion: 11.0
- LookParametersToneCurvePV2012: 0, 0, 22, 16, 40, 35, 127, 127, 224, 230, 240, 246, 255, 255
- LookParametersToneCurvePV2012Blue: 0, 0, 255, 255
- LookParametersToneCurvePV2012Green: 0, 0, 255, 255
- LookParametersToneCurvePV2012Red: 0, 0, 255, 255
- LookParametersVersion: 14.5
- LookSupportsAmount: false
- LookSupportsMonochrome: false
- LookSupportsOutputReferred: false
- LuminanceAdjustmentAqua: +32
- LuminanceAdjustmentBlue: +54
- LuminanceAdjustmentGreen: +50
- LuminanceAdjustmentMagenta: +35
- LuminanceAdjustmentOrange: -10
- LuminanceAdjustmentPurple: +10
- LuminanceAdjustmentRed: +35
- LuminanceAdjustmentYellow: +15
- LuminanceSmoothing: 0
- OverrideLookVignette: False
- ParametricDarks: 0
- ParametricHighlightSplit: 75
- ParametricHighlights: 0
- ParametricLights: 0
- ParametricMidtoneSplit: 50
- ParametricShadowSplit: 25
- ParametricShadows: 0
- PerspectiveAspect: 0
- PerspectiveHorizontal: 0
- PerspectiveRotate: 0.0
- PerspectiveScale: 100
- PerspectiveUpright: 0
- PerspectiveVertical: 0
- PerspectiveX: 0.00
- PerspectiveY: 0.00
- PostCropVignetteAmount: 0
- ProcessVersion: 11.0
- RawFileName: _MG_0003.CR2
- RedHue: 0
- RedSaturation: 0
- Saturation: +15
- SaturationAdjustmentAqua: +10
- SaturationAdjustmentBlue: +20
- SaturationAdjustmentGreen: -21
- SaturationAdjustmentMagenta: -5
- SaturationAdjustmentOrange: +20
- SaturationAdjustmentPurple: -15
- SaturationAdjustmentRed: +5
- SaturationAdjustmentYellow: +30
- ShadowTint: 0
- Shadows2012: +71
- SharpenDetail: 25
- SharpenEdgeMasking: 0
- SharpenRadius: +1.0
- Sharpness: 40
- SplitToningBalance: +85
- SplitToningHighlightHue: 202
- SplitToningHighlightSaturation: 14
- SplitToningShadowHue: 146
- SplitToningShadowSaturation: 6
- Texture: +20
- Tint: +43
- ToneCurveName2012: Custom
- ToneCurvePV2012: 0, 0, 53, 61, 116, 129, 188, 170, 255, 255
- ToneCurvePV2012Blue: 0, 0, 64, 65, 132, 132, 188, 192, 255, 255
- ToneCurvePV2012Green: 0, 0, 63, 62, 122, 122, 191, 193, 255, 255
- ToneCurvePV2012Red: 0, 0, 60, 59, 125, 122, 189, 185, 255, 255
- Version: 14.5
- Vibrance: +45
- VignetteAmount: 0
- WhiteBalance: As Shot
- Whites2012: +50
- XMP-dc
- Format: image/jpeg
- Rights: misha1981
- XMP-exifEX
- XMP-xmp
- CreateDate: 2022:08:24 22:51:46.34
- ModifyDate: 2022:08:25 01:29:57+03:00
- XMP-xmpMM
- PreservedFileName: _MG_0003.CR2
- Просмотров: 232
- Рейтинг: голосов еще нет
- Отзывов: 0