- Раздел: Город
- Дата съёмки: неизвестно
- Дата загрузки фото: 25.08.2022 02:18
- Оригинальная фотография: 5184 x 3456 (28,0 Мб)
- Технические характеристики:
- Фотоаппарат: Canon EOS 600D
- Выдержка: 0,0
- Гиперфокальное расстояние: inf m
- Диафрагма: 5,6
- Светочувствительность: 800
- Фокусное расстояние: 55,0 mm (35 mm equivalent: 55,0 mm)
- Полный EXIF
- Adobe
- ColorTransform: YCbCr
- Composite
- Aperture: 5,6
- CircleOfConfusion: 0,019 mm
- FOV: 36,0 deg
- FocalLength35efl: 55,0 mm (35 mm equivalent: 55,0 mm)
- HyperfocalDistance: inf m
- LensID: Canon EF-S18-55mm f/4-5.6 IS STM
- Megapixels: 17,9
- ScaleFactor35efl: 1,6
- ShutterSpeed: 0,0
- ExifIFD
- ApertureValue: 4,0
- ColorSpace: sRGB
- CreateDate: 2022:08:24 22:59:14
- CustomRendered: Normal
- DateTimeOriginal: 2022:08:24 22:59:14
- ExposureCompensation: 0
- ExposureMode: Manual
- ExposureProgram: Manual
- ExposureTime: 0,0
- FNumber: 5,6
- Flash: Off, Did not fire
- FocalLength: 55,0 mm
- ISO: 800
- LensInfo: 18-55mm f/?
- LensModel: EF-S18-55mm f/4-5.6 IS STM
- LensSerialNumber: 00000b4645
- MaxApertureValue: 5,7
- MeteringMode: Spot
- RecommendedExposureIndex: 800
- SceneCaptureType: Standard
- SensitivityType: Recommended Exposure Index
- SerialNumber: 313076166234
- ShutterSpeedValue: 1/16
- WhiteBalance: Auto
- ICC-header
- ICC-meas
- ICC-view
- IFD0
- Copyright: misha1981
- Make: Canon
- Model: Canon EOS 600D
- ModifyDate: 2022:08:25 01:30:02
- IFD1
- IPTC
- CopyrightNotice: misha1981
- DateCreated: 2022:08:24
- System
- XMP-aux
- ApproximateFocusDistance: 4294967295
- Firmware: 1.0.3
- FlashCompensation: 0
- ImageNumber: 0
- Lens: EF-S18-55mm f/4-5.6 IS STM
- LensID: 4158
- XMP-crs
- AlreadyApplied: True
- AutoLateralCA: 0
- Blacks2012: +5
- BlueHue: 0
- BlueSaturation: 0
- Clarity2012: +5
- ColorGradeBlending: 35
- ColorGradeGlobalHue: 0
- ColorGradeGlobalLum: 0
- ColorGradeGlobalSat: 0
- ColorGradeHighlightLum: +84
- ColorGradeMidtoneHue: 231
- ColorGradeMidtoneLum: +19
- ColorGradeMidtoneSat: 20
- ColorGradeShadowLum: -15
- ColorNoiseReduction: 25
- ColorNoiseReductionDetail: 50
- ColorNoiseReductionSmoothness: 50
- ColorTemperature: 3950
- Contrast2012: +5
- CropAngle: 0
- CropBottom: 1
- CropConstrainToWarp: 0
- CropLeft: 0
- CropRight: 1
- CropTop: 0
- DefringeGreenAmount: 0
- DefringeGreenHueHi: 60
- DefringeGreenHueLo: 40
- DefringePurpleAmount: 0
- DefringePurpleHueHi: 70
- DefringePurpleHueLo: 30
- Dehaze: 0
- Exposure2012: +2.33
- GrainAmount: 0
- GreenHue: 0
- GreenSaturation: 0
- HasCrop: False
- HasSettings: True
- Highlights2012: -40
- HueAdjustmentAqua: +10
- HueAdjustmentBlue: -35
- HueAdjustmentGreen: -20
- HueAdjustmentMagenta: -10
- HueAdjustmentOrange: -10
- HueAdjustmentPurple: -70
- HueAdjustmentRed: -20
- HueAdjustmentYellow: -30
- LensManualDistortionAmount: 0
- LensProfileEnable: 0
- LookAmount: 1
- LookGroup: Profiles
- LookParametersConvertToGrayscale: False
- LookParametersLookTable: E1095149FDB39D7A057BAB208837E2E1
- LookParametersProcessVersion: 11.0
- LookParametersToneCurvePV2012: 0, 0, 22, 16, 40, 35, 127, 127, 224, 230, 240, 246, 255, 255
- LookParametersToneCurvePV2012Blue: 0, 0, 255, 255
- LookParametersToneCurvePV2012Green: 0, 0, 255, 255
- LookParametersToneCurvePV2012Red: 0, 0, 255, 255
- LookParametersVersion: 14.5
- LookSupportsAmount: false
- LookSupportsMonochrome: false
- LookSupportsOutputReferred: false
- LuminanceAdjustmentAqua: +50
- LuminanceAdjustmentBlue: +20
- LuminanceAdjustmentGreen: +40
- LuminanceAdjustmentMagenta: +45
- LuminanceAdjustmentOrange: +55
- LuminanceAdjustmentPurple: +20
- LuminanceAdjustmentRed: +20
- LuminanceAdjustmentYellow: +25
- LuminanceSmoothing: 0
- OverrideLookVignette: False
- ParametricDarks: 0
- ParametricHighlightSplit: 75
- ParametricHighlights: 0
- ParametricLights: 0
- ParametricMidtoneSplit: 50
- ParametricShadowSplit: 25
- ParametricShadows: 0
- PerspectiveAspect: 0
- PerspectiveHorizontal: 0
- PerspectiveRotate: 0.0
- PerspectiveScale: 100
- PerspectiveUpright: 0
- PerspectiveVertical: 0
- PerspectiveX: 0.00
- PerspectiveY: 0.00
- PostCropVignetteAmount: 0
- ProcessVersion: 11.0
- RawFileName: _MG_0005.CR2
- RedHue: 0
- RedSaturation: 0
- Saturation: +25
- SaturationAdjustmentAqua: +25
- SaturationAdjustmentBlue: +15
- SaturationAdjustmentGreen: +30
- SaturationAdjustmentMagenta: +20
- SaturationAdjustmentOrange: +60
- SaturationAdjustmentPurple: +50
- SaturationAdjustmentRed: +35
- SaturationAdjustmentYellow: -20
- ShadowTint: 0
- Shadows2012: +55
- SharpenDetail: 25
- SharpenEdgeMasking: 0
- SharpenRadius: +1.0
- Sharpness: 40
- SplitToningBalance: +25
- SplitToningHighlightHue: 202
- SplitToningHighlightSaturation: 100
- SplitToningShadowHue: 210
- SplitToningShadowSaturation: 60
- Texture: +10
- Tint: -1
- ToneCurveName2012: Custom
- ToneCurvePV2012: 0, 0, 51, 67, 129, 133, 204, 190, 255, 255
- ToneCurvePV2012Blue: 0, 0, 59, 56, 116, 122, 179, 173, 255, 255
- ToneCurvePV2012Green: 0, 0, 59, 58, 125, 119, 187, 175, 255, 255
- ToneCurvePV2012Red: 0, 0, 73, 63, 136, 124, 191, 188, 255, 255
- Version: 14.5
- Vibrance: +40
- VignetteAmount: 0
- WhiteBalance: As Shot
- Whites2012: -10
- XMP-dc
- Format: image/jpeg
- Rights: misha1981
- XMP-exifEX
- XMP-xmp
- CreateDate: 2022:08:24 22:59:14.52
- ModifyDate: 2022:08:25 01:30:02+03:00
- XMP-xmpMM
- PreservedFileName: _MG_0005.CR2
- Просмотров: 92
- Рейтинг: голосов еще нет
- Отзывов: 0