Уважаемые друзья и участники проекта iXBT.photo! К сожалению, 1 марта 2026 года проект iXBT.photo прекратит свою работу и будет закрыт. Мы высоко ценим ваше участие и тот вклад, который вы внесли в развитие нашего сообщества. Пожалуйста, не забудьте сохранить ваши фотографии до этой даты.
С уважением, команда iXBT.com
| сучок |
сучок
после летних пожаров в Крыму
- Раздел: Другое, разное
- Дата съёмки: 23.11.2007 00:02
- Дата загрузки фото: 04.12.2007 15:50
- Оригинальная фотография: 3411 x 2274 (478 Кб)
- Технические характеристики:
- Фотоаппарат: FujiFilm FinePix S9500
- Выдержка: 1/9
- Гиперфокальное расстояние: 1,29 m
- Диафрагма: 5,6
- Светочувствительность: 200
- Фокусное расстояние: 10,0mm (35mm эквивалент: 21,7mm)
- Полный EXIF
- Adobe
- ColorTransform: YCbCr
- Composite
- Aperture: 5,6
- CircleOfConfusion: 0,014 mm
- FocalLength35efl: 10,0mm (35mm equivalent: 21,7mm)
- HyperfocalDistance: 1,29 m
- LightValue: 7,1
- ScaleFactor35efl: 2,2
- ShutterSpeed: 1/9
- ExifIFD
- ApertureValue: 5,6
- BrightnessValue: 2,07
- ColorSpace: sRGB
- Contrast: High
- CreateDate: 2007:11:22 14:59:38
- CustomRendered: Normal
- DateTimeOriginal: 2007:11:22 14:59:38
- ExifImageLength: 2274
- ExifImageWidth: 3411
- ExposureCompensation: 0
- ExposureMode: Auto
- ExposureProgram: Aperture-priority AE
- ExposureTime: 1/9
- FNumber: 5,6
- Flash: Off
- FocalLength: 10,0mm
- ISO: 200
- LightSource: Shade
- MaxApertureValue: 2,8
- MeteringMode: Multi-segment
- Saturation: High
- SceneCaptureType: Standard
- SceneType: Directly photographed
- SensingMethod: One-chip color area
- Sharpness: Normal
- ShutterSpeedValue: 1/9
- SubjectDistanceRange: Macro
- WhiteBalance: Manual
- ICC-header
- ICC-meas
- ICC-view
- IFD0
- Make: FUJIFILM
- Model: FinePix S9500
- ModifyDate: 2007:11:23 00:02:56
- Orientation: Horizontal (normal)
- TimeZoneOffset: -8 -8
- IFD1
- IPTC
- XMP-crs
- AlreadyApplied: True
- BlueHue: 0
- BlueSaturation: 0
- Brightness: +50
- CameraProfile: ACR 3.3
- ChromaticAberrationB: +14
- ChromaticAberrationR: -23
- Clarity: 20
- ColorNoiseReduction: 48
- Contrast: +37
- ConvertToGrayscale: False
- Defringe: 0
- Exposure: +0.10
- FillLight: 16
- GreenHue: 0
- GreenSaturation: 0
- HasCrop: False
- HasSettings: True
- HighlightRecovery: 51
- HueAdjustmentAqua: 0
- HueAdjustmentBlue: 0
- HueAdjustmentGreen: 0
- HueAdjustmentMagenta: 0
- HueAdjustmentOrange: 0
- HueAdjustmentPurple: 0
- HueAdjustmentRed: 0
- HueAdjustmentYellow: 0
- LuminanceAdjustmentAqua: 0
- LuminanceAdjustmentBlue: 0
- LuminanceAdjustmentGreen: 0
- LuminanceAdjustmentMagenta: 0
- LuminanceAdjustmentOrange: +16
- LuminanceAdjustmentPurple: 0
- LuminanceAdjustmentRed: -23
- LuminanceAdjustmentYellow: 0
- LuminanceSmoothing: 100
- ParametricDarks: -21
- ParametricHighlightSplit: 75
- ParametricHighlights: -20
- ParametricLights: 0
- ParametricMidtoneSplit: 55
- ParametricShadowSplit: 25
- ParametricShadows: -19
- RawFileName: DSCF9231.RAF
- RedHue: 0
- RedSaturation: 0
- Saturation: -4
- SaturationAdjustmentAqua: 0
- SaturationAdjustmentBlue: 0
- SaturationAdjustmentGreen: 0
- SaturationAdjustmentMagenta: 0
- SaturationAdjustmentOrange: 0
- SaturationAdjustmentPurple: 0
- SaturationAdjustmentRed: 0
- SaturationAdjustmentYellow: 0
- ShadowTint: 0
- Shadows: 40
- SharpenDetail: 100
- SharpenEdgeMasking: 56
- SharpenRadius: +1.3
- Sharpness: 79
- SplitToningBalance: 0
- SplitToningHighlightHue: 0
- SplitToningHighlightSaturation: 0
- SplitToningShadowHue: 0
- SplitToningShadowSaturation: 0
- Temperature: 5350
- Tint: -16
- ToneCurve: 0, 0, 35, 20, 64, 56, 128, 128, 192, 196, 255, 255
- ToneCurveName: Custom
- Version: 4.1
- Vibrance: +5
- VignetteAmount: +13
- VignetteMidpoint: 75
- WhiteBalance: As Shot
- XMP-dc
- XMP-exif
- DateTimeDigitized: 2007:11:22 14:59:38-08:00
- DateTimeOriginal: 2007:11:22 14:59:38-08:00
- FlashFired: False
- FlashFunction: False
- FlashMode: Off
- FlashRedEyeMode: False
- FlashReturn: No return detection
- XMP-tiff
- XMP-xmp
- CreateDate: 2007:11:23 00:02:56-08:00
- ModifyDate: 2007:11:23 00:02:56-08:00
- Rating: 0
- XMP-xmpMM
- Просмотров: 266
- Рейтинг: голосов еще нет
- Отзывов: 0
Получить код для блога
| Вставка фотографии в текущем разрешении |
Вставка миниатюры |
HTML (для вставки в блог):
BBCode (для вставки в форум):
Ссылка на фото:
Ссылка на миниатюру:
- Послать ссылку другу
| Комментарии к фотографии |