Уважаемые друзья и участники проекта iXBT.photo! К сожалению, 1 марта 2026 года проект iXBT.photo прекратит свою работу и будет закрыт. Мы высоко ценим ваше участие и тот вклад, который вы внесли в развитие нашего сообщества. Пожалуйста, не забудьте сохранить ваши фотографии до этой даты.
С уважением, команда iXBT.com
| Владимирский собор |
Владимирский собор
- Раздел: Архитектура
- Дата съёмки: 23.11.2007 19:54
- Дата загрузки фото: 04.12.2007 16:37
- Оригинальная фотография: 1024 x 1365 (311 Кб)
- Технические характеристики:
- Фотоаппарат: FujiFilm FinePix S9500
- Выдержка: 1/8
- Гиперфокальное расстояние: 3,67 m
- Диафрагма: 3,1
- Светочувствительность: 80
- Фокусное расстояние: 8,1mm (35mm эквивалент: 42,2mm)
- Полный EXIF
- Adobe
- ColorTransform: YCbCr
- Composite
- Aperture: 3,1
- CircleOfConfusion: 0,006 mm
- FocalLength35efl: 8,1mm (35mm equivalent: 42,2mm)
- HyperfocalDistance: 3,67 m
- LightValue: 6,6
- ScaleFactor35efl: 5,2
- ShutterSpeed: 1/8
- ExifIFD
- ApertureValue: 3,1
- BrightnessValue: 1,57
- ColorSpace: sRGB
- Contrast: Normal
- CreateDate: 2007:11:11 16:16:48
- CustomRendered: Normal
- DateTimeOriginal: 2007:11:11 16:16:48
- ExifImageLength: 1365
- ExifImageWidth: 1024
- ExposureCompensation: 0
- ExposureMode: Auto
- ExposureProgram: Program AE
- ExposureTime: 1/8
- FNumber: 3,1
- Flash: Off
- FocalLength: 8,1mm
- ISO: 80
- LightSource: Unknown (0)
- MaxApertureValue: 2,8
- MeteringMode: Average
- Saturation: Normal
- SceneCaptureType: Standard
- SceneType: Directly photographed
- SensingMethod: One-chip color area
- Sharpness: Normal
- ShutterSpeedValue: 1/8
- WhiteBalance: Auto
- ICC-header
- ICC-meas
- ICC-view
- IFD0
- Make: FUJIFILM
- Model: FinePix S9500
- ModifyDate: 2007:12:04 15:31:42
- Orientation: Horizontal (normal)
- TimeZoneOffset: -8 -8
- IFD1
- IPTC
- XMP-crs
- AlreadyApplied: True
- BlueHue: -16
- BlueSaturation: 0
- Brightness: +71
- CameraProfile: ACR 3.3
- ChromaticAberrationB: -18
- ChromaticAberrationR: +2
- Clarity: 17
- ColorNoiseReduction: 100
- Contrast: +42
- ConvertToGrayscale: False
- Defringe: 2
- Exposure: +0.75
- FillLight: 54
- GreenHue: -8
- GreenSaturation: 0
- HasCrop: False
- HasSettings: True
- HighlightRecovery: 30
- HueAdjustmentAqua: -7
- HueAdjustmentBlue: -19
- HueAdjustmentGreen: +13
- HueAdjustmentMagenta: +13
- HueAdjustmentOrange: +17
- HueAdjustmentPurple: -42
- HueAdjustmentRed: -28
- HueAdjustmentYellow: -16
- LuminanceAdjustmentAqua: -3
- LuminanceAdjustmentBlue: -4
- LuminanceAdjustmentGreen: 0
- LuminanceAdjustmentMagenta: 0
- LuminanceAdjustmentOrange: -16
- LuminanceAdjustmentPurple: 0
- LuminanceAdjustmentRed: +13
- LuminanceAdjustmentYellow: +8
- LuminanceSmoothing: 100
- ParametricDarks: -25
- ParametricHighlightSplit: 75
- ParametricHighlights: -4
- ParametricLights: -3
- ParametricMidtoneSplit: 50
- ParametricShadowSplit: 27
- ParametricShadows: -5
- RawFileName: DSCF8783.RAF
- RedHue: -11
- RedSaturation: -3
- Saturation: -23
- SaturationAdjustmentAqua: -31
- SaturationAdjustmentBlue: -42
- SaturationAdjustmentGreen: 0
- SaturationAdjustmentMagenta: -13
- SaturationAdjustmentOrange: 0
- SaturationAdjustmentPurple: -26
- SaturationAdjustmentRed: -12
- SaturationAdjustmentYellow: 0
- ShadowTint: -6
- Shadows: 36
- SharpenDetail: 100
- SharpenEdgeMasking: 100
- SharpenRadius: +1.6
- Sharpness: 128
- SplitToningBalance: -53
- SplitToningHighlightHue: 120
- SplitToningHighlightSaturation: 0
- SplitToningShadowHue: 0
- SplitToningShadowSaturation: 0
- Temperature: 7750
- Tint: +8
- ToneCurve: 0, 0, 10, 14, 18, 26, 37, 38, 42, 43, 62, 61, 128, 128, 160, 153, 193, 187, 224, 215, 242, 239, 252, 233
- ToneCurveName: Custom
- Version: 4.1
- Vibrance: -6
- VignetteAmount: -74
- VignetteMidpoint: 23
- WhiteBalance: Custom
- XMP-dc
- CreatorTool: Digital Camera FinePix S9500 Ver1.01
- Format: image/jpeg
- XMP-exif
- DateTimeDigitized: 2007:11:11 16:16:48-08:00
- DateTimeOriginal: 2007:11:11 16:16:48-08:00
- FlashFired: False
- FlashFunction: False
- FlashMode: Off
- FlashRedEyeMode: False
- FlashReturn: No return detection
- SubjectDistanceRange: Unknown
- XMP-tiff
- XMP-xmp
- CreateDate: 2007:11:23 19:54:26-08:00
- ModifyDate: 2007:12:04 15:31:42-08:00
- Rating: 0
- XMP-xmpMM
- Просмотров: 304
- Рейтинг: голосов еще нет
- Отзывов: 0
Получить код для блога
| Вставка фотографии в текущем разрешении |
Вставка миниатюры |
HTML (для вставки в блог):
BBCode (для вставки в форум):
Ссылка на фото:
Ссылка на миниатюру:
- Послать ссылку другу
| Комментарии к фотографии |