Уважаемые друзья и участники проекта iXBT.photo! К сожалению, 1 марта 2026 года проект iXBT.photo прекратит свою работу и будет закрыт. Мы высоко ценим ваше участие и тот вклад, который вы внесли в развитие нашего сообщества. Пожалуйста, не забудьте сохранить ваши фотографии до этой даты.
С уважением, команда iXBT.com
| черный лес.jpg |
черный лес.jpg
- Раздел: Природа
- Дата съёмки: 04.12.2007 17:22
- Дата загрузки фото: 04.12.2007 19:06
- Оригинальная фотография: 800 x 533 (187 Кб)
- Технические характеристики:
- Фотоаппарат: FujiFilm FinePix S9500
- Выдержка: 1/60
- Гиперфокальное расстояние: 2,11 m
- Диафрагма: 5,6
- Светочувствительность: 200
- Фокусное расстояние: 6,2mm (35mm эквивалент: 57,4mm)
- Полный EXIF
- Adobe
- ColorTransform: YCbCr
- Composite
- Aperture: 5,6
- CircleOfConfusion: 0,003 mm
- FocalLength35efl: 6,2mm (35mm equivalent: 57,4mm)
- HyperfocalDistance: 2,11 m
- LightValue: 9,9
- ScaleFactor35efl: 9,3
- ShutterSpeed: 1/60
- ExifIFD
- ApertureValue: 5,6
- BrightnessValue: 5,61
- ColorSpace: sRGB
- Contrast: High
- CreateDate: 2007:11:22 15:06:38
- CustomRendered: Normal
- DateTimeOriginal: 2007:11:22 15:06:38
- ExifImageLength: 533
- ExifImageWidth: 800
- ExposureCompensation: 0
- ExposureMode: Auto
- ExposureProgram: Aperture-priority AE
- ExposureTime: 1/60
- FNumber: 5,6
- Flash: Off
- FocalLength: 6,2mm
- ISO: 200
- LightSource: Shade
- MaxApertureValue: 2,8
- MeteringMode: Multi-segment
- Saturation: High
- SceneCaptureType: Standard
- SceneType: Directly photographed
- SensingMethod: One-chip color area
- Sharpness: Normal
- ShutterSpeedValue: 1/60
- WhiteBalance: Manual
- ICC-header
- ICC-meas
- ICC-view
- IFD0
- Make: FUJIFILM
- Model: FinePix S9500
- ModifyDate: 2007:12:04 17:22:10
- Orientation: Horizontal (normal)
- TimeZoneOffset: -8 -8
- IFD1
- IPTC
- XMP-crs
- AlreadyApplied: True
- BlueHue: 0
- BlueSaturation: 0
- Brightness: +50
- CameraProfile: ACR 3.3
- ChromaticAberrationB: 0
- ChromaticAberrationR: 0
- Clarity: 40
- ColorNoiseReduction: 42
- Contrast: +40
- ConvertToGrayscale: False
- Defringe: 0
- Exposure: 0.00
- FillLight: 29
- GreenHue: 0
- GreenSaturation: 0
- HasCrop: False
- HasSettings: True
- HighlightRecovery: 23
- HueAdjustmentAqua: 0
- HueAdjustmentBlue: 0
- HueAdjustmentGreen: 0
- HueAdjustmentMagenta: 0
- HueAdjustmentOrange: 0
- HueAdjustmentPurple: 0
- HueAdjustmentRed: 0
- HueAdjustmentYellow: 0
- LuminanceAdjustmentAqua: 0
- LuminanceAdjustmentBlue: 0
- LuminanceAdjustmentGreen: 0
- LuminanceAdjustmentMagenta: 0
- LuminanceAdjustmentOrange: 0
- LuminanceAdjustmentPurple: 0
- LuminanceAdjustmentRed: 0
- LuminanceAdjustmentYellow: 0
- LuminanceSmoothing: 34
- ParametricDarks: 0
- ParametricHighlightSplit: 75
- ParametricHighlights: 0
- ParametricLights: 0
- ParametricMidtoneSplit: 50
- ParametricShadowSplit: 25
- ParametricShadows: 0
- RawFileName: DSCF9235.RAF
- RedHue: 0
- RedSaturation: 0
- Saturation: +3
- SaturationAdjustmentAqua: 0
- SaturationAdjustmentBlue: 0
- SaturationAdjustmentGreen: 0
- SaturationAdjustmentMagenta: 0
- SaturationAdjustmentOrange: 0
- SaturationAdjustmentPurple: 0
- SaturationAdjustmentRed: 0
- SaturationAdjustmentYellow: 0
- ShadowTint: 0
- Shadows: 46
- SharpenDetail: 51
- SharpenEdgeMasking: 54
- SharpenRadius: +1.2
- Sharpness: 41
- SplitToningBalance: 0
- SplitToningHighlightHue: 0
- SplitToningHighlightSaturation: 0
- SplitToningShadowHue: 0
- SplitToningShadowSaturation: 0
- Temperature: 5350
- Tint: -16
- ToneCurve: 0, 0, 32, 22, 64, 56, 128, 128, 192, 196, 255, 255
- ToneCurveName: Medium Contrast
- Version: 4.1
- Vibrance: +10
- VignetteAmount: 0
- WhiteBalance: As Shot
- XMP-dc
- XMP-exif
- DateTimeDigitized: 2007:11:22 15:06:38-08:00
- DateTimeOriginal: 2007:11:22 15:06:38-08:00
- FlashFired: False
- FlashFunction: False
- FlashMode: Off
- FlashRedEyeMode: False
- FlashReturn: No return detection
- SubjectDistanceRange: Unknown
- XMP-tiff
- XMP-xmp
- CreateDate: 2007:12:04 17:22:10-08:00
- ModifyDate: 2007:12:04 17:22:10-08:00
- Rating: 0
- XMP-xmpMM
- Просмотров: 364
- Рейтинг: голосов еще нет
- Отзывов: 0
Получить код для блога
| Вставка фотографии в текущем разрешении |
Вставка миниатюры |
HTML (для вставки в блог):
BBCode (для вставки в форум):
Ссылка на фото:
Ссылка на миниатюру:
- Послать ссылку другу
| Комментарии к фотографии |