| » Участники » Mutaborr » QI © May 25 » 2012.05.25 _ O130e.jpg |
Уважаемые друзья и участники проекта iXBT.photo! К сожалению, 1 марта 2026 года проект iXBT.photo прекратит свою работу и будет закрыт. Мы высоко ценим ваше участие и тот вклад, который вы внесли в развитие нашего сообщества. Пожалуйста, не забудьте сохранить ваши фотографии до этой даты.
С уважением, команда iXBT.com
| 2012.05.25 _ O130e.jpg |
2012.05.25 _ O130e.jpg
- Раздел: Активный отдых, туризм
- Дата съёмки: 25.05.2012 12:18
- Дата загрузки фото: 06.10.2022 11:58
- Оригинальная фотография: 4608 x 3072 (8,2 Мб)
- Технические характеристики:
- Фотоаппарат: Olympus E-M5
- Выдержка: 0,0
- Гиперфокальное расстояние: inf m
- Диафрагма: 4,5
- Светочувствительность: 200
- Фокусное расстояние: 17,0 mm (35 mm equivalent: 34,0 mm)
- Полный EXIF
- Adobe
- ColorTransform: YCbCr
- Composite
- Aperture: 4,5
- CircleOfConfusion: 0,015 mm
- FOV: 55,0 deg
- FocalLength35efl: 17,0 mm (35 mm equivalent: 34,0 mm)
- GPSAltitude: 31 m Above Sea Level
- GPSLatitude: 54 deg 50' 14,00" N
- GPSLatitudeRef: North
- GPSLongitude: 37 deg 47' 23,00" E
- GPSLongitudeRef: East
- GPSPosition: 54 deg 50' 14,00" N, 37 deg 47' 23,00" E
- HyperfocalDistance: inf m
- Megapixels: 14,2
- ScaleFactor35efl: 2,0
- ShutterSpeed: 0,0
- ExifIFD
- ApertureValue: 4,0
- CFAPattern: [Red,Green][Green,Blue]
- ColorSpace: sRGB
- Contrast: Normal
- CreateDate: 2012:05:25 12:18:35
- CustomRendered: Normal
- DateTimeOriginal: 2012:05:25 12:18:35
- DigitalZoomRatio: 1
- ExifImageHeight: 3072
- ExifImageWidth: 4608
- ExposureCompensation: 0
- ExposureMode: Auto
- ExposureProgram: Aperture-priority AE
- ExposureTime: 0,0
- FNumber: 4,5
- Flash: Auto, Did not fire
- FocalLength: 17,0 mm
- FocalLengthIn35mmFormat: 34 mm
- GainControl: None
- ISO: 200
- LensInfo: 12-50mm f/3.5-6.3
- LensModel: OLYMPUS M.12-50mm F3.5-6.3
- LensSerialNumber: ABP221998
- LightSource: Unknown
- MaxApertureValue: 2,8
- MeteringMode: Multi-segment
- Saturation: Normal
- SceneCaptureType: Standard
- SensitivityType: Standard Output Sensitivity
- SerialNumber: BEK501834
- Sharpness: Normal
- ShutterSpeedValue: 1/512
- WhiteBalance: Auto
- GPS
- GPSAltitude: 31,8 m
- GPSAltitudeRef: Above Sea Level
- GPSLatitude: 54 deg 50' 14,00"
- GPSLongitude: 37 deg 47' 23,00"
- GPSMapDatum: WGS-84
- GPSSpeed: 1,8315
- GPSSpeedRef: km/h
- GPSVersionID: 2.3.0.0
- ICC-header
- ICC-meas
- ICC-view
- IFD0
- Artist: <= Mutaborr =>
- Copyright: KIP
- ImageDescription: OLYMPUS DIGITAL CAMERA
- Make: OLYMPUS IMAGING CORP.
- Model: E-M5
- ModifyDate: 2018:12:11 18:58:57
- Orientation: Horizontal (normal)
- IFD1
- IPTC
- By-line: <= Mutaborr =>
- Caption-Abstract: OLYMPUS DIGITAL CAMERA
- CopyrightNotice: KIP
- DateCreated: 2012:05:25
- System
- XMP-aux
- ApproximateFocusDistance: 17,3
- DistortionCorrectionAlreadyApplied: True
- FlashCompensation: 0
- LateralChromaticAberrationCorrectionAlreadyApplied: True
- Lens: OLYMPUS M.12-50mm F3.5-6.3
- XMP-crs
- AlreadyApplied: True
- AutoLateralCA: 1
- Blacks2012: 0
- BlueHue: 0
- BlueSaturation: 0
- CameraProfile: Camera Natural
- Clarity2012: 0
- ColorNoiseReduction: 25
- ColorNoiseReductionDetail: 50
- ColorNoiseReductionSmoothness: 50
- ColorTemperature: 5250
- Contrast2012: +42
- ConvertToGrayscale: False
- DefringeGreenAmount: 2
- DefringeGreenHueHi: 60
- DefringeGreenHueLo: 40
- DefringePurpleAmount: 2
- DefringePurpleHueHi: 70
- DefringePurpleHueLo: 30
- Dehaze: 0
- Exposure2012: 0.00
- GrainAmount: 0
- GreenHue: 0
- GreenSaturation: 0
- HasCrop: False
- HasSettings: True
- Highlights2012: -88
- HueAdjustmentAqua: 0
- HueAdjustmentBlue: 0
- HueAdjustmentGreen: 0
- HueAdjustmentMagenta: 0
- HueAdjustmentOrange: 0
- HueAdjustmentPurple: 0
- HueAdjustmentRed: 0
- HueAdjustmentYellow: 0
- LensManualDistortionAmount: 0
- LensProfileEnable: 1
- LensProfileSetup: LensDefaults
- LuminanceAdjustmentAqua: 0
- LuminanceAdjustmentBlue: 0
- LuminanceAdjustmentGreen: 0
- LuminanceAdjustmentMagenta: 0
- LuminanceAdjustmentOrange: 0
- LuminanceAdjustmentPurple: 0
- LuminanceAdjustmentRed: 0
- LuminanceAdjustmentYellow: 0
- LuminanceSmoothing: 0
- ParametricDarks: 0
- ParametricHighlightSplit: 75
- ParametricHighlights: 0
- ParametricLights: 0
- ParametricMidtoneSplit: 50
- ParametricShadowSplit: 25
- ParametricShadows: 0
- PerspectiveAspect: 0
- PerspectiveHorizontal: 0
- PerspectiveRotate: 0.0
- PerspectiveScale: 100
- PerspectiveUpright: 0
- PerspectiveVertical: 0
- PerspectiveX: 0.00
- PerspectiveY: 0.00
- PostCropVignetteAmount: 0
- ProcessVersion: 6.7
- RawFileName: ORF00453.ORF
- RedHue: 0
- RedSaturation: 0
- Saturation: 0
- SaturationAdjustmentAqua: 0
- SaturationAdjustmentBlue: 0
- SaturationAdjustmentGreen: 0
- SaturationAdjustmentMagenta: 0
- SaturationAdjustmentOrange: 0
- SaturationAdjustmentPurple: 0
- SaturationAdjustmentRed: 0
- SaturationAdjustmentYellow: 0
- ShadowTint: 0
- Shadows2012: +56
- SharpenDetail: 25
- SharpenEdgeMasking: 0
- SharpenRadius: +1.0
- Sharpness: 25
- SplitToningBalance: 0
- SplitToningHighlightHue: 0
- SplitToningHighlightSaturation: 0
- SplitToningShadowHue: 0
- SplitToningShadowSaturation: 0
- Tint: +10
- ToneCurve: 0, 0, 32, 22, 64, 56, 128, 128, 192, 196, 255, 255
- ToneCurveBlue: 0, 0, 255, 255
- ToneCurveGreen: 0, 0, 255, 255
- ToneCurveName: Medium Contrast
- ToneCurveName2012: Linear
- ToneCurvePV2012: 0, 0, 255, 255
- ToneCurvePV2012Blue: 0, 0, 255, 255
- ToneCurvePV2012Green: 0, 0, 255, 255
- ToneCurvePV2012Red: 0, 0, 255, 255
- ToneCurveRed: 0, 0, 255, 255
- ToneMapStrength: 0
- Version: 9.12.1
- Vibrance: 0
- VignetteAmount: 0
- WhiteBalance: Custom
- Whites2012: +14
- XMP-dc
- Creator: <= Mutaborr =>
- Description: OLYMPUS DIGITAL CAMERA
- Format: image/jpeg
- Rights: KIP
- XMP-exif
- XMP-x
- XMP-xmp
- CreatorTool: Version 1.1
- ModifyDate: 2018:12:11 18:58:57+03:00
- Rating: 0
- XMP-xmpMM
- Просмотров: 50
- Рейтинг: голосов еще нет
- Отзывов: отключены
Получить код для блога
| Вставка фотографии в текущем разрешении |
Вставка миниатюры |
HTML (для вставки в блог):
BBCode (для вставки в форум):
Ссылка на фото:
Ссылка на миниатюру:
- Послать ссылку другу
| Комментарии к фотографии |