| » Участники » Mutaborr » OG © July 22 » 2014.07.22 _ 7t171.jpg |
Уважаемые друзья и участники проекта iXBT.photo! К сожалению, 1 марта 2026 года проект iXBT.photo прекратит свою работу и будет закрыт. Мы высоко ценим ваше участие и тот вклад, который вы внесли в развитие нашего сообщества. Пожалуйста, не забудьте сохранить ваши фотографии до этой даты.
С уважением, команда iXBT.com
| 2014.07.22 _ 7t171.jpg |
2014.07.22 _ 7t171.jpg
- Раздел: Активный отдых, туризм
- Дата съёмки: 22.07.2014 14:23
- Дата загрузки фото: 11.11.2022 17:34
- Оригинальная фотография: 4000 x 6000 (5,1 Мб)
- Технические характеристики:
- Фотоаппарат: Nikon D7100
- Выдержка: 0,0
- Гиперфокальное расстояние: inf m
- Диафрагма: 6,3
- Светочувствительность: 100
- Фокусное расстояние: 180,0 mm (35 mm equivalent: 180,0 mm)
- Полный EXIF
- Adobe
- ColorTransform: YCbCr
- Composite
- Aperture: 6,3
- CircleOfConfusion: 0,020 mm
- FOV: 11,0 deg
- FocalLength35efl: 180,0 mm (35 mm equivalent: 180,0 mm)
- GPSAltitude: 99 m Above Sea Level
- GPSDateTime: 2014:07:22 10:24:41Z
- GPSLatitude: 54 deg 48' 48,00" N
- GPSLatitudeRef: North
- GPSLongitude: 38 deg 6' 8,00" E
- GPSLongitudeRef: East
- GPSPosition: 54 deg 48' 48,00" N, 38 deg 6' 8,00" E
- HyperfocalDistance: inf m
- LensID: AF-S VR Zoom-Nikkor 70-300mm f/4.5-5.6G IF-ED
- Megapixels: 24,0
- ScaleFactor35efl: 1,5
- ShutterSpeed: 0,0
- ExifIFD
- ApertureValue: 5,7
- CFAPattern: [Red,Green][Green,Blue]
- ColorSpace: sRGB
- Contrast: Normal
- CreateDate: 2014:07:22 14:23:31
- CustomRendered: Normal
- DateTimeOriginal: 2014:07:22 14:23:31
- DigitalZoomRatio: 1
- ExifImageHeight: 6000
- ExifImageWidth: 4000
- ExposureCompensation: 0
- ExposureMode: Auto
- ExposureProgram: Aperture-priority AE
- ExposureTime: 0,0
- FNumber: 6,3
- Flash: Off, Did not fire
- FocalLength: 180,0 mm
- FocalLengthIn35mmFormat: 270 mm
- GainControl: None
- ISO: 100
- LensInfo: 70-300mm f/4.5-5.6
- LensModel: 70.0-300.0 mm f/4.5-5.6
- LightSource: Unknown
- MaxApertureValue: 4,0
- MeteringMode: Multi-segment
- Saturation: Normal
- SceneCaptureType: Standard
- SceneType: Directly photographed
- SensingMethod: One-chip color area
- SensitivityType: Recommended Exposure Index
- SerialNumber: 4356224
- Sharpness: Normal
- ShutterSpeedValue: 1/256
- SubjectDistanceRange: Unknown
- WhiteBalance: Auto
- GPS
- GPSAltitude: 99 m
- GPSAltitudeRef: Above Sea Level
- GPSDateStamp: 2014:07:22
- GPSLatitude: 54 deg 48' 48,00"
- GPSLongitude: 38 deg 6' 8,00"
- GPSMapDatum: WGS-84
- GPSTimeStamp: 10:24:41
- GPSVersionID: 2.2.0.0
- ICC-header
- ICC-meas
- ICC-view
- IFD0
- Artist: < Mutaborr >
- Copyright: < Mutaborr >
- Make: NIKON CORPORATION
- Model: NIKON D7100
- ModifyDate: 2014:07:22 14:23:31
- Orientation: Horizontal (normal)
- IFD1
- IPTC
- By-line: < Mutaborr >
- CopyrightNotice: < Mutaborr >
- DateCreated: 2014:07:22
- System
- XMP-aux
- ApproximateFocusDistance: 4294967295
- ImageNumber: 2796
- LateralChromaticAberrationCorrectionAlreadyApplied: True
- Lens: 70.0-300.0 mm f/4.5-5.6
- LensID: 141
- VignetteCorrectionAlreadyApplied: True
- XMP-crs
- AlreadyApplied: True
- AutoLateralCA: 1
- AutoWhiteVersion: 134348800
- Blacks2012: 0
- BlueHue: 0
- BlueSaturation: 0
- CameraProfile: Camera Landscape
- Clarity2012: 0
- ColorNoiseReduction: 25
- ColorNoiseReductionDetail: 50
- ColorNoiseReductionSmoothness: 50
- ColorTemperature: 5150
- Contrast2012: +45
- ConvertToGrayscale: False
- DefringeGreenAmount: 1
- DefringeGreenHueHi: 60
- DefringeGreenHueLo: 40
- DefringePurpleAmount: 1
- DefringePurpleHueHi: 70
- DefringePurpleHueLo: 30
- Dehaze: 0
- Exposure2012: -0.20
- GrainAmount: 0
- GreenHue: 0
- GreenSaturation: 0
- HasCrop: False
- HasSettings: True
- Highlights2012: -60
- HueAdjustmentAqua: 0
- HueAdjustmentBlue: 0
- HueAdjustmentGreen: 0
- HueAdjustmentMagenta: 0
- HueAdjustmentOrange: 0
- HueAdjustmentPurple: 0
- HueAdjustmentRed: 0
- HueAdjustmentYellow: 0
- LensManualDistortionAmount: 0
- LensProfileChromaticAberrationScale: 100
- LensProfileDistortionScale: 0
- LensProfileEnable: 1
- LensProfileFilename: NIKON D700 (Nikon FX 70-300mm f4.5-5.6 G IF-ED VR) - RAW.lcp
- LensProfileSetup: Custom
- LensProfileVignettingScale: 100
- LuminanceAdjustmentAqua: 0
- LuminanceAdjustmentBlue: 0
- LuminanceAdjustmentGreen: 0
- LuminanceAdjustmentMagenta: 0
- LuminanceAdjustmentOrange: 0
- LuminanceAdjustmentPurple: 0
- LuminanceAdjustmentRed: 0
- LuminanceAdjustmentYellow: 0
- LuminanceSmoothing: 0
- ParametricDarks: 0
- ParametricHighlightSplit: 75
- ParametricHighlights: 0
- ParametricLights: 0
- ParametricMidtoneSplit: 50
- ParametricShadowSplit: 25
- ParametricShadows: 0
- PerspectiveAspect: 0
- PerspectiveHorizontal: 0
- PerspectiveRotate: 0.0
- PerspectiveScale: 100
- PerspectiveUpright: 0
- PerspectiveVertical: 0
- PostCropVignetteAmount: 0
- ProcessVersion: 6.7
- RawFileName: NEF_2702.NEF
- RedHue: 0
- RedSaturation: 0
- Saturation: 0
- SaturationAdjustmentAqua: 0
- SaturationAdjustmentBlue: -15
- SaturationAdjustmentGreen: 0
- SaturationAdjustmentMagenta: 0
- SaturationAdjustmentOrange: 0
- SaturationAdjustmentPurple: 0
- SaturationAdjustmentRed: 0
- SaturationAdjustmentYellow: 0
- ShadowTint: 0
- Shadows2012: +70
- SharpenDetail: 25
- SharpenEdgeMasking: 0
- SharpenRadius: +1.0
- Sharpness: 25
- SplitToningBalance: 0
- SplitToningHighlightHue: 0
- SplitToningHighlightSaturation: 0
- SplitToningShadowHue: 0
- SplitToningShadowSaturation: 0
- Tint: +10
- ToneCurve: 0, 0, 32, 22, 64, 56, 128, 128, 192, 196, 255, 255
- ToneCurveBlue: 0, 0, 255, 255
- ToneCurveGreen: 0, 0, 255, 255
- ToneCurveName: Medium Contrast
- ToneCurveName2012: Linear
- ToneCurvePV2012: 0, 0, 255, 255
- ToneCurvePV2012Blue: 0, 0, 255, 255
- ToneCurvePV2012Green: 0, 0, 255, 255
- ToneCurvePV2012Red: 0, 0, 255, 255
- ToneCurveRed: 0, 0, 255, 255
- ToneMapStrength: 0
- Version: 9.5
- Vibrance: 0
- VignetteAmount: 0
- WhiteBalance: Custom
- Whites2012: 0
- XMP-dc
- Creator: < Mutaborr >
- Format: image/jpeg
- Rights: < Mutaborr >
- XMP-exif
- DateTimeDigitized: 2014:07:22 14:23:31+04:00
- DateTimeOriginal: 2014:07:22 14:23:31+04:00
- XMP-x
- XMP-xmp
- CreatorTool: Ver.1.01
- ModifyDate: 2014:07:22 14:23:31+04:00
- XMP-xmpMM
- Просмотров: 88
- Рейтинг: голосов еще нет
- Отзывов: отключены
Получить код для блога
| Вставка фотографии в текущем разрешении |
Вставка миниатюры |
HTML (для вставки в блог):
BBCode (для вставки в форум):
Ссылка на фото:
Ссылка на миниатюру:
- Послать ссылку другу
| Комментарии к фотографии |