» Участники » Yur » Люди » DSC_9720-web.jpg |
DSC_9720-web.jpg |
DSC_9720-web.jpg
- Раздел: Портрет
- Дата съёмки: 02.12.2007 17:17
- Дата загрузки фото: 21.12.2007 12:09
- Оригинальная фотография: 685 x 1024 ( 79 Кб)
- Технические характеристики:
- Фотоаппарат: Nikon D80
- Выдержка: 1/60
- Гиперфокальное расстояние: 60.41 m
- Диафрагма: 10.0
- Светочувствительность: 100
- Фокусное расстояние: 110.0mm (35mm эквивалент: 165.0mm)
- Полный EXIF
- Composite
- Aperture: 10.0
- CircleOfConfusion: 0.020 mm
- FocalLength35efl: 110.0mm (35mm equivalent: 165.0mm)
- HyperfocalDistance: 60.41 m
- LightValue: 12.6
- ScaleFactor35efl: 1.5
- ShutterSpeed: 1/60
- ExifIFD
- ApertureValue: 10,0
- CFAPattern: [Green,Blue][Red,Green]
- Contrast: High
- CreateDate: 2007:12:02 17:17:02
- CustomRendered: Normal
- DateTimeOriginal: 2007:12:02 17:17:02
- DigitalZoomRatio: 1
- ExposureCompensation: 0
- ExposureMode: Auto
- ExposureProgram: Aperture-priority AE
- ExposureTime: 1/60
- FNumber: 10,0
- Flash: Auto, Fired, Return not detected
- FocalLength: 110,0mm
- FocalLengthIn35mmFormat: 165mm
- GainControl: None
- ISO: 100
- LightSource: Unknown (0)
- MaxApertureValue: 4,0
- MeteringMode: Multi-segment
- Saturation: Normal
- SceneCaptureType: Standard
- SceneType: Directly photographed
- SensingMethod: One-chip color area
- Sharpness: Hard
- ShutterSpeedValue: 1/60
- WhiteBalance: Auto
- ICC-header
- ICC-meas
- ICC-view
- IFD0
- Make: NIKON CORPORATION
- Model: NIKON D80
- ModifyDate: 2007:12:20 21:52:44
- Software: ViewNX 1.0 W
- XMP-aux
- ImageNumber: 52492
- Lens: 70.0-210.0 mm f/4.0
- LensInfo: 70/1 210/1 4/1 4/1
- XMP-crs
- AlreadyApplied: True
- BlueHue: 0
- BlueSaturation: 0
- Brightness: +150
- CameraProfile: ACR 2.4
- ChromaticAberrationB: 0
- ChromaticAberrationR: 0
- Clarity: 0
- ColorNoiseReduction: 25
- Contrast: +9
- ConvertToGrayscale: False
- Defringe: 0
- Exposure: +1.15
- FillLight: 0
- GreenHue: 0
- GreenSaturation: 0
- HasCrop: False
- HasSettings: True
- HighlightRecovery: 0
- HueAdjustmentAqua: 0
- HueAdjustmentBlue: 0
- HueAdjustmentGreen: 0
- HueAdjustmentMagenta: 0
- HueAdjustmentOrange: 0
- HueAdjustmentPurple: 0
- HueAdjustmentRed: 0
- HueAdjustmentYellow: 0
- LuminanceAdjustmentAqua: 0
- LuminanceAdjustmentBlue: 0
- LuminanceAdjustmentGreen: 0
- LuminanceAdjustmentMagenta: 0
- LuminanceAdjustmentOrange: 0
- LuminanceAdjustmentPurple: 0
- LuminanceAdjustmentRed: 0
- LuminanceAdjustmentYellow: 0
- LuminanceSmoothing: 0
- ParametricDarks: -3
- ParametricHighlightSplit: 75
- ParametricHighlights: 0
- ParametricLights: 0
- ParametricMidtoneSplit: 50
- ParametricShadowSplit: 25
- ParametricShadows: -14
- RedHue: 0
- RedSaturation: 0
- Saturation: -100
- SaturationAdjustmentAqua: 0
- SaturationAdjustmentBlue: 0
- SaturationAdjustmentGreen: 0
- SaturationAdjustmentMagenta: 0
- SaturationAdjustmentOrange: 0
- SaturationAdjustmentPurple: 0
- SaturationAdjustmentRed: 0
- SaturationAdjustmentYellow: 0
- ShadowTint: 0
- Shadows: 28
- SharpenDetail: 50
- SharpenEdgeMasking: 0
- SharpenRadius: +1.0
- Sharpness: 25
- SplitToningBalance: 0
- SplitToningHighlightHue: 0
- SplitToningHighlightSaturation: 0
- SplitToningShadowHue: 0
- SplitToningShadowSaturation: 0
- Temperature: 4213
- Tint: -74
- ToneCurve: 0, 0, 255, 255
- ToneCurveName: Linear
- Version: 1.0
- Vibrance: 0
- VignetteAmount: 0
- WhiteBalance: Custom
- XMP-exif
- DateTimeDigitized: 2007:12:02 17:17:02.70+02:00
- DateTimeOriginal: 2007:12:02 17:17:02.70+02:00
- FlashFired: True
- FlashFunction: False
- FlashMode: Auto
- FlashRedEyeMode: False
- FlashReturn: Return not detected
- FocalLengthIn35mmFormat: 165
- SubjectDistanceRange: Unknown
- XMP-tiff
- ImageHeight: 3872
- ImageWidth: 2592
- XMP-xmp
- ModifyDate: 2007:12:20 21:52:44+02:00
- Просмотров: 431
- Рейтинг: голосов еще нет
- Отзывов: 0
Получить код для блога
Вставка фотографии в текущем разрешении |
Вставка миниатюры |
HTML (для вставки в блог):
BBCode (для вставки в форум):
Ссылка на фото:
Ссылка на миниатюру:
- Послать ссылку другу
Комментарии к фотографии |