- Раздел: Путешествия
- Дата съёмки: 13.01.2008 23:43
- Дата загрузки фото: 14.01.2008 01:59
- Оригинальная фотография: 800 x 536 (172 Кб)
- Технические характеристики:
- Фотоаппарат: Nikon D80
- Выдержка: 1/125
- Гиперфокальное расстояние: 356,59 m
- Диафрагма: 5,6
- Светочувствительность: 250
- Фокусное расстояние: 200,0mm (35mm эквивалент: 300,0mm)
- Экспокоррекция: -1
- Полный EXIF
- Adobe
- ColorTransform: YCbCr
- Composite
- Aperture: 5,6
- CircleOfConfusion: 0,020 mm
- FocalLength35efl: 200,0mm (35mm equivalent: 300,0mm)
- HyperfocalDistance: 356,59 m
- LightValue: 10,6
- ScaleFactor35efl: 1,5
- ShutterSpeed: 1/125
- ExifIFD
- ApertureValue: 5,6
- CFAPattern: [Green,Blue][Red,Green]
- ColorSpace: sRGB
- Contrast: High
- CreateDate: 2008:01:01 12:02:13
- CustomRendered: Normal
- DateTimeOriginal: 2008:01:01 12:02:13
- DigitalZoomRatio: 1
- ExifImageLength: 536
- ExifImageWidth: 800
- ExposureCompensation: -1
- ExposureMode: Auto
- ExposureProgram: Aperture-priority AE
- ExposureTime: 1/125
- FNumber: 5,6
- Flash: No Flash
- FocalLength: 200,0mm
- FocalLengthIn35mmFormat: 300mm
- GainControl: None
- ISO: 250
- LightSource: Unknown (0)
- MaxApertureValue: 2,8
- MeteringMode: Center-weighted average
- Saturation: Normal
- SceneCaptureType: Standard
- SceneType: Directly photographed
- SensingMethod: One-chip color area
- Sharpness: Normal
- ShutterSpeedValue: 1/125
- WhiteBalance: Auto
- ICC-header
- ICC-meas
- ICC-view
- IFD0
- Make: NIKON CORPORATION
- Model: NIKON D80
- ModifyDate: 2008:01:13 23:43:52
- Orientation: Horizontal (normal)
- IFD1
- IPTC
- XMP-aux
- ImageNumber: 12586
- Lens: 80.0-200.0 mm f/2.8
- LensInfo: 800/10 2000/10 28/10 28/10
- XMP-crs
- AlreadyApplied: True
- BlueHue: 0
- BlueSaturation: 0
- Brightness: +111
- CameraProfile: ACR 3.6
- ChromaticAberrationB: 0
- ChromaticAberrationR: 0
- Clarity: 68
- ColorNoiseReduction: 44
- Contrast: -1
- ConvertToGrayscale: False
- Defringe: 0
- Exposure: -0.55
- FillLight: 16
- GreenHue: 0
- GreenSaturation: 0
- HasCrop: False
- HasSettings: True
- HighlightRecovery: 0
- HueAdjustmentAqua: 0
- HueAdjustmentBlue: 0
- HueAdjustmentGreen: 0
- HueAdjustmentMagenta: 0
- HueAdjustmentOrange: 0
- HueAdjustmentPurple: 0
- HueAdjustmentRed: 0
- HueAdjustmentYellow: 0
- LuminanceAdjustmentAqua: 0
- LuminanceAdjustmentBlue: 0
- LuminanceAdjustmentGreen: 0
- LuminanceAdjustmentMagenta: 0
- LuminanceAdjustmentOrange: 0
- LuminanceAdjustmentPurple: 0
- LuminanceAdjustmentRed: 0
- LuminanceAdjustmentYellow: 0
- LuminanceSmoothing: 30
- ParametricDarks: 0
- ParametricHighlightSplit: 75
- ParametricHighlights: 0
- ParametricLights: 0
- ParametricMidtoneSplit: 50
- ParametricShadowSplit: 25
- ParametricShadows: 0
- RawFileName: DSC_6923.NEF
- RedHue: 0
- RedSaturation: 0
- Saturation: +3
- SaturationAdjustmentAqua: 0
- SaturationAdjustmentBlue: 0
- SaturationAdjustmentGreen: 0
- SaturationAdjustmentMagenta: 0
- SaturationAdjustmentOrange: 0
- SaturationAdjustmentPurple: 0
- SaturationAdjustmentRed: 0
- SaturationAdjustmentYellow: 0
- ShadowTint: 0
- Shadows: 23
- SharpenDetail: 65
- SharpenEdgeMasking: 0
- SharpenRadius: +0.8
- Sharpness: 92
- SplitToningBalance: 0
- SplitToningHighlightHue: 0
- SplitToningHighlightSaturation: 0
- SplitToningShadowHue: 0
- SplitToningShadowSaturation: 0
- Temperature: 4650
- Tint: 0
- ToneCurve: 0, 0, 32, 22, 64, 56, 128, 128, 192, 196, 255, 255
- ToneCurveName: Medium Contrast
- Version: 4.3
- Vibrance: +10
- VignetteAmount: +33
- VignetteMidpoint: 50
- XMP-dc
- XMP-exif
- DateTimeDigitized: 2008:01:01 12:02:13.50+03:00
- DateTimeOriginal: 2008:01:01 12:02:13.50+03:00
- FlashFired: False
- FlashFunction: False
- FlashMode: Unknown
- FlashRedEyeMode: False
- FlashReturn: No return detection
- FocalLengthIn35mmFormat: 300
- SubjectDistanceRange: Unknown
- XMP-tiff
- ImageHeight: 2592
- ImageWidth: 3872
- XMP-xmp
- CreateDate: 2008:01:13 23:43:52+03:00
- ModifyDate: 2008:01:13 23:43:52+03:00
- XMP-xmpMM
- DerivedFrom:
- Просмотров: 132
- Рейтинг: голосов еще нет
- Отзывов: 0