- Раздел: Путешествия
- Дата съёмки: 13.01.2008 23:18
- Дата загрузки фото: 14.01.2008 11:25
- Оригинальная фотография: 800 x 533 (157 Кб)
- Технические характеристики:
- Фотоаппарат: Canon EOS 5D
- Выдержка: 1/250
- Гиперфокальное расстояние: 109,41 m
- Диафрагма: 5,6
- Светочувствительность: 400
- Фокусное расстояние: 58,0mm (35mm эквивалент: 317,4mm)
- Экспокоррекция: -2/3
- Полный EXIF
- Adobe
- ColorTransform: YCbCr
- Composite
- Aperture: 5,6
- CircleOfConfusion: 0,005 mm
- FocalLength35efl: 58,0mm (35mm equivalent: 317,4mm)
- HyperfocalDistance: 109,41 m
- LightValue: 10,9
- ScaleFactor35efl: 5,5
- ShutterSpeed: 1/250
- ExifIFD
- ApertureValue: 5,6
- ColorSpace: sRGB
- CreateDate: 2008:01:01 12:57:29
- CustomRendered: Normal
- DateTimeOriginal: 2008:01:01 12:57:29
- ExifImageLength: 533
- ExifImageWidth: 800
- ExposureCompensation: -2/3
- ExposureMode: Auto
- ExposureProgram: Aperture-priority AE
- ExposureTime: 1/250
- FNumber: 5,6
- Flash: Off
- FocalLength: 58,0mm
- ISO: 400
- MaxApertureValue: 4,0
- MeteringMode: Multi-segment
- SceneCaptureType: Standard
- ShutterSpeedValue: 1/250
- WhiteBalance: Auto
- ICC-header
- ICC-meas
- ICC-view
- IFD0
- Make: Canon
- Model: Canon EOS 5D
- ModifyDate: 2008:01:13 23:18:13
- Orientation: Horizontal (normal)
- IFD1
- IPTC
- XMP-aux
- Firmware: 1.1.0
- FlashCompensation: 0
- ImageNumber: 60
- Lens: EF24-105mm f/4L IS USM
- LensInfo: 24/1 105/1 0/0 0/0
- SerialNumber: 1020707638
- XMP-crs
- AlreadyApplied: True
- BlueHue: 0
- BlueSaturation: 0
- Brightness: +150
- CameraProfile: ACR 3.3
- ChromaticAberrationB: 0
- ChromaticAberrationR: 0
- Clarity: 98
- ColorNoiseReduction: 44
- Contrast: -1
- ConvertToGrayscale: False
- Defringe: 0
- Exposure: -2.45
- FillLight: 44
- GreenHue: 0
- GreenSaturation: 0
- HasCrop: False
- HasSettings: True
- HighlightRecovery: 0
- HueAdjustmentAqua: 0
- HueAdjustmentBlue: 0
- HueAdjustmentGreen: 0
- HueAdjustmentMagenta: 0
- HueAdjustmentOrange: 0
- HueAdjustmentPurple: 0
- HueAdjustmentRed: 0
- HueAdjustmentYellow: 0
- LuminanceAdjustmentAqua: 0
- LuminanceAdjustmentBlue: 0
- LuminanceAdjustmentGreen: 0
- LuminanceAdjustmentMagenta: 0
- LuminanceAdjustmentOrange: 0
- LuminanceAdjustmentPurple: 0
- LuminanceAdjustmentRed: 0
- LuminanceAdjustmentYellow: 0
- LuminanceSmoothing: 30
- ParametricDarks: 0
- ParametricHighlightSplit: 75
- ParametricHighlights: 0
- ParametricLights: 0
- ParametricMidtoneSplit: 50
- ParametricShadowSplit: 25
- ParametricShadows: 0
- RawFileName: 2008.01.01.12.57.29.CR2
- RedHue: 0
- RedSaturation: 0
- Saturation: +17
- SaturationAdjustmentAqua: 0
- SaturationAdjustmentBlue: 0
- SaturationAdjustmentGreen: 0
- SaturationAdjustmentMagenta: 0
- SaturationAdjustmentOrange: 0
- SaturationAdjustmentPurple: 0
- SaturationAdjustmentRed: 0
- SaturationAdjustmentYellow: 0
- ShadowTint: 0
- Shadows: 12
- SharpenDetail: 65
- SharpenEdgeMasking: 0
- SharpenRadius: +0.8
- Sharpness: 92
- SplitToningBalance: 0
- SplitToningHighlightHue: 0
- SplitToningHighlightSaturation: 0
- SplitToningShadowHue: 0
- SplitToningShadowSaturation: 0
- Temperature: 5500
- Tint: +10
- ToneCurve: 0, 0, 32, 22, 64, 56, 128, 128, 192, 196, 255, 255
- ToneCurveName: Medium Contrast
- Version: 4.3
- Vibrance: +10
- VignetteAmount: +33
- VignetteMidpoint: 50
- WhiteBalance: Daylight
- XMP-dc
- XMP-exif
- DateTimeDigitized: 2008:01:01 12:57:29+03:00
- DateTimeOriginal: 2008:01:01 12:57:29+03:00
- FlashFired: False
- FlashFunction: False
- FlashMode: Off
- FlashRedEyeMode: False
- FlashReturn: No return detection
- XMP-tiff
- ImageHeight: 2912
- ImageWidth: 4368
- XMP-xmp
- CreateDate: 2008:01:13 23:18:13+03:00
- ModifyDate: 2008:01:13 23:18:13+03:00
- XMP-xmpMM
- DerivedFrom:
- Просмотров: 120
- Рейтинг: голосов еще нет
- Отзывов: 0