| » Участники » andy-kk » Мужские портреты » Photo_by_abogdanoff.ru-6170.jpg |
Уважаемые друзья и участники проекта iXBT.photo! К сожалению, 1 марта 2026 года проект iXBT.photo прекратит свою работу и будет закрыт. Мы высоко ценим ваше участие и тот вклад, который вы внесли в развитие нашего сообщества. Пожалуйста, не забудьте сохранить ваши фотографии до этой даты.
С уважением, команда iXBT.com
| Photo_by_abogdanoff.ru-6170.jpg |
Photo_by_abogdanoff.ru-6170.jpg
- Раздел: Портрет
- Дата съёмки: неизвестно
- Дата загрузки фото: 03.06.2024 01:19
- Оригинальная фотография: 4800 x 6000 (11,3 Мб)
- Технические характеристики:
- Фотоаппарат: Canon EOS R5
- Выдержка: 0,0
- Гиперфокальное расстояние: inf m
- Диафрагма: 4,5
- Светочувствительность: 100
- Фокусное расстояние: 88,0 mm
- Полный EXIF
- Adobe
- ColorTransform: YCbCr
- Composite
- Aperture: 4,5
- CircleOfConfusion: 0,030 mm
- FocalLength35efl: 88,0 mm
- HyperfocalDistance: inf m
- LensID: Canon EF 70-200mm f/2.8L IS II USM
- Megapixels: 28,8
- ScaleFactor35efl: 1,0
- ShutterSpeed: 0,0
- ExifIFD
- ApertureValue: 4,0
- ColorSpace: sRGB
- CreateDate: 2023:11:28 17:57:03
- CustomRendered: Normal
- DateTimeOriginal: 2023:11:28 17:57:03
- ExposureCompensation: 0
- ExposureMode: Manual
- ExposureProgram: Manual
- ExposureTime: 0,0
- Flash: On, Fired
- FNumber: 4,5
- FocalLength: 88,0 mm
- ISO: 100
- LensInfo: 70-200mm f/?
- LensModel: EF70-200mm f/2.8L IS II USM
- LensSerialNumber: 0000c15c17
- MaxApertureValue: 2,8
- MeteringMode: Multi-segment
- RecommendedExposureIndex: 100
- SceneCaptureType: Standard
- SensitivityType: Recommended Exposure Index
- SerialNumber: 034021001680
- ShutterSpeedValue: 1/8
- WhiteBalance: Manual
- ICC-header
- ICC-meas
- ICC-view
- IFD0
- Artist: andrei_bogdanoff
- Copyright: abogdanoff.ru
- Make: Canon
- Model: Canon EOS R5
- ModifyDate: 2023:12:02 20:55:17
- IFD1
- IPTC
- By-line: andrei_bogdanoff
- CopyrightNotice: abogdanoff.ru
- DateCreated: 2023:11:28
- System
- XMP-aux
- ApproximateFocusDistance: 2,59
- DistortionCorrectionAlreadyApplied: True
- Firmware: 1.9.0
- FlashCompensation: 0
- ImageNumber: 0
- LateralChromaticAberrationCorrectionAlreadyApplied: True
- Lens: EF70-200mm f/2.8L IS II USM
- LensID: 251
- VignetteCorrectionAlreadyApplied: True
- XMP-crs
- AlreadyApplied: True
- AutoLateralCA: 1
- Blacks2012: -13
- BlueHue: 0
- BlueSaturation: 0
- CameraProfile: Camera Standard
- Clarity2012: +5
- ColorGradeBlending: 50
- ColorGradeGlobalHue: 0
- ColorGradeGlobalLum: 0
- ColorGradeGlobalSat: 0
- ColorGradeHighlightLum: -51
- ColorGradeMidtoneHue: 15
- ColorGradeMidtoneLum: +17
- ColorGradeMidtoneSat: 20
- ColorGradeShadowLum: +27
- ColorNoiseReduction: 25
- ColorNoiseReductionDetail: 50
- ColorNoiseReductionSmoothness: 50
- ColorTemperature: 4350
- Contrast2012: +4
- ConvertToGrayscale: False
- CropAngle: 0
- CropBottom: 1
- CropConstrainToWarp: 0
- CropLeft: 0.08313
- CropRight: 0.91687
- CropTop: 0
- CurveRefineSaturation: 100
- DefringeGreenAmount: 0
- DefringeGreenHueHi: 60
- DefringeGreenHueLo: 40
- DefringePurpleAmount: 0
- DefringePurpleHueHi: 70
- DefringePurpleHueLo: 30
- Dehaze: +18
- Exposure2012: +0.35
- GrainAmount: 92
- GrainFrequency: 40
- GrainSize: 39
- GreenHue: 0
- GreenSaturation: 0
- HasCrop: True
- HasSettings: True
- HDREditMode: 0
- Highlights2012: -66
- HueAdjustmentAqua: -4
- HueAdjustmentBlue: 0
- HueAdjustmentGreen: -16
- HueAdjustmentMagenta: +5
- HueAdjustmentOrange: 0
- HueAdjustmentPurple: +5
- HueAdjustmentRed: 0
- HueAdjustmentYellow: -9
- LensManualDistortionAmount: 0
- LensProfileDistortionScale: 100
- LensProfileEnable: 1
- LensProfileFilename: Canon EOS 5D Mark II (Canon EF 70-200mm f2.8L IS II USM) - RAW.lcp
- LensProfileIsEmbedded: False
- LensProfileSetup: LensDefaults
- LensProfileVignettingScale: 100
- LuminanceAdjustmentAqua: 0
- LuminanceAdjustmentBlue: 0
- LuminanceAdjustmentGreen: 0
- LuminanceAdjustmentMagenta: 0
- LuminanceAdjustmentOrange: -10
- LuminanceAdjustmentPurple: 0
- LuminanceAdjustmentRed: -15
- LuminanceAdjustmentYellow: -13
- LuminanceSmoothing: 0
- OverrideLookVignette: False
- ParametricDarks: 0
- ParametricHighlights: 0
- ParametricHighlightSplit: 75
- ParametricLights: 0
- ParametricMidtoneSplit: 50
- ParametricShadows: 0
- ParametricShadowSplit: 25
- PerspectiveAspect: 0
- PerspectiveHorizontal: 0
- PerspectiveRotate: 0.0
- PerspectiveScale: 100
- PerspectiveUpright: 0
- PerspectiveVertical: 0
- PerspectiveX: 0.00
- PerspectiveY: 0.00
- PostCropVignetteAmount: 0
- ProcessVersion: 15.4
- RawFileName: PICT6170.CR3
- RedHue: 0
- RedSaturation: 0
- Saturation: +3
- SaturationAdjustmentAqua: -42
- SaturationAdjustmentBlue: -39
- SaturationAdjustmentGreen: -35
- SaturationAdjustmentMagenta: -21
- SaturationAdjustmentOrange: -14
- SaturationAdjustmentPurple: -29
- SaturationAdjustmentRed: -3
- SaturationAdjustmentYellow: -24
- Shadows2012: +70
- ShadowTint: 0
- SharpenDetail: 20
- SharpenEdgeMasking: 0
- SharpenRadius: +1.0
- Sharpness: 30
- SplitToningBalance: -48
- SplitToningHighlightHue: 0
- SplitToningHighlightSaturation: 0
- SplitToningShadowHue: 184
- SplitToningShadowSaturation: 15
- Texture: 0
- Tint: -5
- ToneCurveName2012: Custom
- ToneCurvePV2012: 0, 13, 22, 29, 52, 58, 151, 144, 255, 215
- ToneCurvePV2012Blue: 0, 0, 255, 255
- ToneCurvePV2012Green: 0, 0, 255, 255
- ToneCurvePV2012Red: 0, 0, 255, 255
- Version: 16.0
- Vibrance: +20
- VignetteAmount: 0
- WhiteBalance: Custom
- Whites2012: +14
- XMP-dc
- Creator: andrei_bogdanoff
- Format: image/jpeg
- Rights: abogdanoff.ru
- XMP-exifEX
- XMP-xmp
- CreateDate: 2023:11:28 17:57:03.35+03:00
- ModifyDate: 2023:12:02 20:55:17+03:00
- Rating: 5
- XMP-xmpMM
- PreservedFileName: PICT6170.CR3
- Просмотров: 217
- Рейтинг: голосов еще нет
- Отзывов: отключены
Получить код для блога
| Вставка фотографии в текущем разрешении |
Вставка миниатюры |
HTML (для вставки в блог):
BBCode (для вставки в форум):
Ссылка на фото:
Ссылка на миниатюру:
- Послать ссылку другу
| Комментарии к фотографии |