Уважаемые друзья и участники проекта iXBT.photo! К сожалению, 1 марта 2026 года проект iXBT.photo прекратит свою работу и будет закрыт. Мы высоко ценим ваше участие и тот вклад, который вы внесли в развитие нашего сообщества. Пожалуйста, не забудьте сохранить ваши фотографии до этой даты.
С уважением, команда iXBT.com
| PICT2321-3.jpg |
PICT2321-3.jpg
- Раздел: Портрет
- Дата съёмки: неизвестно
- Дата загрузки фото: 03.06.2024 01:19
- Оригинальная фотография: 5043 x 7561 (5,3 Мб)
- Технические характеристики:
- Фотоаппарат: Canon EOS R5
- Выдержка: 0,0
- Гиперфокальное расстояние: inf m
- Диафрагма: 8,0
- Светочувствительность: 100
- Фокусное расстояние: 90,0 mm
- Полный EXIF
- Adobe
- ColorTransform: YCbCr
- Composite
- Aperture: 8,0
- CircleOfConfusion: 0,030 mm
- FocalLength35efl: 90,0 mm
- HyperfocalDistance: inf m
- LensID: Canon EF 70-200mm f/2.8L IS II USM
- Megapixels: 38,1
- ScaleFactor35efl: 1,0
- ShutterSpeed: 0,0
- ExifIFD
- ApertureValue: 8,0
- ColorSpace: sRGB
- CreateDate: 2024:01:25 21:38:56
- CustomRendered: Normal
- DateTimeOriginal: 2024:01:25 21:38:56
- ExposureCompensation: 0
- ExposureMode: Manual
- ExposureProgram: Manual
- ExposureTime: 0,0
- Flash: On, Fired
- FNumber: 8,0
- FocalLength: 90,0 mm
- ISO: 100
- LensInfo: 70-200mm f/?
- LensModel: EF70-200mm f/2.8L IS II USM
- LensSerialNumber: 0000c15c17
- MaxApertureValue: 2,8
- MeteringMode: Center-weighted average
- RecommendedExposureIndex: 100
- SceneCaptureType: Standard
- SensitivityType: Recommended Exposure Index
- SerialNumber: 034021001680
- ShutterSpeedValue: 1/128
- WhiteBalance: Manual
- ICC-header
- ICC-meas
- ICC-view
- IFD0
- Artist: andrei_bogdanoff
- Copyright: abogdanoff.ru
- Make: Canon
- Model: Canon EOS R5
- ModifyDate: 2024:01:28 11:15:32
- IFD1
- IPTC
- By-line: andrei_bogdanoff
- CopyrightNotice: abogdanoff.ru
- DateCreated: 2024:01:25
- System
- XMP-aux
- ApproximateFocusDistance: 5,06
- DistortionCorrectionAlreadyApplied: True
- Firmware: 1.9.0
- FlashCompensation: 0
- ImageNumber: 0
- LateralChromaticAberrationCorrectionAlreadyApplied: True
- Lens: EF70-200mm f/2.8L IS II USM
- LensID: 251
- VignetteCorrectionAlreadyApplied: True
- XMP-crs
- AlreadyApplied: True
- AutoLateralCA: 1
- Blacks2012: +30
- BlueHue: -8
- BlueSaturation: -12
- Clarity2012: 0
- ColorGradeBlending: 90
- ColorGradeGlobalHue: 0
- ColorGradeGlobalLum: 0
- ColorGradeGlobalSat: 0
- ColorGradeHighlightLum: 0
- ColorGradeMidtoneHue: 0
- ColorGradeMidtoneLum: 0
- ColorGradeMidtoneSat: 0
- ColorGradeShadowLum: 0
- ColorNoiseReduction: 25
- ColorNoiseReductionDetail: 50
- ColorNoiseReductionSmoothness: 50
- ColorTemperature: 5250
- Contrast2012: 0
- CropAngle: 3.25
- CropBottom: 1
- CropConstrainToWarp: 0
- CropLeft: 0.034903
- CropRight: 0.921544
- CropTop: 0
- CurveRefineSaturation: 100
- DefringeGreenAmount: 0
- DefringeGreenHueHi: 60
- DefringeGreenHueLo: 40
- DefringePurpleAmount: 0
- DefringePurpleHueHi: 70
- DefringePurpleHueLo: 30
- Dehaze: 0
- Exposure2012: +1.87
- GrainAmount: 0
- GreenHue: +45
- GreenSaturation: -44
- HasCrop: True
- HasSettings: True
- HDREditMode: 0
- Highlights2012: -31
- HueAdjustmentAqua: +1
- HueAdjustmentBlue: -12
- HueAdjustmentGreen: +5
- HueAdjustmentMagenta: 0
- HueAdjustmentOrange: -28
- HueAdjustmentPurple: 0
- HueAdjustmentRed: -22
- HueAdjustmentYellow: +11
- LensManualDistortionAmount: 0
- LensProfileDistortionScale: 100
- LensProfileEnable: 1
- LensProfileFilename: Canon EOS 5D Mark II (Canon EF 70-200mm f2.8L IS II USM) - RAW.lcp
- LensProfileIsEmbedded: False
- LensProfileSetup: LensDefaults
- LensProfileVignettingScale: 100
- LookAmount: 1
- LookGroup: Profiles
- LookParametersConvertToGrayscale: False
- LookParametersLookTable: E1095149FDB39D7A057BAB208837E2E1
- LookParametersProcessVersion: 15.4
- LookParametersToneCurvePV2012: 0, 0, 22, 16, 40, 35, 127, 127, 224, 230, 240, 246, 255, 255
- LookParametersToneCurvePV2012Blue: 0, 0, 255, 255
- LookParametersToneCurvePV2012Green: 0, 0, 255, 255
- LookParametersToneCurvePV2012Red: 0, 0, 255, 255
- LookParametersVersion: 16.0
- LookSupportsAmount: false
- LookSupportsMonochrome: false
- LookSupportsOutputReferred: false
- LuminanceAdjustmentAqua: +1
- LuminanceAdjustmentBlue: +12
- LuminanceAdjustmentGreen: +25
- LuminanceAdjustmentMagenta: +2
- LuminanceAdjustmentOrange: +3
- LuminanceAdjustmentPurple: +1
- LuminanceAdjustmentRed: -14
- LuminanceAdjustmentYellow: -12
- LuminanceSmoothing: 0
- OverrideLookVignette: False
- ParametricDarks: 0
- ParametricHighlights: 0
- ParametricHighlightSplit: 75
- ParametricLights: 0
- ParametricMidtoneSplit: 50
- ParametricShadows: 0
- ParametricShadowSplit: 25
- PerspectiveAspect: 0
- PerspectiveHorizontal: 0
- PerspectiveRotate: 0.0
- PerspectiveScale: 100
- PerspectiveUpright: 0
- PerspectiveVertical: 0
- PerspectiveX: 0.00
- PerspectiveY: 0.00
- PostCropVignetteAmount: 0
- ProcessVersion: 15.4
- RawFileName: PICT2321.CR3
- RedHue: +50
- RedSaturation: +5
- Saturation: -40
- SaturationAdjustmentAqua: +16
- SaturationAdjustmentBlue: +22
- SaturationAdjustmentGreen: -5
- SaturationAdjustmentMagenta: 0
- SaturationAdjustmentOrange: +5
- SaturationAdjustmentPurple: 0
- SaturationAdjustmentRed: +4
- SaturationAdjustmentYellow: -22
- Shadows2012: +18
- ShadowTint: 0
- SharpenDetail: 25
- SharpenEdgeMasking: 0
- SharpenRadius: +1.0
- Sharpness: 40
- SplitToningBalance: +5
- SplitToningHighlightHue: 34
- SplitToningHighlightSaturation: 0
- SplitToningShadowHue: 49
- SplitToningShadowSaturation: 18
- Texture: 0
- Tint: -3
- ToneCurveName2012: Custom
- ToneCurvePV2012: 0, 15, 28, 35, 61, 61, 86, 92, 119, 130, 163, 179, 215, 226, 254, 246
- ToneCurvePV2012Blue: 0, 0, 39, 13, 88, 63, 123, 124, 188, 196, 255, 255
- ToneCurvePV2012Green: 0, 0, 40, 14, 83, 59, 123, 126, 177, 191, 255, 255
- ToneCurvePV2012Red: 0, 0, 38, 10, 82, 54, 126, 130, 186, 195, 255, 255
- Version: 16.0
- Vibrance: 0
- VignetteAmount: 0
- WhiteBalance: As Shot
- Whites2012: -5
- XMP-dc
- Creator: andrei_bogdanoff
- Format: image/jpeg
- Rights: abogdanoff.ru
- XMP-exifEX
- XMP-xmp
- CreateDate: 2024:01:25 21:38:56.00+03:00
- ModifyDate: 2024:01:28 11:15:32+03:00
- Rating: 3
- XMP-xmpMM
- PreservedFileName: PICT2321.CR3
- Просмотров: 203
- Рейтинг: голосов еще нет
- Отзывов: отключены
Получить код для блога
| Вставка фотографии в текущем разрешении |
Вставка миниатюры |
HTML (для вставки в блог):
BBCode (для вставки в форум):
Ссылка на фото:
Ссылка на миниатюру:
- Послать ссылку другу
| Комментарии к фотографии |