| » Участники » SonyX » Realme GT Master » IMG_20240819_204237152.NIGHT.jpg |
Уважаемые друзья и участники проекта iXBT.photo! К сожалению, 1 марта 2026 года проект iXBT.photo прекратит свою работу и будет закрыт. Мы высоко ценим ваше участие и тот вклад, который вы внесли в развитие нашего сообщества. Пожалуйста, не забудьте сохранить ваши фотографии до этой даты.
С уважением, команда iXBT.com
| IMG_20240819_204237152.NIGHT.jpg |
IMG_20240819_204237152.NIGHT.jpg
- Раздел: Другое, разное
- Дата съёмки: неизвестно
- Дата загрузки фото: 23.08.2024 14:15
- Оригинальная фотография: 3452 x 4608 (4,2 Мб)
- Технические характеристики:
- Фотоаппарат: google RMX3363
- Выдержка: 3,0
- Гиперфокальное расстояние: inf m
- Диафрагма: 1,8
- Светочувствительность: 141
- Фокусное расстояние: 4,0 mm (35 mm equivalent: 24,0 mm)
- Полный EXIF
- Adobe
- ColorTransform: YCbCr
- Composite
- Aperture: 1,8
- CircleOfConfusion: 0,005 mm
- DOF: inf (0,00 m - inf)
- FocalLength35efl: 4,0 mm (35 mm equivalent: 24,0 mm)
- FOV: 73,0 deg
- GPSAltitude: 309 m Above Sea Level
- GPSDateTime: 2024:08:19 18:41:02Z
- GPSLatitude: 1200 deg 3' 38,00" N
- GPSLongitude: 2782 deg 30' 41,00" E
- GPSPosition: 1200 deg 3' 38,00" N, 2782 deg 30' 41,00" E
- HyperfocalDistance: inf m
- LightValue: -2,1
- Megapixels: 15,9
- ScaleFactor35efl: 6,2
- ShutterSpeed: 3,0
- ExifIFD
- ApertureValue: 1,4
- BrightnessValue: -5,477783203
- CFAPattern: [Red,Green][Green,Blue]
- ColorSpace: sRGB
- CreateDate: 2024:08:19 20:42:37
- DateTimeOriginal: 2024:08:19 20:42:37
- DigitalZoomRatio: 0
- ExposureCompensation: 0
- ExposureProgram: Program AE
- ExposureTime: 3,0
- Flash: Off, Did not fire
- FNumber: 1,8
- FocalLength: 4,0 mm
- FocalLengthIn35mmFormat: 25 mm
- ISO: 141
- LensMake: Google
- LensModel: RMX3363 back camera 4.73mm f/1.8
- MaxApertureValue: 1,4
- ShutterSpeedValue: 2,0
- SubjectDistance: 8,878 m
- SubjectDistanceRange: Distant
- WhiteBalance: Auto
- GPS
- GPSAltitude: 309,4 m
- GPSAltitudeRef: Above Sea Level
- GPSDateStamp: 2024:08:19
- GPSDOP: 23,824
- GPSLatitude: 1200 deg 3' 38,00"
- GPSLatitudeRef: North
- GPSLongitude: 2782 deg 30' 41,00"
- GPSLongitudeRef: East
- GPSProcessingMethod: fused
- GPSTimeStamp: 18:41:02
- GPSVersionID: 2.2.0.0
- ICC-header
- ICC-meas
- ICC-view
- IFD0
- Make: Google
- MakerNoteSafety: Safe
- Model: RMX3363
- ModifyDate: 2024:08:23 12:33:39
- IFD1
- IPTC
- City: Prague
- Country-PrimaryLocationCode: CZ
- Country-PrimaryLocationName: Czech Republic
- DateCreated: 2024:08:19
- Province-State: Prague
- System
- XMP-aux
- ApproximateFocusDistance: 8,878
- LateralChromaticAberrationCorrectionAlreadyApplied: True
- Lens: RMX3363 back camera 4.73mm f/1.8
- VignetteCorrectionAlreadyApplied: True
- XMP-crs
- AlreadyApplied: True
- AutoLateralCA: 1
- Blacks2012: -28
- BlueHue: 0
- BlueSaturation: +46
- CameraProfile: Google Embedded Camera Profile
- Clarity2012: +5
- ColorGradeBlending: 50
- ColorGradeGlobalHue: 0
- ColorGradeGlobalLum: 0
- ColorGradeGlobalSat: 0
- ColorGradeHighlightLum: 0
- ColorGradeMidtoneHue: 0
- ColorGradeMidtoneLum: 0
- ColorGradeMidtoneSat: 0
- ColorGradeShadowLum: 0
- ColorNoiseReduction: 15
- ColorNoiseReductionDetail: 50
- ColorNoiseReductionSmoothness: 50
- ColorTemperature: 13408
- CompatibleVersion: 268435456
- Contrast2012: -2
- CropAngle: 0
- CropBottom: 1
- CropConstrainToWarp: 0
- CropLeft: 0
- CropRight: 1
- CropTop: 0
- DefringeGreenAmount: 0
- DefringeGreenHueHi: 60
- DefringeGreenHueLo: 40
- DefringePurpleAmount: 2
- DefringePurpleHueHi: 70
- DefringePurpleHueLo: 30
- Dehaze: +18
- Exposure2012: -0.53
- GrainAmount: 0
- GreenHue: 0
- GreenSaturation: -9
- HasCrop: False
- HasSettings: True
- HDREditMode: 0
- Highlights2012: -39
- HueAdjustmentAqua: 0
- HueAdjustmentBlue: 0
- HueAdjustmentGreen: 0
- HueAdjustmentMagenta: 0
- HueAdjustmentOrange: 0
- HueAdjustmentPurple: 0
- HueAdjustmentRed: 0
- HueAdjustmentYellow: 0
- LensManualDistortionAmount: 0
- LensProfileDistortionScale: 0
- LensProfileEnable: 1
- LensProfileFilename: NIKON COOLPIX P330 v2 - RAW.lcp
- LensProfileIsEmbedded: False
- LensProfileSetup: Custom
- LensProfileVignettingScale: 104
- LookAmount: 1
- LookCameraModelRestriction: Google Pixel Camera
- LookGroup: Profiles
- LookName: Google Pixel
- LookParametersCameraProfile: Google Embedded Camera Profile
- LookParametersConvertToGrayscale: False
- LookParametersProcessVersion: 15.4
- LookParametersProfileGainTableMap: 100
- LookParametersVersion: 16.4
- LookSupportsMonochrome: false
- LookSupportsOutputReferred: false
- LuminanceAdjustmentAqua: 0
- LuminanceAdjustmentBlue: 0
- LuminanceAdjustmentGreen: 0
- LuminanceAdjustmentMagenta: 0
- LuminanceAdjustmentOrange: 0
- LuminanceAdjustmentPurple: 0
- LuminanceAdjustmentRed: 0
- LuminanceAdjustmentYellow: 0
- LuminanceSmoothing: 0
- OverrideLookVignette: False
- ParametricDarks: +30
- ParametricHighlights: 0
- ParametricHighlightSplit: 75
- ParametricLights: +3
- ParametricMidtoneSplit: 50
- ParametricShadows: -9
- ParametricShadowSplit: 25
- PerspectiveAspect: 0
- PerspectiveHorizontal: 0
- PerspectiveRotate: 0.0
- PerspectiveScale: 100
- PerspectiveUpright: 0
- PerspectiveVertical: 0
- PerspectiveX: 0.00
- PerspectiveY: 0.00
- PostCropVignetteAmount: 0
- ProcessVersion: 15.4
- RawFileName: IMG_20240819_204237152.NIGHT.dng
- RedHue: 0
- RedSaturation: -9
- Saturation: -7
- SaturationAdjustmentAqua: 0
- SaturationAdjustmentBlue: 0
- SaturationAdjustmentGreen: 0
- SaturationAdjustmentMagenta: 0
- SaturationAdjustmentOrange: 0
- SaturationAdjustmentPurple: 0
- SaturationAdjustmentRed: 0
- SaturationAdjustmentYellow: 0
- Shadows2012: +26
- ShadowTint: -9
- SharpenDetail: 25
- SharpenEdgeMasking: 0
- SharpenRadius: +1.0
- Sharpness: 40
- SplitToningBalance: 0
- SplitToningHighlightHue: 0
- SplitToningHighlightSaturation: 0
- SplitToningShadowHue: 0
- SplitToningShadowSaturation: 0
- Texture: 0
- Tint: 0
- ToneCurveName2012: Linear
- ToneCurvePV2012: 0, 0, 255, 255
- ToneCurvePV2012Blue: 0, 0, 255, 255
- ToneCurvePV2012Green: 0, 0, 255, 255
- ToneCurvePV2012Red: 0, 0, 255, 255
- Version: 16.4
- Vibrance: +33
- VignetteAmount: 0
- WhiteBalance: Custom
- Whites2012: +7
- XMP-dc
- XMP-exifEX
- XMP-iptcCore
- XMP-xmp
- CreateDate: 2024:08:19 20:42:37.785272+02:00
- ModifyDate: 2024:08:23 12:33:39+03:00
- Rating: 1
- XMP-xmpDM
- XMP-xmpMM
- PreservedFileName: IMG_20240819_204237152.NIGHT.dng
- Просмотров: 105
- Рейтинг: голосов еще нет
- Отзывов: отключены
Получить код для блога
| Вставка фотографии в текущем разрешении |
Вставка миниатюры |
HTML (для вставки в блог):
BBCode (для вставки в форум):
Ссылка на фото:
Ссылка на миниатюру:
- Послать ссылку другу
| Комментарии к фотографии |