| » Участники » saasaa » Тесты. » 135-5,6 копия.jpg |
Уважаемые друзья и участники проекта iXBT.photo! К сожалению, 1 марта 2026 года проект iXBT.photo прекратит свою работу и будет закрыт. Мы высоко ценим ваше участие и тот вклад, который вы внесли в развитие нашего сообщества. Пожалуйста, не забудьте сохранить ваши фотографии до этой даты.
С уважением, команда iXBT.com
| 135-5,6 копия.jpg |
135-5,6 копия.jpg
- Раздел: Тесты фототехники
- Дата съёмки: неизвестно
- Дата загрузки фото: 11.12.2024 21:38
- Оригинальная фотография: 6000 x 4000 (6,7 Мб)
- Технические характеристики:
- Фотоаппарат: Canon EOS R100
- Выдержка: 0,0
- Гиперфокальное расстояние: inf m
- Диафрагма: 5,6
- Светочувствительность: 200
- Фокусное расстояние: 135,0 mm (35 mm equivalent: 135,0 mm)
- Полный EXIF
- Adobe
- ColorTransform: YCbCr
- Composite
- Aperture: 5,6
- CircleOfConfusion: 0,019 mm
- FocalLength35efl: 135,0 mm (35 mm equivalent: 135,0 mm)
- FOV: 15,0 deg
- HyperfocalDistance: inf m
- LensID: Canon EF-S 55-250mm f/4-5.6 IS STM
- Megapixels: 24,0
- ScaleFactor35efl: 1,6
- ShutterSpeed: 0,0
- ExifIFD
- ApertureValue: 4,0
- ColorSpace: Uncalibrated
- CreateDate: 2024:12:11 20:30:56
- CustomRendered: Normal
- DateTimeOriginal: 2024:12:11 20:30:56
- ExifImageHeight: 4000
- ExifImageWidth: 6000
- ExposureCompensation: 0
- ExposureMode: Auto
- ExposureProgram: Aperture-priority AE
- ExposureTime: 0,0
- Flash: No Flash
- FNumber: 5,6
- FocalLength: 135,0 mm
- ISO: 200
- LensInfo: 55-250mm f/?
- LensModel: EF-S55-250mm f/4-5.6 IS STM
- LensSerialNumber: 000080c5f4
- MaxApertureValue: 4,0
- MeteringMode: Multi-segment
- OwnerName: saasaa@yandex.ru
- RecommendedExposureIndex: 200
- SceneCaptureType: Standard
- SensitivityType: Recommended Exposure Index
- SerialNumber: 083031010561
- ShutterSpeedValue: 1/4
- WhiteBalance: Auto
- ICC-header
- IFD0
- Artist: saasaa@yandex.ru
- BitsPerSample: 8 8 8
- ImageHeight: 4000
- ImageWidth: 6000
- Make: Canon
- Model: Canon EOS R100
- ModifyDate: 2024:12:11 18:23:22
- Orientation: Horizontal (normal)
- PhotometricInterpretation: RGB
- SamplesPerPixel: 3
- IFD1
- IPTC
- By-line: saasaa@yandex.ru
- DateCreated: 2024:12:11
- System
- XMP-aux
- ApproximateFocusDistance: 0,98
- DistortionCorrectionAlreadyApplied: True
- Firmware: 1.1.0
- FlashCompensation: 0
- ImageNumber: 0
- LateralChromaticAberrationCorrectionAlreadyApplied: True
- Lens: EF-S55-250mm f/4-5.6 IS STM
- LensID: 4148
- VignetteCorrectionAlreadyApplied: True
- XMP-crs
- AlreadyApplied: True
- AutoLateralCA: 1
- Blacks2012: -8
- BlueHue: 0
- BlueSaturation: 0
- CameraProfile: Camera Standard
- Clarity2012: 0
- ColorGradeBlending: 50
- ColorGradeGlobalHue: 0
- ColorGradeGlobalLum: 0
- ColorGradeGlobalSat: 0
- ColorGradeHighlightLum: 0
- ColorGradeMidtoneHue: 0
- ColorGradeMidtoneLum: 0
- ColorGradeMidtoneSat: 0
- ColorGradeShadowLum: 0
- ColorNoiseReduction: 25
- ColorNoiseReductionDetail: 50
- ColorNoiseReductionSmoothness: 50
- ColorTemperature: 3850
- Contrast2012: +7
- ConvertToGrayscale: False
- CropAngle: 0
- CropBottom: 1
- CropConstrainToWarp: 0
- CropLeft: 0
- CropRight: 1
- CropTop: 0
- DefringeGreenAmount: 0
- DefringeGreenHueHi: 60
- DefringeGreenHueLo: 40
- DefringePurpleAmount: 0
- DefringePurpleHueHi: 70
- DefringePurpleHueLo: 30
- Dehaze: 0
- Exposure2012: +0.11
- GrainAmount: 0
- GreenHue: 0
- GreenSaturation: 0
- HasCrop: False
- HasSettings: True
- HDREditMode: 0
- Highlights2012: -93
- HueAdjustmentAqua: 0
- HueAdjustmentBlue: 0
- HueAdjustmentGreen: 0
- HueAdjustmentMagenta: 0
- HueAdjustmentOrange: 0
- HueAdjustmentPurple: 0
- HueAdjustmentRed: 0
- HueAdjustmentYellow: 0
- LensManualDistortionAmount: 0
- LensProfileDistortionScale: 100
- LensProfileEnable: 1
- LensProfileFilename: Canon (Canon EF-S 55-250mm f4-5.6 IS STM) - RAW.lcp
- LensProfileIsEmbedded: False
- LensProfileSetup: LensDefaults
- LensProfileVignettingScale: 100
- LuminanceAdjustmentAqua: 0
- LuminanceAdjustmentBlue: 0
- LuminanceAdjustmentGreen: 0
- LuminanceAdjustmentMagenta: 0
- LuminanceAdjustmentOrange: 0
- LuminanceAdjustmentPurple: 0
- LuminanceAdjustmentRed: 0
- LuminanceAdjustmentYellow: 0
- LuminanceSmoothing: 0
- OverrideLookVignette: False
- ParametricDarks: 0
- ParametricHighlights: 0
- ParametricHighlightSplit: 75
- ParametricLights: 0
- ParametricMidtoneSplit: 50
- ParametricShadows: 0
- ParametricShadowSplit: 25
- PerspectiveAspect: 0
- PerspectiveHorizontal: 0
- PerspectiveRotate: 0.0
- PerspectiveScale: 100
- PerspectiveUpright: 0
- PerspectiveVertical: 0
- PerspectiveX: 0.00
- PerspectiveY: 0.00
- PointColors: -1.000000, -1.000000, -1.000000, -1.000000, -1.000000, -1.000000, -1.000000, -1.000000, -1.000000, -1.000000, -1.000000, -1.000000, -1.000000, -1.000000, -1.000000, -1.000000, -1.000000, -1.000000, -1.000000
- PostCropVignetteAmount: 0
- ProcessVersion: 15.4
- RawFileName: IMG_1243.CR3
- RedHue: 0
- RedSaturation: 0
- Saturation: -5
- SaturationAdjustmentAqua: 0
- SaturationAdjustmentBlue: 0
- SaturationAdjustmentGreen: 0
- SaturationAdjustmentMagenta: 0
- SaturationAdjustmentOrange: 0
- SaturationAdjustmentPurple: 0
- SaturationAdjustmentRed: 0
- SaturationAdjustmentYellow: 0
- Shadows2012: +64
- ShadowTint: 0
- SharpenDetail: 25
- SharpenEdgeMasking: 0
- SharpenRadius: +1.0
- Sharpness: 40
- SplitToningBalance: 0
- SplitToningHighlightHue: 0
- SplitToningHighlightSaturation: 0
- SplitToningShadowHue: 0
- SplitToningShadowSaturation: 0
- Texture: 0
- Tint: +25
- ToneCurveName2012: Linear
- ToneCurvePV2012: 0, 0, 255, 255
- ToneCurvePV2012Blue: 0, 0, 255, 255
- ToneCurvePV2012Green: 0, 0, 255, 255
- ToneCurvePV2012Red: 0, 0, 255, 255
- Version: 16.3
- Vibrance: +13
- VignetteAmount: 0
- WhiteBalance: As Shot
- Whites2012: +38
- XMP-dc
- Creator: saasaa@yandex.ru
- Format: image/jpeg
- XMP-exifEX
- XMP-xmp
- ModifyDate: 2024:12:11 18:23:22Z
- XMP-xmpMM
- Просмотров: 66
- Рейтинг: голосов еще нет
- Отзывов: 0
Получить код для блога
| Вставка фотографии в текущем разрешении |
Вставка миниатюры |
HTML (для вставки в блог):
BBCode (для вставки в форум):
Ссылка на фото:
Ссылка на миниатюру:
- Послать ссылку другу
| Комментарии к фотографии |