- Раздел: Другое, разное
- Дата съёмки: неизвестно
- Дата загрузки фото: 30.12.2024 22:02
- Оригинальная фотография: 2000 x 1194 (274 Кб)
- Технические характеристики:
- Фотоаппарат: Hasselblad X2D 100C
- Выдержка: 0,0
- Гиперфокальное расстояние: inf m
- Диафрагма: 8,0
- Светочувствительность: 6400
- Фокусное расстояние: 55,0 mm
- Экспокоррекция: +1
- Полный EXIF
- Adobe
- ColorTransform: YCbCr
- Composite
- Aperture: 8,0
- CircleOfConfusion: 0,038 mm
- FocalLength35efl: 55,0 mm
- HyperfocalDistance: inf m
- Megapixels: 2,4
- ScaleFactor35efl: 0,8
- ShutterSpeed: 0,0
- ExifIFD
- ApertureValue: 8,0
- ColorSpace: sRGB
- DateTimeOriginal: 2024:07:16 19:19:13
- ExifImageHeight: 1194
- ExifImageWidth: 2000
- ExposureCompensation: +1
- ExposureProgram: Aperture-priority AE
- ExposureTime: 0,0
- Flash: No Flash
- FNumber: 8,0
- FocalLength: 55,0 mm
- FocalLengthIn35mmFormat: 43 mm
- ISO: 6400
- LensMake: Hasselblad
- LensModel: XCD 55V
- MaxApertureValue: 2,0
- MeteringMode: Center-weighted average
- SerialNumber: XT21007724
- ShutterSpeedValue: 1/32
- ICC-header
- ICC-meas
- ICC-view
- IFD0
- Make: Hasselblad
- Model: X2D 100C
- ModifyDate: 2024:12:30 21:53:24
- Orientation: Horizontal (normal)
- IFD1
- IPTC
- DateCreated: 2024:07:16
- System
- XMP-aux
- Lens: XCD 55V
- XMP-crs
- AlreadyApplied: True
- AutoLateralCA: 0
- Blacks2012: 0
- BlueHue: 0
- BlueSaturation: 0
- CameraProfile: Camera Standard
- Clarity2012: 0
- ColorGradeBlending: 50
- ColorGradeGlobalHue: 0
- ColorGradeGlobalLum: 0
- ColorGradeGlobalSat: 0
- ColorGradeHighlightLum: 0
- ColorGradeMidtoneHue: 0
- ColorGradeMidtoneLum: 0
- ColorGradeMidtoneSat: 0
- ColorGradeShadowLum: 0
- ColorNoiseReduction: 25
- ColorNoiseReductionDetail: 50
- ColorNoiseReductionSmoothness: 50
- ColorTemperature: 7250
- Contrast2012: 0
- ConvertToGrayscale: False
- DefringeGreenAmount: 0
- DefringeGreenHueHi: 60
- DefringeGreenHueLo: 40
- DefringePurpleAmount: 0
- DefringePurpleHueHi: 70
- DefringePurpleHueLo: 30
- Dehaze: 0
- Exposure2012: 0.00
- GrainAmount: 0
- GreenHue: 0
- GreenSaturation: 0
- HasCrop: False
- HasSettings: True
- HDREditMode: 0
- Highlights2012: 0
- HueAdjustmentAqua: 0
- HueAdjustmentBlue: 0
- HueAdjustmentGreen: 0
- HueAdjustmentMagenta: 0
- HueAdjustmentOrange: 0
- HueAdjustmentPurple: 0
- HueAdjustmentRed: +24
- HueAdjustmentYellow: 0
- LensManualDistortionAmount: 0
- LensProfileEnable: 0
- LuminanceAdjustmentAqua: 0
- LuminanceAdjustmentBlue: -14
- LuminanceAdjustmentGreen: +49
- LuminanceAdjustmentMagenta: 0
- LuminanceAdjustmentOrange: 0
- LuminanceAdjustmentPurple: 0
- LuminanceAdjustmentRed: +39
- LuminanceAdjustmentYellow: 0
- LuminanceSmoothing: 0
- OverrideLookVignette: False
- ParametricDarks: -20
- ParametricHighlights: +13
- ParametricHighlightSplit: 75
- ParametricLights: -78
- ParametricMidtoneSplit: 50
- ParametricShadows: -43
- ParametricShadowSplit: 25
- PerspectiveAspect: 0
- PerspectiveHorizontal: 0
- PerspectiveRotate: 0.0
- PerspectiveScale: 100
- PerspectiveUpright: 0
- PerspectiveVertical: 0
- PerspectiveX: 0.00
- PerspectiveY: 0.00
- PostCropVignetteAmount: 0
- ProcessVersion: 15.4
- RedHue: 0
- RedSaturation: 0
- Saturation: 0
- SaturationAdjustmentAqua: 0
- SaturationAdjustmentBlue: +29
- SaturationAdjustmentGreen: +33
- SaturationAdjustmentMagenta: 0
- SaturationAdjustmentOrange: 0
- SaturationAdjustmentPurple: 0
- SaturationAdjustmentRed: +60
- SaturationAdjustmentYellow: 0
- Shadows2012: 0
- ShadowTint: 0
- SharpenDetail: 25
- SharpenEdgeMasking: 0
- SharpenRadius: +1.0
- Sharpness: 40
- SplitToningBalance: 0
- SplitToningHighlightHue: 0
- SplitToningHighlightSaturation: 0
- SplitToningShadowHue: 0
- SplitToningShadowSaturation: 0
- Texture: 0
- Tint: +15
- ToneCurveName2012: Linear
- ToneCurvePV2012: 0, 0, 255, 255
- ToneCurvePV2012Blue: 0, 0, 255, 255
- ToneCurvePV2012Green: 0, 0, 255, 255
- ToneCurvePV2012Red: 0, 0, 255, 255
- Version: 16.0
- Vibrance: 0
- VignetteAmount: 0
- WhiteBalance: Custom
- Whites2012: 0
- XMP-dc
- XMP-exifEX
- XMP-xmp
- CreateDate: 2024:07:16 19:19:13
- CreatorTool: 3.1.0
- ModifyDate: 2024:12:30 21:53:24+03:00
- Rating: 0
- XMP-xmpMM
- Просмотров: 24
- Рейтинг: голосов еще нет
- Отзывов: отключены