Уважаемые друзья и участники проекта iXBT.photo! К сожалению, 1 марта 2026 года проект iXBT.photo прекратит свою работу и будет закрыт. Мы высоко ценим ваше участие и тот вклад, который вы внесли в развитие нашего сообщества. Пожалуйста, не забудьте сохранить ваши фотографии до этой даты.
С уважением, команда iXBT.com
| Снегирь |
Снегирь
- Раздел: Животные
- Дата съёмки: неизвестно
- Дата загрузки фото: 11.02.2025 16:47
- Оригинальная фотография: 3000 x 2373 (4,8 Мб)
- Технические характеристики:
- Фотоаппарат: Canon PowerShot SX50 HS
- Выдержка: 0,0
- Гиперфокальное расстояние: inf m
- Диафрагма: 6,5
- Светочувствительность: 250
- Фокусное расстояние: 215,0 mm (35 mm equivalent: 1075,0 mm)
- Экспокоррекция: -1/3
- Полный EXIF
- Adobe
- ColorTransform: YCbCr
- Composite
- Aperture: 6,5
- CircleOfConfusion: 0,005 mm
- Flash: Off, Did not fire
- FocalLength35efl: 215,0 mm (35 mm equivalent: 1075,0 mm)
- FOV: 1,0 deg
- HyperfocalDistance: inf m
- Megapixels: 7,1
- ScaleFactor35efl: 5,6
- ShutterSpeed: 0,0
- ExifIFD
- ApertureValue: 5,7
- ColorSpace: sRGB
- CreateDate: 2025:02:11 13:29:14
- CustomRendered: Normal
- DateTimeOriginal: 2025:02:11 13:29:14
- DigitalZoomRatio: 1
- ExifImageHeight: 2373
- ExifImageWidth: 3000
- ExposureCompensation: 0
- ExposureMode: Manual
- ExposureTime: 0,0
- FNumber: 6,5
- FocalLength: 215,0 mm
- ISO: 250
- LensInfo: 4.3-215mm f/?
- LensModel: 4.3-215.0 mm
- MaxApertureValue: 5,7
- MeteringMode: Multi-segment
- SceneCaptureType: Standard
- SensingMethod: One-chip color area
- SensitivityType: Standard Output Sensitivity and Recommended Exposure Index
- ShutterSpeedValue: 1/256
- WhiteBalance: Auto
- ICC-header
- ICC-meas
- ICC-view
- IFD0
- Make: Canon
- Model: Canon PowerShot SX50 HS
- ModifyDate: 2025:02:11 18:42:26
- Orientation: Horizontal (normal)
- IFD1
- IPTC
- DateCreated: 2025:02:11
- System
- XMP-aux
- ApproximateFocusDistance: 7,05
- Firmware: 1.00
- FlashCompensation: 0
- Lens: 4.3-215.0 mm
- XMP-crs
- AlreadyApplied: True
- AutoLateralCA: 0
- Blacks2012: +16
- BlueHue: 0
- BlueSaturation: 0
- CameraProfile: Embedded
- Clarity2012: +5
- ColorNoiseReduction: 0
- Contrast2012: +10
- ConvertToGrayscale: False
- DefringeGreenAmount: 0
- DefringeGreenHueHi: 60
- DefringeGreenHueLo: 40
- DefringePurpleAmount: 0
- DefringePurpleHueHi: 70
- DefringePurpleHueLo: 30
- Dehaze: 0
- Exposure2012: 0.00
- GrainAmount: 0
- GreenHue: 0
- GreenSaturation: 0
- HasCrop: False
- HasSettings: True
- Highlights2012: -6
- HueAdjustmentAqua: 0
- HueAdjustmentBlue: 0
- HueAdjustmentGreen: 0
- HueAdjustmentMagenta: 0
- HueAdjustmentOrange: -12
- HueAdjustmentPurple: 0
- HueAdjustmentRed: -1
- HueAdjustmentYellow: 0
- IncrementalTemperature: +5
- IncrementalTint: +6
- LensManualDistortionAmount: 0
- LensProfileEnable: 0
- LensProfileSetup: LensDefaults
- LuminanceAdjustmentAqua: 0
- LuminanceAdjustmentBlue: 0
- LuminanceAdjustmentGreen: 0
- LuminanceAdjustmentMagenta: 0
- LuminanceAdjustmentOrange: 0
- LuminanceAdjustmentPurple: 0
- LuminanceAdjustmentRed: 0
- LuminanceAdjustmentYellow: 0
- LuminanceSmoothing: 0
- ParametricDarks: 0
- ParametricHighlights: 0
- ParametricHighlightSplit: 75
- ParametricLights: 0
- ParametricMidtoneSplit: 50
- ParametricShadows: 0
- ParametricShadowSplit: 25
- PerspectiveAspect: 0
- PerspectiveHorizontal: 0
- PerspectiveRotate: 0.0
- PerspectiveScale: 100
- PerspectiveUpright: 0
- PerspectiveVertical: 0
- PerspectiveX: 0.00
- PerspectiveY: 0.00
- PostCropVignetteAmount: 0
- ProcessVersion: 6.7
- RawFileName: 109.JPG
- RedHue: 0
- RedSaturation: 0
- Saturation: 0
- SaturationAdjustmentAqua: -17
- SaturationAdjustmentBlue: -21
- SaturationAdjustmentGreen: 0
- SaturationAdjustmentMagenta: 0
- SaturationAdjustmentOrange: +1
- SaturationAdjustmentPurple: -40
- SaturationAdjustmentRed: +11
- SaturationAdjustmentYellow: -17
- Shadows2012: +28
- ShadowTint: 0
- SharpenDetail: 25
- SharpenEdgeMasking: 0
- SharpenRadius: +1.0
- Sharpness: 0
- SplitToningBalance: 0
- SplitToningHighlightHue: 0
- SplitToningHighlightSaturation: 0
- SplitToningShadowHue: 0
- SplitToningShadowSaturation: 0
- ToneCurve: 0, 0, 255, 255
- ToneCurveBlue: 0, 0, 255, 255
- ToneCurveGreen: 0, 0, 255, 255
- ToneCurveName: Linear
- ToneCurveName2012: Linear
- ToneCurvePV2012: 0, 0, 255, 255
- ToneCurvePV2012Blue: 0, 0, 255, 255
- ToneCurvePV2012Green: 0, 0, 255, 255
- ToneCurvePV2012Red: 0, 0, 255, 255
- ToneCurveRed: 0, 0, 255, 255
- ToneMapStrength: 0
- Version: 9.12.1
- Vibrance: +13
- VignetteAmount: 0
- WhiteBalance: Custom
- Whites2012: 0
- XMP-dc
- XMP-exif
- ApertureValue: 6,5
- DateTimeDigitized: 2025:02:11 13:29:14+05:00
- DateTimeOriginal: 2025:02:11 13:29:14+05:00
- ExposureCompensation: -1/3
- ExposureTime: 1/400
- FlashFired: False
- FlashFunction: False
- FlashMode: Off
- FlashRedEyeMode: False
- FlashReturn: No return detection
- MaxApertureValue: 6,5
- ShutterSpeedValue: 1/400
- XMP-microsoft
- DateAcquired: 2025:02:11 17:35:09.247
- XMP-rdf
- XMP-tiff
- XMP-x
- XMP-xmp
- CreateDate: 2025:02:11 18:42:26+05:00
- ModifyDate: 2025:02:11 18:42:26+05:00
- XMP-xmpMM
Получить код для блога
| Вставка фотографии в текущем разрешении |
Вставка миниатюры |
HTML (для вставки в блог):
BBCode (для вставки в форум):
Ссылка на фото:
Ссылка на миниатюру:
- Послать ссылку другу
| Комментарии к фотографии |