- Раздел: Тесты фототехники
- Дата съёмки: неизвестно
- Дата загрузки фото: 09.03.2025 00:24
- Оригинальная фотография: 5472 x 3648 (18,6 Мб)
- Технические характеристики:
- Фотоаппарат: Sony DSC-RX100M7
- Выдержка: 0,0
- Гиперфокальное расстояние: inf m
- Диафрагма: 4,0
- Светочувствительность: 100
- Фокусное расстояние: 9,0 mm (35 mm equivalent: 18,0 mm)
- Полный EXIF
- Adobe
- ColorTransform: YCbCr
- Composite
- Aperture: 4,0
- CircleOfConfusion: 0,011 mm
- FocalLength35efl: 9,0 mm (35 mm equivalent: 18,0 mm)
- FOV: 90,0 deg
- HyperfocalDistance: inf m
- Megapixels: 20,0
- ScaleFactor35efl: 2,7
- ShutterSpeed: 0,0
- ExifIFD
- ApertureValue: 4,0
- BrightnessValue: 8,90390625
- ColorSpace: Uncalibrated
- Contrast: Normal
- CreateDate: 2025:03:08 17:30:42
- CustomRendered: Normal
- DateTimeOriginal: 2025:03:08 17:30:42
- DigitalZoomRatio: 1
- ExifImageHeight: 3648
- ExifImageWidth: 5472
- ExposureCompensation: 0
- ExposureMode: Auto
- ExposureProgram: Program AE
- ExposureTime: 0,0
- Flash: Off, Did not fire
- FNumber: 4,0
- FocalLength: 9,0 mm
- FocalLengthIn35mmFormat: 24 mm
- ISO: 100
- LensInfo: 9-72mm f/2.8-4.5
- LensModel: 24-200mm F2.8-4.5
- LightSource: Unknown
- MaxApertureValue: 2,0
- MeteringMode: Multi-segment
- RecommendedExposureIndex: 100
- Saturation: Normal
- SceneCaptureType: Standard
- SceneType: Directly photographed
- SensitivityType: Recommended Exposure Index
- Sharpness: Normal
- ShutterSpeedValue: 1/256
- WhiteBalance: Auto
- ICC-header
- IFD0
- Make: SONY
- Model: DSC-RX100M7
- ModifyDate: 2025:03:08 23:49:35
- Orientation: Horizontal (normal)
- IFD1
- IPTC
- DateCreated: 2025:03:08
- System
- XMP-aux
- EnhanceDenoiseAlreadyApplied: True
- EnhanceDenoiseLumaAmount: 25
- EnhanceDenoiseVersion: 251658240
- EnhanceDetailsAlreadyApplied: True
- EnhanceDetailsVersion: 218300416
- LateralChromaticAberrationCorrectionAlreadyApplied: True
- Lens: 24-200mm F2.8-4.5
- LensDistortInfo: 34944/32768 -339129890/1073741824 155581914/1073741824 -27636620/1073741824
- XMP-crs
- AlreadyApplied: True
- AutoLateralCA: 1
- Blacks2012: +50
- BlueHue: 0
- BlueSaturation: 0
- CameraProfile: Camera Landscape
- Clarity2012: 0
- ColorGradeBlending: 50
- ColorGradeGlobalHue: 0
- ColorGradeGlobalLum: 0
- ColorGradeGlobalSat: 0
- ColorGradeHighlightLum: 0
- ColorGradeMidtoneHue: 0
- ColorGradeMidtoneLum: 0
- ColorGradeMidtoneSat: 0
- ColorGradeShadowLum: 0
- ColorNoiseReduction: 0
- ColorTemperature: 5000
- Contrast2012: +25
- ConvertToGrayscale: False
- DefringeGreenAmount: 2
- DefringeGreenHueHi: 16
- DefringeGreenHueLo: 0
- DefringePurpleAmount: 0
- DefringePurpleHueHi: 70
- DefringePurpleHueLo: 30
- Dehaze: +10
- Exposure2012: -0.15
- GrainAmount: 0
- GreenHue: 0
- GreenSaturation: 0
- HasCrop: False
- HasSettings: True
- HDREditMode: 0
- Highlights2012: -50
- HueAdjustmentAqua: 0
- HueAdjustmentBlue: 0
- HueAdjustmentGreen: 0
- HueAdjustmentMagenta: 0
- HueAdjustmentOrange: 0
- HueAdjustmentPurple: 0
- HueAdjustmentRed: 0
- HueAdjustmentYellow: 0
- LensManualDistortionAmount: 0
- LensProfileEnable: 1
- LensProfileSetup: LensDefaults
- LuminanceAdjustmentAqua: 0
- LuminanceAdjustmentBlue: 0
- LuminanceAdjustmentGreen: 0
- LuminanceAdjustmentMagenta: 0
- LuminanceAdjustmentOrange: 0
- LuminanceAdjustmentPurple: 0
- LuminanceAdjustmentRed: 0
- LuminanceAdjustmentYellow: 0
- LuminanceSmoothing: 0
- OverrideLookVignette: False
- ParametricDarks: 0
- ParametricHighlights: 0
- ParametricHighlightSplit: 75
- ParametricLights: 0
- ParametricMidtoneSplit: 50
- ParametricShadows: 0
- ParametricShadowSplit: 25
- PerspectiveAspect: 0
- PerspectiveHorizontal: 0
- PerspectiveRotate: 0.0
- PerspectiveScale: 100
- PerspectiveUpright: 0
- PerspectiveVertical: 0
- PerspectiveX: 0.00
- PerspectiveY: 0.00
- PointColors: -1.000000, -1.000000, -1.000000, -1.000000, -1.000000, -1.000000, -1.000000, -1.000000, -1.000000, -1.000000, -1.000000, -1.000000, -1.000000, -1.000000, -1.000000, -1.000000, -1.000000, -1.000000, -1.000000
- PostCropVignetteAmount: 0
- ProcessVersion: 15.4
- RedHue: 0
- RedSaturation: 0
- Saturation: -5
- SaturationAdjustmentAqua: 0
- SaturationAdjustmentBlue: 0
- SaturationAdjustmentGreen: 0
- SaturationAdjustmentMagenta: 0
- SaturationAdjustmentOrange: 0
- SaturationAdjustmentPurple: 0
- SaturationAdjustmentRed: 0
- SaturationAdjustmentYellow: 0
- Shadows2012: +50
- ShadowTint: 0
- SharpenDetail: 0
- SharpenRadius: +0.5
- Sharpness: 0
- SplitToningBalance: 0
- SplitToningHighlightHue: 0
- SplitToningHighlightSaturation: 0
- SplitToningShadowHue: 0
- SplitToningShadowSaturation: 0
- Texture: +25
- Tint: +20
- ToneCurveName2012: Linear
- ToneCurvePV2012: 0, 0, 255, 255
- ToneCurvePV2012Blue: 0, 0, 255, 255
- ToneCurvePV2012Green: 0, 0, 255, 255
- ToneCurvePV2012Red: 0, 0, 255, 255
- Version: 17.1
- Vibrance: +10
- VignetteAmount: 0
- WhiteBalance: Custom
- Whites2012: -75
- XMP-dc
- XMP-exifEX
- XMP-xmp
- ModifyDate: 2025:03:08 23:49:35+03:00
- XMP-xmpMM
- Просмотров: 11
- Рейтинг: голосов еще нет
- Отзывов: отключены