| » Участники » Sl@yer » Scalpel Final » 20250315_093148.jpg |
Уважаемые друзья и участники проекта iXBT.photo! К сожалению, 1 марта 2026 года проект iXBT.photo прекратит свою работу и будет закрыт. Мы высоко ценим ваше участие и тот вклад, который вы внесли в развитие нашего сообщества. Пожалуйста, не забудьте сохранить ваши фотографии до этой даты.
С уважением, команда iXBT.com
| 20250315_093148.jpg |
20250315_093148.jpg
- Раздел: Хобби
- Дата съёмки: неизвестно
- Дата загрузки фото: 15.03.2025 09:59
- Оригинальная фотография: 2000 x 1500 (557 Кб)
- Технические характеристики:
- Фотоаппарат: Samsung Galaxy S23 Ultra
- Выдержка: 0,0
- Гиперфокальное расстояние: inf m
- Диафрагма: 2,4
- Светочувствительность: 50
- Фокусное расстояние: 7,0 mm (35 mm equivalent: 63,0 mm)
- Полный EXIF
- Adobe
- ColorTransform: YCbCr
- Composite
- Aperture: 2,4
- CircleOfConfusion: 0,003 mm
- FocalLength35efl: 7,0 mm (35 mm equivalent: 63,0 mm)
- FOV: 31,0 deg
- GPSAltitude: 1038 m Above Sea Level
- GPSDateTime: 2025:03:15 04:31:45Z
- GPSLatitude: 48 deg 24' 32,00" N
- GPSLongitude: 77 deg 9' 46,00" E
- GPSPosition: 48 deg 24' 32,00" N, 77 deg 9' 46,00" E
- HyperfocalDistance: inf m
- Megapixels: 3,0
- ScaleFactor35efl: 9,9
- ShutterSpeed: 0,0
- ExifIFD
- ApertureValue: 2,0
- BrightnessValue: 9,64
- ColorSpace: sRGB
- CreateDate: 2025:03:15 09:31:49
- DateTimeOriginal: 2025:03:15 09:31:49
- DigitalZoomRatio: 3
- ExposureCompensation: 0
- ExposureMode: Auto
- ExposureProgram: Program AE
- ExposureTime: 0,0
- Flash: Fired
- FNumber: 2,4
- FocalLength: 7,0 mm
- FocalLengthIn35mmFormat: 69 mm
- ISO: 50
- LensModel: Samsung Galaxy S23 Ultra Rear Telephoto Camera
- MaxApertureValue: 2,0
- MeteringMode: Center-weighted average
- SceneCaptureType: Standard
- SceneType: Directly photographed
- SensingMethod: Not defined
- ShutterSpeedValue: 1/1024
- WhiteBalance: Auto
- GPS
- GPSAltitude: 1038,683 m
- GPSAltitudeRef: Above Sea Level
- GPSDateStamp: 2025:03:15
- GPSLatitude: 48 deg 24' 32,00"
- GPSLatitudeRef: North
- GPSLongitude: 77 deg 9' 46,00"
- GPSLongitudeRef: East
- GPSProcessingMethod: GPS
- GPSTimeStamp: 04:31:45
- ICC-header
- ICC-meas
- ICC-view
- IFD0
- Make: samsung
- Model: Galaxy S23 Ultra
- ModifyDate: 2025:03:15 11:58:07
- IFD1
- IPTC
- DateCreated: 2025:03:15
- System
- XMP-aux
- Lens: Samsung Galaxy S23 Ultra Rear Telephoto Camera
- XMP-crs
- AlreadyApplied: True
- AutoLateralCA: 0
- Blacks2012: -75
- BlueHue: 0
- BlueSaturation: 0
- Brightness: +50
- CameraProfile: Embedded
- Clarity2012: +12
- ColorGradeBlending: 50
- ColorGradeGlobalHue: 0
- ColorGradeGlobalLum: 0
- ColorGradeGlobalSat: 0
- ColorGradeHighlightLum: 0
- ColorGradeMidtoneHue: 0
- ColorGradeMidtoneLum: 0
- ColorGradeMidtoneSat: 0
- ColorGradeShadowLum: 0
- ColorNoiseReduction: 0
- Contrast: +25
- Contrast2012: +7
- ConvertToGrayscale: False
- CropAngle: -1.36647
- CropBottom: 0.969175
- CropConstrainToWarp: 0
- CropLeft: 0.006743
- CropRight: 0.993257
- CropTop: 0.030825
- DefringeGreenAmount: 0
- DefringeGreenHueHi: 60
- DefringeGreenHueLo: 40
- DefringePurpleAmount: 0
- DefringePurpleHueHi: 70
- DefringePurpleHueLo: 30
- Dehaze: -5
- Exposure2012: +0.12
- GrainAmount: 0
- GreenHue: 0
- GreenSaturation: 0
- HasCrop: True
- HasSettings: True
- Highlights2012: -53
- HueAdjustmentAqua: 0
- HueAdjustmentBlue: 0
- HueAdjustmentGreen: 0
- HueAdjustmentMagenta: 0
- HueAdjustmentOrange: 0
- HueAdjustmentPurple: 0
- HueAdjustmentRed: 0
- HueAdjustmentYellow: 0
- IncrementalTemperature: 0
- IncrementalTint: 0
- LensManualDistortionAmount: 0
- LensProfileEnable: 0
- LuminanceAdjustmentAqua: 0
- LuminanceAdjustmentBlue: 0
- LuminanceAdjustmentGreen: 0
- LuminanceAdjustmentMagenta: 0
- LuminanceAdjustmentOrange: 0
- LuminanceAdjustmentPurple: 0
- LuminanceAdjustmentRed: 0
- LuminanceAdjustmentYellow: 0
- LuminanceSmoothing: 0
- OverrideLookVignette: False
- ParametricDarks: 0
- ParametricHighlights: 0
- ParametricHighlightSplit: 75
- ParametricLights: 0
- ParametricMidtoneSplit: 50
- ParametricShadows: 0
- ParametricShadowSplit: 25
- PerspectiveAspect: 0
- PerspectiveHorizontal: 0
- PerspectiveRotate: 0.0
- PerspectiveScale: 100
- PerspectiveUpright: 0
- PerspectiveVertical: 0
- PerspectiveX: 0.00
- PerspectiveY: 0.00
- PostCropVignetteAmount: 0
- ProcessVersion: 11.0
- RawFileName: 20250315_093148.jpg
- RedHue: 0
- RedSaturation: 0
- Saturation: +1
- SaturationAdjustmentAqua: 0
- SaturationAdjustmentBlue: 0
- SaturationAdjustmentGreen: 0
- SaturationAdjustmentMagenta: 0
- SaturationAdjustmentOrange: 0
- SaturationAdjustmentPurple: 0
- SaturationAdjustmentRed: 0
- SaturationAdjustmentYellow: 0
- Shadows: 5
- Shadows2012: +9
- ShadowTint: 0
- Sharpness: 0
- SplitToningBalance: 0
- SplitToningHighlightHue: 0
- SplitToningHighlightSaturation: 0
- SplitToningShadowHue: 0
- SplitToningShadowSaturation: 0
- Texture: 0
- ToneCurveName2012: Linear
- ToneCurvePV2012: 0, 0, 255, 255
- ToneCurvePV2012Blue: 0, 0, 255, 255
- ToneCurvePV2012Green: 0, 0, 255, 255
- ToneCurvePV2012Red: 0, 0, 255, 255
- Version: 15.3
- Vibrance: +11
- VignetteAmount: 0
- WhiteBalance: As Shot
- Whites2012: +14
- XMP-dc
- XMP-exifEX
- XMP-xmp
- CreateDate: 2025:03:15 09:31:49.538341
- ModifyDate: 2025:03:15 11:58:07+05:00
- XMP-xmpMM
- PreservedFileName: 20250315_093148.jpg
- Просмотров: 149
- Рейтинг: голосов еще нет
- Отзывов: 0
Получить код для блога
| Вставка фотографии в текущем разрешении |
Вставка миниатюры |
HTML (для вставки в блог):
BBCode (для вставки в форум):
Ссылка на фото:
Ссылка на миниатюру:
- Послать ссылку другу
| Комментарии к фотографии |