| » Участники » SVAM » РАЗНОЕ » DJI_0337 копияW.jpg |
Уважаемые друзья и участники проекта iXBT.photo! К сожалению, 5 марта 2026 года проект iXBT.photo прекратит свою работу и будет закрыт. Мы высоко ценим ваше участие и тот вклад, который вы внесли в развитие нашего сообщества. Пожалуйста, не забудьте сохранить ваши фотографии до этой даты.
С уважением, команда iXBT.com
| DJI_0337 копияW.jpg |
DJI_0337 копияW.jpg
- Раздел: Отдых, развлечения
- Дата съёмки: неизвестно
- Дата загрузки фото: 05.04.2025 11:51
- Оригинальная фотография: 2000 x 1498 (896 Кб)
- Технические характеристики:
- Фотоаппарат: Hasselblad L2D-20c
- Выдержка: 0,0
- Гиперфокальное расстояние: inf m
- Диафрагма: 2,8
- Светочувствительность: 300
- Фокусное расстояние: 12,0 mm (35 mm equivalent: 24,0 mm)
- Полный EXIF
- Adobe
- ColorTransform: YCbCr
- Composite
- Aperture: 2,8
- CircleOfConfusion: 0,015 mm
- FocalLength35efl: 12,0 mm (35 mm equivalent: 24,0 mm)
- FOV: 73,0 deg
- GPSAltitude: 219 m Above Sea Level
- GPSLatitude: 269 deg 39' 13,00" N
- GPSLongitude: 2537 deg 29' 33,00" E
- GPSPosition: 269 deg 39' 13,00" N, 2537 deg 29' 33,00" E
- HyperfocalDistance: inf m
- Megapixels: 3,0
- ScaleFactor35efl: 2,0
- ShutterSpeed: 0,0
- ExifIFD
- ApertureValue: 2,0
- ColorSpace: Uncalibrated
- Contrast: Normal
- CreateDate: 2025:04:05 09:59:02
- CustomRendered: Normal
- DateTimeOriginal: 2025:04:05 09:59:02
- DigitalZoomRatio: 1
- ExifImageHeight: 1498
- ExifImageWidth: 2000
- ExposureCompensation: 0
- ExposureMode: Auto
- ExposureProgram: Program AE
- ExposureTime: 0,0
- Flash: No Flash
- FNumber: 2,8
- FocalLength: 12,0 mm
- FocalLengthIn35mmFormat: 24 mm
- GainControl: None
- ISO: 300
- LensInfo: 24mm f/2.8-11
- LensModel: 24.0 mm f/2.8
- LightSource: Daylight
- MaxApertureValue: 2,0
- MeteringMode: Average
- Saturation: Normal
- SceneCaptureType: Standard
- SceneType: Directly photographed
- SensitivityType: Recommended Exposure Index
- SerialNumber: 493OJ9C7AA01FY
- Sharpness: Normal
- ShutterSpeedValue: 1/512
- SubjectDistance: 0 m
- WhiteBalance: Auto
- GPS
- GPSAltitude: 219,549 m
- GPSAltitudeRef: Above Sea Level
- GPSLatitude: 269 deg 39' 13,00"
- GPSLatitudeRef: North
- GPSLongitude: 2537 deg 29' 33,00"
- GPSLongitudeRef: East
- GPSMapDatum: WGS-84
- GPSStatus: Measurement Active
- GPSVersionID: 2.3.0.0
- ICC-header
- IFD0
- Make: Hasselblad
- Model: L2D-20c
- ModifyDate: 2025:04:05 11:50:52
- Orientation: Horizontal (normal)
- IFD1
- IPTC
- DateCreated: 2025:04:05
- System
- XMP-aux
- ApproximateFocusDistance: 0
- DistortionCorrectionAlreadyApplied: True
- LateralChromaticAberrationCorrectionAlreadyApplied: True
- Lens: 24.0 mm f/2.8
- XMP-crs
- AlreadyApplied: True
- AutoLateralCA: 0
- Blacks2012: 0
- BlueHue: 0
- BlueSaturation: 0
- Clarity2012: 0
- ColorGradeBlending: 50
- ColorGradeGlobalHue: 0
- ColorGradeGlobalLum: 0
- ColorGradeGlobalSat: 0
- ColorGradeHighlightLum: 0
- ColorGradeMidtoneHue: 0
- ColorGradeMidtoneLum: 0
- ColorGradeMidtoneSat: 0
- ColorGradeShadowLum: 0
- ColorNoiseReduction: 25
- ColorNoiseReductionDetail: 50
- ColorNoiseReductionSmoothness: 50
- ColorTemperature: 5400
- Contrast2012: 0
- DefringeGreenAmount: 0
- DefringeGreenHueHi: 60
- DefringeGreenHueLo: 40
- DefringePurpleAmount: 0
- DefringePurpleHueHi: 70
- DefringePurpleHueLo: 30
- Dehaze: 0
- Exposure2012: -0.65
- GrainAmount: 0
- GreenHue: 0
- GreenSaturation: 0
- HasCrop: False
- HasSettings: True
- HDREditMode: 0
- Highlights2012: 0
- HueAdjustmentAqua: 0
- HueAdjustmentBlue: 0
- HueAdjustmentGreen: 0
- HueAdjustmentMagenta: 0
- HueAdjustmentOrange: 0
- HueAdjustmentPurple: 0
- HueAdjustmentRed: 0
- HueAdjustmentYellow: 0
- LensManualDistortionAmount: 0
- LensProfileEnable: 0
- LookAmount: 1
- LookGroup: Profiles
- LookParametersConvertToGrayscale: False
- LookParametersLookTable: E1095149FDB39D7A057BAB208837E2E1
- LookParametersProcessVersion: 15.4
- LookParametersToneCurvePV2012: 0, 0, 22, 16, 40, 35, 127, 127, 224, 230, 240, 246, 255, 255
- LookParametersToneCurvePV2012Blue: 0, 0, 255, 255
- LookParametersToneCurvePV2012Green: 0, 0, 255, 255
- LookParametersToneCurvePV2012Red: 0, 0, 255, 255
- LookParametersVersion: 17.2
- LookSupportsAmount: false
- LookSupportsMonochrome: false
- LookSupportsOutputReferred: false
- LuminanceAdjustmentAqua: 0
- LuminanceAdjustmentBlue: 0
- LuminanceAdjustmentGreen: 0
- LuminanceAdjustmentMagenta: 0
- LuminanceAdjustmentOrange: 0
- LuminanceAdjustmentPurple: 0
- LuminanceAdjustmentRed: 0
- LuminanceAdjustmentYellow: 0
- LuminanceSmoothing: 0
- OverrideLookVignette: False
- ParametricDarks: 0
- ParametricHighlights: 0
- ParametricHighlightSplit: 75
- ParametricLights: 0
- ParametricMidtoneSplit: 50
- ParametricShadows: 0
- ParametricShadowSplit: 25
- PerspectiveAspect: 0
- PerspectiveHorizontal: 0
- PerspectiveRotate: 0.0
- PerspectiveScale: 100
- PerspectiveUpright: 0
- PerspectiveVertical: 0
- PerspectiveX: 0.00
- PerspectiveY: 0.00
- PointColors: -1.000000, -1.000000, -1.000000, -1.000000, -1.000000, -1.000000, -1.000000, -1.000000, -1.000000, -1.000000, -1.000000, -1.000000, -1.000000, -1.000000, -1.000000, -1.000000, -1.000000, -1.000000, -1.000000
- PostCropVignetteAmount: 0
- ProcessVersion: 15.4
- RedHue: 0
- RedSaturation: 0
- Saturation: +28
- SaturationAdjustmentAqua: 0
- SaturationAdjustmentBlue: 0
- SaturationAdjustmentGreen: 0
- SaturationAdjustmentMagenta: 0
- SaturationAdjustmentOrange: 0
- SaturationAdjustmentPurple: 0
- SaturationAdjustmentRed: 0
- SaturationAdjustmentYellow: 0
- Shadows2012: 0
- ShadowTint: 0
- SharpenDetail: 25
- SharpenEdgeMasking: 0
- SharpenRadius: +1.0
- Sharpness: 40
- SplitToningBalance: 0
- SplitToningHighlightHue: 0
- SplitToningHighlightSaturation: 0
- SplitToningShadowHue: 0
- SplitToningShadowSaturation: 0
- Texture: 0
- Tint: +7
- ToneCurveName2012: Linear
- ToneCurvePV2012: 0, 0, 255, 255
- ToneCurvePV2012Blue: 0, 0, 255, 255
- ToneCurvePV2012Green: 0, 0, 255, 255
- ToneCurvePV2012Red: 0, 0, 255, 255
- Version: 17.2
- Vibrance: 0
- VignetteAmount: 0
- WhiteBalance: As Shot
- Whites2012: 0
- XMP-dc
- XMP-drone-dji
- AbsoluteAltitude: +219.549
- AltitudeType: GpsFusionAlt
- CamReverse: 0
- FlightPitchDegree: +0.00
- FlightRollDegree: +0.90
- FlightXSpeed: 0.0
- FlightYawDegree: +54.80
- FlightYSpeed: 0.0
- FlightZSpeed: 0.0
- GimbalPitchDegree: -20.80
- GimbalReverse: 0
- GimbalRollDegree: +0.00
- GimbalYawDegree: +81.70
- GpsLatitude: +55.617950902
- GpsLongitude: +38.164996081
- GpsStatus: Normal
- ProductName: DJIMavic3Cine
- RelativeAltitude: +5.600
- SelfData:
- SensorTemperature: 28.0
- Version: 1.2
- XMP-xmp
- CreatorTool: 10.01.01.29
- ModifyDate: 2025:04:05 11:50:52+03:00
- XMP-xmpMM
- Просмотров: 68
- Рейтинг: голосов еще нет
- Отзывов: 0
Получить код для блога
| Вставка фотографии в текущем разрешении |
Вставка миниатюры |
HTML (для вставки в блог):
BBCode (для вставки в форум):
Ссылка на фото:
Ссылка на миниатюру:
- Послать ссылку другу
| Комментарии к фотографии |